BEGIN:VCALENDAR
VERSION:2.0
PRODID:-//Barcelona Queer Squad - ECPv6.14.2//NONSGML v1.0//EN
CALSCALE:GREGORIAN
METHOD:PUBLISH
X-ORIGINAL-URL:https://bcnqueersquad.com
X-WR-CALDESC:Eventos para Barcelona Queer Squad
REFRESH-INTERVAL;VALUE=DURATION:PT1H
X-Robots-Tag:noindex
X-PUBLISHED-TTL:PT1H
BEGIN:VTIMEZONE
TZID:Europe/Madrid
BEGIN:DAYLIGHT
TZOFFSETFROM:+0100
TZOFFSETTO:+0200
TZNAME:CEST
DTSTART:20260329T010000
END:DAYLIGHT
BEGIN:STANDARD
TZOFFSETFROM:+0200
TZOFFSETTO:+0100
TZNAME:CET
DTSTART:20261025T010000
END:STANDARD
END:VTIMEZONE
BEGIN:VEVENT
DTSTART;TZID=Europe/Madrid:20260315T140000
DTEND;TZID=Europe/Madrid:20260315T190000
DTSTAMP:20260421T171643
CREATED:20251208T130249Z
LAST-MODIFIED:20251208T130249Z
UID:895-1773583200-1773601200@bcnqueersquad.com
SUMMARY:Paseo 🥾 Dominguero 😎 Queer 🌈 Sunday 🤠 Walk 🚶‍♀️🚶‍♂️
DESCRIPTION:🇪🇸 (🇬🇧 version below ⬇) \n¡Hola aventurer@s! 🌈🧭 \n¿Te apetece pasar un domingo con nuev@s amig@s 🤗\, disfrutando de naturaleza 🌿\, cultura 🏰 y vistas que te dejan sin aliento? ✨ \nEl domingo 15 de marzo vente a descubrir rincones mágicos de Barcelona en nuestro Paseo 🥾 Dominguero 😎 Queer 🌈 \nPuedes unirte o marcharte cuando quieras 🗽 \nCompartiremos nuestra posición en tiempo real 📍\, así como las fotos 📷 y videos 📹 que haremos junt@s\, a través de este grupo de Whatsapp: \nhttps://chat.whatsapp.com/Bhu6EaB35y4L56sXzliSwL?mode=hqrt1 \n📏 Duración aproximada: 2\,5 – 3 horas\n🧗 Dificultad: baja–media (ruta sencilla con algunos tramos en subida) \n📍 Nos encontraremos a las 14:00 frente a la entrada del jardín del Palau Reial de Pedralbes (https://maps.app.goo.gl/kj38HqPnu7Nftcz26) donde os estaremos esperando con nuestro paraguas arcoíris abierto 🌈☂ \nA las 14:30 comenzaremos nuestra ruta. En la primera parte veremos tres obras de Gaudí 😮 y el precioso Monasterio de Pedralbes ⛪\, cuyo claustro podremos visitar gratis 🆓 \nDespués subiremos hacia la mítica Carretera de les Aigües\, uno de los espacios verdes más famosos de la ciudad 🌳🍃desde donde se ve Barcelona como un paisaje de postal 📸😍 \nEn la parte final de nuestro recorrido pasaremos por la Torre Bellesguard\, una obra menos conocida pero impresionante de Gaudí 🌀\, y visitaremos los preciosos Jardines de la Tamarita 🌳🌲 antes de ir a tomarnos algo junt@s ☕🍻 para charlar sobre la experiencia 🗣 \nQUE TRAER\nCalzado adecuado 🥾 (antideslizante mejor)\, Ropa cómoda 🚶🏻🚶🏽‍♀\, Sombrero/Gorra 👒🧢\, Gafas de sol 🕶\, Agua 🫗\, Comida 🥨 🍎 y muchas ganas de disfrutar ✨ \nMUY IMPORTANTE 🤑 \nPuedes pagar la cuota de participación de 6 euros al llegar en efectivo 💶 (NO Bizum NO tarjeta de crédito 💳) \nTrae a un amig@ gratis 🆓️: válido para un nuev@ miembr@ 😉 \n💥NUESTRAS TARJETAS DE FIDELIDAD💥 \n🎟️ ¡4 eventos por el precio de 3! Paga 18 € y cada evento te sale a solo 4\,50 €; úsala cuando quieras durante 2 meses. \n🎟️ Tarjeta Anual BQS: ¡10 eventos + 1 GRATIS! Solo 54 € por un año completo de experiencias junt@s 🤗 \n✅ Ahorra dinero\n✅ Olvídate de tener que traer efectivo\n✅ Consigue gadgets BQS gratis 👕🧢 y más descuentos al asistir a más de 10 eventos🤩 \nSi necesitas más información\, puedes escribirme por WhatsApp en el +34631546465 (Ale 🧔🏽‍♂️) \nPuedes echar un vistazo a nuestros eventos a través de Instagram🤳🏼: \nhttps://www.instagram.com/bcnqueersquad/ \n¡No te pierdas esta oportunidad para explorar Barcelona 👀 y conectar 🫂! \n🇬🇧 \nHello adventurers! 🌈🧭 \nWould you like to spend a Sunday with new friends 🤗\, enjoying nature 🌿\, culture 🏰\, and breathtaking views? ✨ \nOn Sunday\, March 15th\, come discover magical corners of Barcelona in our Sunday 😎 Queer 🌈 Walk 🥾 \nYou can join or leave whenever you want 🗽 \nWe’ll share our real-time location 📍\, as well as the photos 📷 and videos 📹 we take together throughout the day\, via this WhatsApp group:\nhttps://chat.whatsapp.com/Bhu6EaB35y4L56sXzliSwL?mode=hqrt1 \n📏 Approximate duration: 2.5–3 hours\n🧗 Difficulty: low–medium (easy route with a few uphill sections) \n📍 We will meet at 14:00 in front of the entrance to the Pedralbes Royal Palace Garden (https://maps.app.goo.gl/kj38HqPnu7Nftcz26)\, where we’ll be waiting for you with our rainbow umbrella open 🌈☂ \nAt 14:30 we will begin our route. In the first part we’ll see three works by Gaudí 😮 and the beautiful Pedralbes Monastery ⛪\, whose cloister we will be able to visit for free 🆓 \nAfter that\, we’ll head up toward the iconic Carretera de les Aigües\, one of the city’s best-known green spaces 🌳🍃\, from where you can see Barcelona like a postcard landscape 📸😍 \nIn the final part of our walk\, we’ll pass by the Bellesguard Tower\, a lesser-known but stunning work by Gaudí 🌀\, and we’ll visit the beautiful Tamarita Gardens 🌳🌲 before going for a drink together ☕🍻 to chat about the experience 🗣 \nWHAT TO BRING\nProper footwear 🥾 (anti-slip recommended)\, comfortable clothing 🚶🏻🚶🏽‍♀\, hat/cap 👒🧢\, sunglasses 🕶\, water 🫗\, food 🥨🍎\, and lots of enthusiasm ✨ \nVERY IMPORTANT 🤑\nYou can pay the participation fee of 6 euros upon arrival in cash 💶 (NO Bizum / NO credit card 💳) \nBring a friend for free 🆓 — valid for a new member 😉 \n💥 OUR LOYALTY CARDS 💥 \n🎟️ 4 events for the price of 3!\nPay €18 and each event ends up costing just €4.50; use it anytime within 2 months.\n🎟️ BQS Annual Card: 10 events + 1 FREE!\nOnly €54 for a full year of shared experiences 🤗 \n✅ Save money\n✅ Forget about carrying cash\n✅ Get free BQS goodies 👕🧢 and more discounts when you attend more than 10 events 🤩 \nIf you need more information\, you can message me on WhatsApp at +34 631 546 465 (Ale 🧔🏽‍♂️) \nYou can check out our events on Instagram 🤳🏼:\nhttps://www.instagram.com/bcnqueersquad/ \nDon’t miss this chance to explore Barcelona 👀 and connect 🫂!
URL:https://bcnqueersquad.com/evento/paseo-dominguero-queer-2026/
CATEGORIES:Special
ATTACH;FMTTYPE=image/jpeg:https://bcnqueersquad.com/wp-content/uploads/2025/12/paseo-dominguero.jpg
END:VEVENT
END:VCALENDAR