BEGIN:VCALENDAR
VERSION:2.0
PRODID:-//Barcelona Queer Squad - ECPv6.14.2//NONSGML v1.0//EN
CALSCALE:GREGORIAN
METHOD:PUBLISH
X-WR-CALNAME:Barcelona Queer Squad
X-ORIGINAL-URL:https://bcnqueersquad.com
X-WR-CALDESC:Eventos para Barcelona Queer Squad
REFRESH-INTERVAL;VALUE=DURATION:PT1H
X-Robots-Tag:noindex
X-PUBLISHED-TTL:PT1H
BEGIN:VTIMEZONE
TZID:Europe/Madrid
BEGIN:DAYLIGHT
TZOFFSETFROM:+0100
TZOFFSETTO:+0200
TZNAME:CEST
DTSTART:20260329T010000
END:DAYLIGHT
BEGIN:STANDARD
TZOFFSETFROM:+0200
TZOFFSETTO:+0100
TZNAME:CET
DTSTART:20261025T010000
END:STANDARD
END:VTIMEZONE
BEGIN:VEVENT
DTSTART;TZID=Europe/Madrid:20260321T093000
DTEND;TZID=Europe/Madrid:20260321T200000
DTSTAMP:20260421T171511
CREATED:20251208T130821Z
LAST-MODIFIED:20260317T162940Z
UID:899-1774085400-1774123200@bcnqueersquad.com
SUMMARY:Ruta 🥾 de los 7 Gorgs 🏞 Hiking trip ⛰️ to the 7 waterfalls 🌊 route 🥾
DESCRIPTION:🇪🇸 (🇬🇧 version below ⬇) \n¡Hola! 🤗 \n¿Te gustaría compartir con nuev@s amig@s 🫂 una de las rutas de senderismo 🥾 con más encanto de Catalunya? 😍 \nEl sábado 21 de marzo nos sumergiremos en la naturaleza 🌿 paseando por la Ruta 🥾 de los 7 Gorgs 🏞 🎊🎉 \nLa Ruta de los 7 Gorgs es una escapada perfecta para l@s amantes del senderismo 🥾\, la naturaleza 🌿 y la fotografía 📷. Nos permitirá desconectar gracias a su ensueño paisaje✨\, a través de su recorrido circular de aproximadamente 10 km (aprox. 3-4 horas ⏳)\, adapto a cualquier persona 👶🏻👧🏼🧔🏽‍♀️👨🏼‍🦱👵🏿👴🏼 \nNos mantendremos en contacto y compartiremos la posición en tiempo real 📍\, así como las fotos 📷 y videos 📹 que haremos a lo largo del día\, a través de este grupo de Whatsapp: \nhttps://chat.whatsapp.com/Ik6rndAqKYfLvGU2jaFBZF \n📍 Nos encontraremos a las 9:30 en la parada Fabra i Puig 🚉 ( https://maps.app.goo.gl/7vo27uipgkxnmPFB7 ) donde os esperaremos con nuestro paraguas arcoíris abierto 🌈☂ Iremos haciendo la cola junt@s\, así empezamos a conocernos 🤗 \nBUENAS NOTICIAS 😃 \n🎟 El viaje ida y vuelta será GRATIS 🆓️ ya que es un servicio sustitutivo🥳 \nCogeremos el bus para Campdevànol de las 10:00 🚌 \nUna vez lleguemos\, nos tomaremos un cafecito antes de emprender el sendero que nos llevará a descubrir las siete impresionantes pozas 🏞️\, cada una con su propio encanto\, rodeadas de frondosos bosques de pinos y hayas 🌲🍂 y aguas cristalinas 🌊 de azul turquesa 💙 \nSobre las 14:00-14:30\, llegaremos a la última cascada\, el Gorg el Colomer \nEl horario de la comida dependerá del grupo 🧺🥪🥙 \nCada participante trae su propia comida 🍱🥗 \n🔚 Cogeremos el bus de vuelta desde Campdevànol a las 17:44 y estaremos en Barcelona alrededor de las 19:45 \nQUE TRAER \nCalzado adecuado 🥾 (es mejor que sea antideslizante)\, Ropa cómoda 🚶🏻🚶🏽‍♀\, Gorro 👒🧢\, Gafas de sol 🕶\, Agua 🫗 y Comida 🧺🥨 🍎 \nMUY IMPORTANTE 🤑 \nPodrás pagar la cuota de participación de 10 euros para los costes de organización el mismo día en efectivo 🪙💶 (NO Bizum / NO tarjeta de crédito) \n⚠ El seguro NO está incluido: cada participante decide si quiere contratarlo. El organizador no asume ninguna responsabilidad por cualquier daño o perjuicio que la práctica de la actividad pueda causar a sí mismo y/o a terceros\, aunque el organizador velará para evitarlos \n¡Ven y disfruta de esta increíble excursión con nosotr@s! 🥳😍 \n🇬🇧 \nHi there! 🤗 \nWould you like to share with new friends 🫂 one of the most charming hiking routes 🥾 in Catalonia? 😍 \nOn Saturday\, March 21st we will immerse ourselves in nature 🌿 walking along the Route 🥾 of the 7 Gorgs 🏞 🎊🎉 \nThe Route of the 7 Gorgs is a perfect getaway for hiking 🥾\, nature 🌿 and photography 📷 lovers. It will allow us to disconnect thanks to its dreamlike landscape✨\, through its circular route of approximately 10 km (approx. 3-4 hours ⏳)\, suitable for everyone 👶🏻👧🏼🧔🏽‍♀️👨🏼‍🦱👵🏿👴🏼 \nWe will keep in touch and share the position in real time 📍\, as well as the photos 📷 and videos 📹 that we will take throughout the day\, through this Whatsapp group: \nhttps://chat.whatsapp.com/Ik6rndAqKYfLvGU2jaFBZF \n📍 We’ll meet at 9:30 at the Fabra i Puig bus stop 🚉 (https://maps.app.goo.gl/7vo27uipgkxnmPFB7) where we’ll be waiting with our rainbow umbrellas open 🌈☂ We’ll queue together\, so we can get to know each other 🤗 \nGOOD NEWS 😃 \n🎟 The round trip is FREE 🆓️ as it’s a replacement service 🥳 \nWe’ll take the 10:00 bus to Campdevànol 🚌 \nOnce we arrive\, we’ll have a coffee and a stroll through the beautiful center of Ripoll 😍 before setting off on the trail that will lead us to discover the seven stunning waterfalls 🏞️\, each with its own unique charm\, surrounded by lush pine and beech forests 🌲🍂 and crystal-clear turquoise waters 🌊 💙 \nAround 2:00-2:30 PM\, we’ll reach the last waterfall\, Gorg el Colomer. \nLunch time will depend on the group 🧺🥪🥙 \nEach participant brings their own food 🍱🥗 \n🔚 We will take the bus back home from Campdevànol at 17:44 and we will be in Barcelona before 20:00. \nWHAT TO BRING \nAppropriate footwear 🥾 (preferably non-slip)\, Comfortable clothing 🚶🏻🚶🏽‍♀\, Hat 👒🧢\, Sunglasses 🕶\, Water 🫗 and Food 🧺🥨 🍎 \nVERY IMPORTANT 🤑 \nYou can pay the participation fee of 10 euros for the organization costs on the same day in cash 🪙💶 (NO Bizum / NO credit card) \n⚠ Insurance is NOT included: each participant decides whether to get one. The organizer assumes no responsibility for any damage or harm that the practice of the activity may cause to themselves and/or third parties\, although the organizer will do all he can to ensure that they do not suffer any \nCome and enjoy this incredible excursion with us! 🥳😍
URL:https://bcnqueersquad.com/evento/ruta-de-los-7-gorgs-marzo-2026/
LOCATION:estación de buses Fabra i Puig\, Avinguda Meridiana\, 390\, Barcelona\, 08030\, Spain
CATEGORIES:Special
ATTACH;FMTTYPE=image/jpeg:https://bcnqueersquad.com/wp-content/uploads/2025/12/ruta-7-gorgs-scaled.jpg
END:VEVENT
END:VCALENDAR