BEGIN:VCALENDAR
VERSION:2.0
PRODID:-//Barcelona Queer Squad - ECPv6.14.2//NONSGML v1.0//EN
CALSCALE:GREGORIAN
METHOD:PUBLISH
X-WR-CALNAME:Barcelona Queer Squad
X-ORIGINAL-URL:https://bcnqueersquad.com
X-WR-CALDESC:Eventos para Barcelona Queer Squad
REFRESH-INTERVAL;VALUE=DURATION:PT1H
X-Robots-Tag:noindex
X-PUBLISHED-TTL:PT1H
BEGIN:VTIMEZONE
TZID:Europe/Madrid
BEGIN:DAYLIGHT
TZOFFSETFROM:+0100
TZOFFSETTO:+0200
TZNAME:CEST
DTSTART:20240331T010000
END:DAYLIGHT
BEGIN:STANDARD
TZOFFSETFROM:+0200
TZOFFSETTO:+0100
TZNAME:CET
DTSTART:20241027T010000
END:STANDARD
BEGIN:DAYLIGHT
TZOFFSETFROM:+0100
TZOFFSETTO:+0200
TZNAME:CEST
DTSTART:20250330T010000
END:DAYLIGHT
BEGIN:STANDARD
TZOFFSETFROM:+0200
TZOFFSETTO:+0100
TZNAME:CET
DTSTART:20251026T010000
END:STANDARD
END:VTIMEZONE
BEGIN:VEVENT
DTSTART;TZID=Europe/Madrid:20241231T190000
DTEND;TZID=Europe/Madrid:20250101T050000
DTSTAMP:20260423T005911
CREATED:20241220T100740Z
LAST-MODIFIED:20241220T100740Z
UID:193-1735671600-1735707600@bcnqueersquad.com
SUMMARY:🎆 NOCHEVIEJA 🍾 NYE 🎇 HOUSE 🏠 PARTY 🕺🎶 FIESTA 💃🎵 + Buffet 😋🍽
DESCRIPTION:🇪🇸 (🇬🇧 version below ⬇️) \n¡Hola a tod@s! 😃 \n¿Hay mejor manera de pasar la Nochevieja que un fiestón en casa 🎶 con comida deliciosa 🤤\, nuevos amigos 🫂 y juegos antes de ver los fuegos artificiales 🎇 e ir a bailar 🪩? \n¡El martes 31 de diciembre diremos adiós al 2024 en una increíble Fiesta de Nochevieja 🍾 en Casa 🏡 con buffet 🍽 y juegos 🤹🏼‍♀ + Fuegos artificiales 🎆 + Juerga 💃🏼! 🎶👯🎊 \nComenzaremos nuestra celebración a las 19:00 con mucha comida excelente 🍽️\, música 🎵 \, bebidas 🥂 y una compañía increíble.\nAlrededor de las 23:30 horas caminaremos hacia la parte detrás de Plaça de Espanya caminando 🚶🏼 (15-20 minutos): cada uno tomará una copa con 12 uvas 🍇 y yo llevaré cava 🍾 para nuestro brindis de medianoche 🥂. Puedes quedarte en casa \nFinalmente\, volveremos a juntarnos en casa para bailar 💃🕺🏽 \nComo siempre\, puedes unirte al evento y marcharte cuando quieras 🗽 \n📍 El apartamento está ubicado entre las estaciones de metro Poble sec y Paralel \nSi nos apetece\, podemos jugar a juegos como Adevina la Canción 🎼\, Buzz\, el Jenga de BCN Queer Squad\, Cards Against Humanity 🃏 (inglés)\, Taboo 💬 (inglés y castellano)\, Gestos\, Twister y más \nComeremos un Buffet Especial de Nochevieja 🤤 cocinado 👨🏽‍🍳 con mucho cariño 🫶🏼 que incluirá: \n• Patatas fritas y aceitunas\n• Cóctel de gambas\n• Canapés de salmón ahumado\n• Hojaldre con Queso Fundido + Calabacines\n• Croissants de Salmón y Calabacín\n• Hummus con palitos de zanahoria y apio + picatostes\n• Pastel de Carne Vegano\n• Berenjena rellena al horno\n• Lasaña Tradicional y Vegetariana\n• Gratinado De Patatas y Queso\n• Sopa de Lentejas de Nochevieja (una tradición italiana 🤌🏼 con la esperanza de ganar más dinero 💰 en el nuevo año)\n• Pandoro con Crema de Mascarpone\n• Torta Sacher\n• Vaso con 12 uvas\n• Cóctel de la Buena Suerte 🍹: Mimosa con Granada (Símbolo de abundancia\, fertilidad y suerte)\n• Vino 🍷 tinto/rosado/blanco\, cava 🥂\, cerveza 🍺\, Coca-Cola\, Sprite y agua \n¡MUY IMPORTANTE! 🤑 \nPara poder asegurar una plaza en este evento será necesario el pago anticipado de 40 euros (comida\, bebidas y limpieza incluidos). Si quieres sumarte desde los fuegos artificiales detras de la Plaza de Espanya\, la cuota de participación será de 7 euros (copa de 12 uvas y cava incluidos). Para el pago\, ponte en contacto conmigo por WhatsApp al +34631546465. Luego te enviaré la dirección exacta del apartamento 📍 \n¿A qué esperas para apuntarte? 😉 \n🇬🇧 \nHi everyone! 😃 \nIs there a better way to spend New Year’s Eve than a house party 🎶 with delicious food 🤤\, new friends 🫂 & games before watching fireworks 🎇 and go dancing 🪩? \nOn Tuesday\, December 31st we’ll say goodbye to 2024 with an amazing NYE House 🏡 Party 2025 with Buffet 🍽 & Games 🤹🏼‍♀ + Fireworks 🎇 💃🏼! 🎶👯🎊 \nWe’ll start our celebration at 7 p.m. with lots of great food 🍽️\, music 🎵 \, drinks 🥂 & amazing company.\nAround 11:30 p.m. we’ll head walking to the back of Plaça de Espanya 🚶🏼 (15-20 minutes): each of us will have a glass with 12 grapes 🍇 and I’ll bring cava 🍾 with me for our midnight toast 🥂. You can also decide to stay at home. \nFinally\, we can go back home to dance together 💃🕺🏽 \nAs per usual\, you can join the event and leave any time you want 🗽 \n📍 The apartment is located between Poble sec and Paralel metro stations \nIf we are keen\, we can also play games like NYE Bingo\, BCN Queer Squad’s Twisted Jenga\, Exploding Kittens\, Cards Against Humanity 🃏 (English)\, Taboo 💬 (English and Spanish)\, Twister & more 🤹‍♀️ \nWe’ll eat a Special NYE Buffet 🤤 home-made 👨🏽‍🍳 with love 🫶🏼 that will include: \n• Potato Chips & Olives\n• Prawns Cocktail\n• Smoked Salmon canapés\n• Puff Pastry parcels with Melted Cheese & Courgettes\n• Salmon & Zucchini Croissants\n• Hummus with Carrot & Celery sticks + Croutons\n• Stuffed Eggplant\n• Traditional & Vegetarian Lasagna\n• Potato & Cheese Gratin\n• Vegan Shepherd’s Pie\n• NYE Lentil Soup (an Italian tradition in the hope of more money in the new year)\n• Pandoro with Mascarpone Cream\n• Sacher Torte\n• Glass with 12 Raisins (Each grape represents a wish for each of the months of the next year in Spain 🇪🇸)\n• Good Luck Cocktail 🍹: Mimosa with Pomegranate (Symbol of abundance\, fertility & luck)\n• Red/Rosé/White & Sparkling Wine 🍷\, Beer 🍺\, Coca-Cola\, Sprite & Water \nVERY IMPORTANT! 🤑 \nIn order to secure a place in this event\, the advance payment of 40 euros will be required (food\, drinks\, and cleaning included). If you want to join from the fireworks in Plaza de Espanya\, the participation fee will be 7 euros (glass of grapes and cava included). For the payment\, get in contact with me via WhatsApp at +34631546465 (Ale). I’ll then send you the exact address of the apartment 📍 \nWhat are you waiting for to sign up? 😉
URL:https://bcnqueersquad.com/evento/%f0%9f%8e%86-nochevieja-%f0%9f%8d%be-nye-%f0%9f%8e%87-house-%f0%9f%8f%a0-party-%f0%9f%95%ba%f0%9f%8e%b6-fiesta-%f0%9f%92%83%f0%9f%8e%b5-buffet-%f0%9f%98%8b%f0%9f%8d%bd/
LOCATION:Cataluña
CATEGORIES:Parties ❤️
ATTACH;FMTTYPE=image/png:https://bcnqueersquad.com/wp-content/uploads/2024/12/600_525137791.png
END:VEVENT
END:VCALENDAR