BEGIN:VCALENDAR
VERSION:2.0
PRODID:-//Barcelona Queer Squad - ECPv6.14.2//NONSGML v1.0//EN
CALSCALE:GREGORIAN
METHOD:PUBLISH
X-ORIGINAL-URL:https://bcnqueersquad.com
X-WR-CALDESC:Eventos para Barcelona Queer Squad
REFRESH-INTERVAL;VALUE=DURATION:PT1H
X-Robots-Tag:noindex
X-PUBLISHED-TTL:PT1H
BEGIN:VTIMEZONE
TZID:Europe/Madrid
BEGIN:DAYLIGHT
TZOFFSETFROM:+0100
TZOFFSETTO:+0200
TZNAME:CEST
DTSTART:20250330T010000
END:DAYLIGHT
BEGIN:STANDARD
TZOFFSETFROM:+0200
TZOFFSETTO:+0100
TZNAME:CET
DTSTART:20251026T010000
END:STANDARD
END:VTIMEZONE
BEGIN:VEVENT
DTSTART;TZID=Europe/Madrid:20250913T183000
DTEND;TZID=Europe/Madrid:20250914T030000
DTSTAMP:20260422T104743
CREATED:20250804T161211Z
LAST-MODIFIED:20250911T161114Z
UID:487-1757788200-1757818800@bcnqueersquad.com
SUMMARY:🎊 Fiesta Mayor de Gracia 🎆🕺🏽🪭 🎉 Gracia's Neighborhood Festival 🪅💃🏽🪇
DESCRIPTION:  \n🇪🇸 (🇬🇧 version below ⬇) \n¡Hola a tod@s! 🤗 \n¿Quieres descubrir las decoraciones 🎉 de la fiesta mayor más linda de Barcelona mientras vas conociendo a l@s maravillos@s miembr@s de nuestro escuadrón? 😍 \nEl sábado 16 de agosto exploraremos junt@s la 🎆 Fiesta Mayor de Gracia 🎇 \n🔰 Nos encontraremos a las 18:30 en frente de la estación de metro Fontana 🚇 donde os esperaré con nuestro paraguas arcoíris abierto ☂🌈. Empezaremos a caminar a las 19:00 🚶🏽‍♀️🚶🏻‍♂️ \nPodrás recibir nuestra posición en tiempo real 📍 durante el evento además de las fotos 📸 y videos 📹 que hagamos junt@s a través de este Grupo de WhatsApp: \nhttps://chat.whatsapp.com/BQWo3aYM4TiKmIyD68jDto \nDurante las primeras 2-3 horas haremos un recorrido por las calles ornamentadas🪅 del barrio y sobre las 21:30-22:00 iremos al restaurante Piras Brasería (C. del Montseny\, 10) donde podremos disfrutar de buena comida🍝🥘🥗🍢 mientras charlamos 🗣 y nos conocemos mejor 🫂 \nDespués de la cena seguiremos con nuestro recorrido por las calles adornadas 🎊 parándonos a bailar 💃🏽🕺🏽 en los conciertos 👨🏼‍🎤 que más nos llamen la atención\, hasta que nuestros pies 👣 clamen venganza 🎧🔊👯‍♀️🥳 \nPuedes agregarte/abandonar el evento cuando te apetezca🗽 \nMUY IMPORTANTE 🤑 \nPuedes pagar la cuota de participación de 6 euros al llegar en efectivo 💶 (NO Bizum NO tarjeta de crédito 💳) \nTrae un amig@ gratis 🆓️: válido para un nuev@ miembr@ 😉 \n💥¡LAS TARJETAS DE FIDELIDAD YA ESTÁN AQUÍ!💥 \n🎟️ ¡4 eventos por el precio de 3! Paga 18 € y cada evento te sale a solo 4\,50 €; úsala cuando quieras durante 2 meses. \n🎟️ Tarjeta Anual BQS: ¡10 eventos + 1 GRATIS! Solo 54 € por un año completo de experiencias junt@s 🤗 \n✅ Ahorra dinero\n✅ Olvídate de tener que traer efectivo\n✅ Consigue merchandising BQS gratis 👕🧢 y más descuentos al asistir a más de 10 eventos🤩 \nSi necesitas más información\, puedes escribirme por WhatsApp en el +34631546465 (Ale 🧔🏽‍♂️) \nPuedes echar un vistazo a nuestros eventos y seguirnos en Instagram🤳🏼 \nhttps://www.instagram.com/bcnqueersquad/ \n¡Vente a pasarlo pipa con nosotr@s! 🥳🪭 \n🇬🇧 \nHi everyone! 🤗 \nWould you like to discover the decorations 🎉 of Barcelona’s most beautiful festival while enjoying the company of the wonderful members of our squad? 😍 \nOn Saturday\, August 16th we’ll explore together the amazing 🎆 Festa Major de Gràcia 🎇 \n🔰 We’ll meet at 6:30 PM in front of the Fontana metro station 🚇 where I’ll be waiting for you with our rainbow umbrella open ☂🌈. We’ll start walking at 7:00 PM 🚶🏽‍♀️🚶🏻‍♂️ \nYou’ll be able to receive our real-time location 📍 during the event\, as well as the photos 📸 and videos 📹 we take together through this WhatsApp Group: \nhttps://chat.whatsapp.com/BQWo3aYM4TiKmIyD68jDto \nDuring the first 2-3 hours\, we’ll tour the neighborhood’s ornate streets 🪅 and around 9:30-10:00 PM\, we’ll head to the Piras Brasería restaurant (C. del Montseny\, 10) where we’ll enjoy good food 🍝🥘🥗🍢 while we chat 🗣 and get to know each other better 🫂 \nAfter dinner We’ll continue our tour through the decorated streets 🎊\, stopping to dance 💃🏽🕺🏽 at the concerts 👨🏼‍🎤 that most catch our attention\, until our feet 👣 cry out for revenge 🎧🔊👯‍♀️🥳 \nYou can join/leave the event whenever you want🗽 \nVERY IMPORTANT 🤑 \nYou can pay the 6 euro participation fee upon arrival in cash 💶 (NO Bizum / NO Credit Card 💳) \nBring a friend for free 🆓️: valid for one new member 😉 \n💥LOYALTY CARDS ARE HERE!💥 \n🎟️ 4 events for the price of 3! Pay €18 and each event is only €4.50; use it whenever you want for 2 months. \n🎟️ BQS Annual Card: 10 events + 1 FREE! Only €54 for a full year of experiences together 🤗 \n✅ Save money\n✅ Forget about bringing cash\n✅ Get free BQS merchandise 👕🧢 and more discounts when you attend more than 10 events 🤩 \nIf you need more information\, you can write to me on WhatsApp at +34631546465 (Ale 🧔🏽‍♂️) \nFeel free to check out our events and follow us on Instagram 🤳🏼 \nhttps://www.instagram.com/bcnqueersquad/ \nCome have a great time with us! 🥳🪭
URL:https://bcnqueersquad.com/evento/fiesta-mayor-de-gracia-2025/
LOCATION:Estación de metro Fontana\, Carrer de Santa Magdalena\, 11\, Gràcia\, 08012 Barcelona\, Barcelona\, Cataluña\, 08012\, Spain
CATEGORIES:Parties ❤️
ATTACH;FMTTYPE=image/jpeg:https://bcnqueersquad.com/wp-content/uploads/2025/08/Cartell-Festa-Major-de-Gracia-2025-Noticia-760x428-1.jpg
END:VEVENT
END:VCALENDAR