BEGIN:VCALENDAR
VERSION:2.0
PRODID:-//Barcelona Queer Squad - ECPv6.14.2//NONSGML v1.0//EN
CALSCALE:GREGORIAN
METHOD:PUBLISH
X-ORIGINAL-URL:https://bcnqueersquad.com
X-WR-CALDESC:Eventos para Barcelona Queer Squad
REFRESH-INTERVAL;VALUE=DURATION:PT1H
X-Robots-Tag:noindex
X-PUBLISHED-TTL:PT1H
BEGIN:VTIMEZONE
TZID:Europe/Madrid
BEGIN:DAYLIGHT
TZOFFSETFROM:+0100
TZOFFSETTO:+0200
TZNAME:CEST
DTSTART:20240331T010000
END:DAYLIGHT
BEGIN:STANDARD
TZOFFSETFROM:+0200
TZOFFSETTO:+0100
TZNAME:CET
DTSTART:20241027T010000
END:STANDARD
END:VTIMEZONE
BEGIN:VEVENT
DTSTART;TZID=Europe/Madrid:20241220T200000
DTEND;TZID=Europe/Madrid:20241221T030000
DTSTAMP:20260423T022030
CREATED:20241220T100109Z
LAST-MODIFIED:20241220T102914Z
UID:185-1734724800-1734750000@bcnqueersquad.com
SUMMARY:🏳‍🌈 BCN Queer Squad's Christmas 🎅 Party🕺 🌲 Nuestra Fiesta 💃 de Navidad 🤶
DESCRIPTION:🇪🇸 (🇬🇧 version below ⬇) \n¡Hola a tod@s! 🤗 \n¿Quieres compartir una tarde de diversión 🃏🎲🎤🤣 con l@s miembr@s de nuestra comunidad 🧑🏽👩🏼‍🦰👱🏼‍♀️🧔🏻🧚🏾‍♀️🦄 antes de ir al pueblo 🧳 para las navidades 🎅? ¿Quieres festejar la Navidad 🎄 en un entorno LGBT+ 🌈 internacional 🌐? \nEl viernes 20 de diciembre celebraremos la segunda Fiesta 🍾 de Navidad 🤶🎅🏿 de BCN Queer Squad 🏳‍🌈🎉🎊 \nPuedes unirte o abandonar el evento cuando quieras 🗽 \n📍 Nos reuniremos a partir de las 20:00 horas en La Taska Show Bar (Carrer de Casanova\, 210)\, donde celebraremos 🥳🪇 mientras bebemos 🍻\, comemos 🍟🍔\, jugamos 🎲🃏 y cantamos 👨🏽‍🎤👩🏼‍🎤 \nAmigo Invisible 👻 Navideño 🤶\nCada persona compra un regalo 🎁 por un valor de 5 euros o más. Los asignaremos aleatoriamente (números en un 👒). Participar en el amigo invisible NO es obligatorio 😉 \nSe propondrán juegos de grupo muy entretenidos para reírnos😂 y conocernos más🫂 como “Yo nunca he” 😜\, Cards Against Humanity 🃏\, Gestos 🙌🏼\, el Jenga 🗼 de BCN Queer Squad 🏳‍🌈 y muchos más. Evidentemente\, participar en los juegos no es obligatorio. \nAdemás\, podremos aprovechar del fantástico sistema de karaoke 🎤 de La Taska Show Bar. Si te gusta cantar 👩🏻‍🎤👨🏼‍🎤\, podrás enseñar tu voz al grupo en cualquier momento durante el evento 🎶🎵 \nAlrededor de medianoche\, l@s que queramos ir a bailar\, podemos ir a El Cangrejo🦀 (que no cobra la entrada 🆓 😁) \nMUY IMPORTANTE 🤑\nEste evento tiene una cuota de participación de 3\,50 euros que podrás abonar el mismo día en efectivo 💶🪙 (NO Bizum / NO tarjeta). Este dinero es para ayudar con los gastos de organización además de la compra de nuevos juegos. \nPara cualquier duda\, puedes escribirme por WhatsApp al +34631546465 (Ale). \nCompartiremos las fotos 📷 / videos 📹 al final del evento 🌆\, a través de este grupo de WhatsApp: \nhttps://chat.whatsapp.com/Kna8xTwF1gmJ7YqcbRtlvA \nPuedes echar un vistazo a nuestros eventos y seguirnos en Instagram🤳🏼: \nhttps://www.instagram.com/bcnqueersquad/?utm_source=qr&igshid=ZDc4ODBmNjlmNQ%3D%3D \n¡Vente a pasarlo pipa con nuestra comunidad 😃 antes de que llegue Papa Noel 🎅🏼🧑🏿‍🎄🤶🏽! \n🇬🇧 \nHello everyone! 🤗 \nIs all you want for Christmas 🎅🎄 a fun afternoon 🃏🎲🎤🤣 with the members of our community 🧑🏽👩🏼‍🦰👱🏼‍♀️🧔🏻🧚🏾‍♀️🦄? Would you like to celebrate the most anticipated festivity of the year in an international 🌐 LGBT+ 🌈 environment? \nOn Friday\, December 20th we’ll be celebrating the second BCN Queer Squad’s 🏳‍🌈 Christmas 🤶🎅🏿 Party 🍾🎉🎊 \nYou can join or leave the event whenever you want 🗽 \n📍 We’ll meet from 8:00 pm at La Taska Show Bar (Carrer de Casanova\, 210)\, where we’ll enjoy ourselves 🥳🪇 drinking 🍻\, eating 🍟🍔\, playing 🎲🃏 and singing 👨🏽‍🎤👩🏼‍🎤 \nChristmas Secret 🤫 Santa 🤶\nEach person purchases a gift 🎁 worth 5 euros or more. We will assign them randomly (numbers in a 👒). Participating in Secret Santa is NOT mandatory 😉 \nVery entertaining group games will be proposed to laugh 😂 and get to know each other better 🫂 such as “Never have I ever” 😜\, Cards Against Humanity 🃏\, Gestures 🙌🏼\, BCN Queer Squad’s 🏳‍🌈 Jenga 🗼 and many more. Obviously\, participating in the games is not mandatory. \nFurthermore\, we will be able to take advantage of the fantastic karaoke system 🎤 at La Taska Show Bar. If you like singing 👩🏻‍🎤👨🏼‍🎤\, you will be able to show your charisma\, uniqueness\, nerve and talent to the group at any time during the event 🎶🎵 \nAround midnight\, those of us who want to go dancing\, we can go to El Cangrejo🦀 (which does not charge admission 🆓 😁) \nVERY IMPORTANT 🤑\nThis event has a participation fee of 3.50 euros that you can pay on the same day in cash 💶🪙 (NO Bizum / NO card). This money is to help with the organization costs. \nFor any questions\, you can write to me on WhatsApp at +34631546465 (Ale). \nWe will share the photos 📷 / videos 📹 at the end of the event 🌆\, through this WhatsApp group: \nhttps://chat.whatsapp.com/Kna8xTwF1gmJ7YqcbRtlvA \nYou can check out our events and follow us on Instagram🤳🏼: \nhttps://www.instagram.com/bcnqueersquad/?utm_source=qr&igshid=ZDc4ODBmNjlmNQ%3D%3D \nCome and have a blast with our community 😃 before Santa Claus 🎅🏼🧑🏿‍🎄🤶🏽 comes to town!
URL:https://bcnqueersquad.com/evento/%f0%9f%8f%b3%f0%9f%8c%88-bcn-queer-squads-christmas-%f0%9f%8e%85-party%f0%9f%95%ba-%f0%9f%8c%b2-nuestra-fiesta-%f0%9f%92%83-de-navidad-%f0%9f%a4%b6/
LOCATION:La Taska Show Bar\, Carrer de Casanova 210\, Barcelona\, Barcelona\, 08036\, Spain
CATEGORIES:Parties ❤️
ATTACH;FMTTYPE=image/png:https://bcnqueersquad.com/wp-content/uploads/2024/12/600_525043059.png
END:VEVENT
END:VCALENDAR