BEGIN:VCALENDAR
VERSION:2.0
PRODID:-//Barcelona Queer Squad - ECPv6.14.2//NONSGML v1.0//EN
CALSCALE:GREGORIAN
METHOD:PUBLISH
X-WR-CALNAME:Barcelona Queer Squad
X-ORIGINAL-URL:https://bcnqueersquad.com
X-WR-CALDESC:Eventos para Barcelona Queer Squad
REFRESH-INTERVAL;VALUE=DURATION:PT1H
X-Robots-Tag:noindex
X-PUBLISHED-TTL:PT1H
BEGIN:VTIMEZONE
TZID:Europe/Madrid
BEGIN:DAYLIGHT
TZOFFSETFROM:+0100
TZOFFSETTO:+0200
TZNAME:CEST
DTSTART:20250330T010000
END:DAYLIGHT
BEGIN:STANDARD
TZOFFSETFROM:+0200
TZOFFSETTO:+0100
TZNAME:CET
DTSTART:20251026T010000
END:STANDARD
END:VTIMEZONE
BEGIN:VEVENT
DTSTART;TZID=Europe/Madrid:20251218T193000
DTEND;TZID=Europe/Madrid:20251219T030000
DTSTAMP:20260422T035609
CREATED:20251128T124206Z
LAST-MODIFIED:20251205T103629Z
UID:853-1766086200-1766113200@bcnqueersquad.com
SUMMARY:Xmas 🎅 Queer 🏳️‍🌈 Boardgames 🎲 & Karaoke🎤 Fiesta de Navidad 🎄🤶🌈🃏👨🏼‍🎤
DESCRIPTION:🇪🇦 (🇬🇧 version below 👇🏼) \n¡Hola a tod@s! 😃 \n¿Quieres crear conexiones 🫂queer 🌈 jugando 🃏 en nuestro último evento del 2025 antes de que Mariah Carey 🤶 llegue a la ciudad? Y si tuvieras también la oportunidad de cantar? 🎙️ \nEl jueves 18 de diciembre Nos despediremos antes de las vacaciones 🎅 en nuestros Juegos de mesa 🎲 Queer 🌈 y Karaoke 🎤! 🎊🥳 \nPodrás unirte/irte del evento cuando quieras 🗽 \n📍 Nos reuniremos a partir de las 19:30h en S Bar\, La Rouge (Rambla del Raval\, 10) \n🎄 AMIGO INVISIBLE 🎄\nTod@s pueden participar trayendo algo 🎁 de un valor entre 5 y 10 euros que se sorteará (no es obligatorio) \nNuestros juegos incluyen: Catán 🎲\, Exploding Kittens 🙀\, Cards Against Humanity 🤣\, Gestos 🤟\, Pictionary ✏️\, Jenga\, Love Letter 💌\, Carcassonne\, Virus 🦠\, Cluedo\, Azul\, Uno 🃏\, Taboo 💬 (🇪🇸 y 🇬🇧)\, Ticket to Ride 🚂 y un juego más a cada evento 😮 \n¡No dudes en traer tus juegos para divertirnos aún más! 😁 \n⚠️ Se requiere mínimo una consumición en el bar 🍷🍺🍸🍹🥃🍟🍢 \nSi te gusta cantar 👩🏻‍🎤👨🏼‍🎤\, podrás enseñar tu voz al grupo GRATIS 🆓 después (o durante) de los partidos 🎤🎶🎵 \nAlrededor de media noche\, l@s que queramos\, podemos ir a bailar junt@s 💃🕺🔊🎧🎶🎵 \nMUY IMPORTANTE 🤑 \nPuedes pagar la cuota de participación de 6 euros al llegar en efectivo 💶 (NO Bizum NO tarjeta de crédito 💳) \nTrae a un amig@ gratis 🆓️: válido para un nuev@ miembr@ 😉 \n💥¡LAS TARJETAS DE FIDELIDAD YA ESTÁN AQUÍ!💥 \n🎟️ ¡4 eventos por el precio de 3! Paga 18 € y cada evento te sale a solo 4\,50 €; úsala cuando quieras durante 2 meses. \n🎟️ Tarjeta Anual BQS: ¡10 eventos + 1 GRATIS! Solo 54 € por un año completo de experiencias junt@s 🤗 \n✅ Ahorra dinero\n✅ Olvídate de tener que traer efectivo\n✅ Consigue merchandising BQS gratis 👕🧢 y más descuentos al asistir a más de 10 eventos🤩 \nSi necesitas más información\, puedes escribirme por WhatsApp en el +34631546465 (Ale 🧔🏽‍♂️) \nÚnete a nuestro Grupo de WhatsApp para recibir fotos/vídeos 📷 que hagamos junt@s y mantenerte en contacto con tus nuev@s amig@s a través de este enlace: \nhttps://chat.whatsapp.com/L66J083tzQh1oecI3EjbXD \nPodrás echar un vistazo a nuestros eventos a través de nuestro Instagram🤳🏼: \nhttps://www.instagram.com/bcnqueersquad/ \nMe muero por jugar a juegos de mesa y divertirnos junt@s\, ¿y tú? 😉 \n🇬🇧 \nHi everyone! 😃 \nWould you like to make queer 🌈 connections 🫂 playing at our last event of 2025 before Mariah Carey 🤶 comes to town? What about getting the chance to sing? 🎙️ \nOn Thursday\, December 18th we’ll say goodbye before the holidays 🎅 at our Queer 🌈 Board Games 🎲 and Karaoke 🎤! 🎊🥳 \nYou can join/leave the event whenever you want 🗽 \n📍 We’ll meet starting at 7:30 PM at S Bar\, La Rouge (Rambla del Raval\, 10) \n🎄 SECRET SANTA 🎄\nEveryone can participate by bringing something 🎁 worth between 5 and 10 euros\, which will be raffled off (not mandatory) \nOur games include: Catán 🎲\, Exploding Kittens 🙀\, Cards Against Humanity 🤣\, Pictionary ✏️\, Jenga\, Gestures 🤟\, Love Letter 💌\, Virus 🦠\, Carcassonne\, Cluedo\, Azul\, Uno 🃏\, Taboo 💬 (🇪🇸 & 🇬🇧)\, Ticket to Ride 🚂 & there will be a new game each event 😮 \nFeel free to bring your games too for even more fun! 😁 \n⚠️ Minimum one consumption required on premises 🍷🍺🍸🍹🥃🍟🍢 \nIf you like singing 👩🏻‍🎤👨🏼‍🎤\, you can showcase your voice after (or during) the games 🎤🎶🎵 FOR FREE 🆓 \nAround midnight\, those of us who are keen\, we can go clubbing together 💃🕺🔊🎧🎶🎵 \nVERY IMPORTANT 🤑 \nYou can pay the participation fee of 6 euros upon arrival in cash 💶 (NO Bizum / NO Credit Card 💳) \nBring a friend for free 🆓️: valid for one new member 😉 \n💥LOYALTY CARDS ARE HERE!💥 \n🎟️ 4 events for the price of 3! Pay €18 and each event is only €4.50; use it whenever you want for 2 months. \n🎟️ BQS Annual Card: 10 events + 1 FREE! Only €54 for a full year of experiences together 🤗 \n✅ Save money\n✅ Forget about bringing cash\n✅ Get free BQS merchandise 👕🧢 and more discounts when you attend more than 10 events 🤩 \nIf you need more information\, you can write to me on WhatsApp at +34631546465 (Ale). \nJoin our WhatsApp Group to receive photos/videos 📷 that we take together and keep in contact with your new friends through this link: \nhttps://chat.whatsapp.com/L66J083tzQh1oecI3EjbXD \nYou can take a look at our events and keep updated on our future activities through the Highlights on our Instagram🤳🏼: \nhttps://www.instagram.com/bcnqueersquad/?utm_source=qr&igshid=ZDc4ODBmNjlmNQ%3D%3D \nI can’t wait to play boardgames and have fun together\, don’t you? 😉
URL:https://bcnqueersquad.com/evento/xmas-queer-boardgame-karaoke-fiesta-de-navidad/
LOCATION:S Bar La Rouge\, Rambla del Raval\, 10\, Barcelona\, 08001\, Spain
ATTACH;FMTTYPE=image/jpeg:https://bcnqueersquad.com/wp-content/uploads/2025/09/boardgames-karaoke-scaled.jpg
END:VEVENT
END:VCALENDAR