BEGIN:VCALENDAR
VERSION:2.0
PRODID:-//Barcelona Queer Squad - ECPv6.14.2//NONSGML v1.0//EN
CALSCALE:GREGORIAN
METHOD:PUBLISH
X-ORIGINAL-URL:https://bcnqueersquad.com
X-WR-CALDESC:Eventos para Barcelona Queer Squad
REFRESH-INTERVAL;VALUE=DURATION:PT1H
X-Robots-Tag:noindex
X-PUBLISHED-TTL:PT1H
BEGIN:VTIMEZONE
TZID:Europe/Madrid
BEGIN:DAYLIGHT
TZOFFSETFROM:+0100
TZOFFSETTO:+0200
TZNAME:CEST
DTSTART:20260329T010000
END:DAYLIGHT
BEGIN:STANDARD
TZOFFSETFROM:+0200
TZOFFSETTO:+0100
TZNAME:CET
DTSTART:20261025T010000
END:STANDARD
END:VTIMEZONE
BEGIN:VEVENT
DTSTART;TZID=Europe/Madrid:20260131T190000
DTEND;TZID=Europe/Madrid:20260201T030000
DTSTAMP:20260421T210425
CREATED:20251205T104334Z
LAST-MODIFIED:20260123T094522Z
UID:862-1769886000-1769914800@bcnqueersquad.com
SUMMARY:Foguerons de Sa Pobla 🔥 + Cena 🍴🍷 /Dinner 🍽 🍻 + Juerga 🕺💃 / Night Out 🪩
DESCRIPTION:🇪🇸 (🇬🇧 version below 👇) \n¡Hola a tod@s! 🤗 \n¿Crees que sería maravilloso viajar hasta Mallorca sin necesidad de tomar el barco ⛵ o el avión ✈? (a ver quién adivina la referencia musical 🎶) \nEl sábado 31 de enero habrá una quedada imperdible 🤩: Foguerons de Sa Pobla 🔥+ Cena (con opción calçots 🤤) + Juerga 🪩 🎊 \nPuedes agregarte al grupo en cualquier momento durante el evento🗽 \nLa tradición mallorquina de crear fogatas 🔥 el día de Sant Antoni Abad es ya un clásico del barrio de Gràcia que se celebra ya hace más de 30 años 🥳 \n📍 Nos encontraremos desde las 19:00 en la Plaça de la Vila de Gràcia. Inicialmente en frente del News & Coffee ( https://maps.app.goo.gl/EiTKoZtDCt9TYmJw7 ) donde os esperaré con nuestro paraguas arcoíris abierto ☂🌈. Nos moveremos por la misma plaza para ver los ‘castellers’ y otras exhibiciones tradicionales 🎉 \nSobre las 20:00 habrá un pasacalle popular que seguiremos para llegar a la plaza donde encenderán las hogueras 🔥. \nSobre las 21:15 iremos al Restaurante Piras Braseria (C. del Montseny\, 10)\, un restaurante que recomiendo sobre todo para ir a comer calçots\, aunque tienen también otras muy buenas opciones en carta y menú 🥘🥗🍝 \nUna vez terminada la cena\, l@s que queramos\, paseremos la noche de juerga junt@s 🍹🍸💃🏽🕺🏽. Solemos ir al Cangrejo 🦀 del Eixample donde no se paga la entrada 🫰🏼🆓 pero siempre se puede proponer alternativas\, dependiendo del grupo. \nPodrás recibir l@s fotos/videos 📷 que hagamos junt@s a través de este grupo de WhatsApp donde encontrarás la ubicación en tiempo real durante el evento 📍: \nhttps://chat.whatsapp.com/LH3nEaJmp2q6kbZBR5dKsl \nMUY IMPORTANTE 🤑 \nPara poder participar en este evento\, se requerirá el pago en efectivo 💶 de 6 euros como cuota de participación al llegar. \nPor cualquier duda\, puedes contactarme por WhatsApp al +34631546465 (Ale). \nPuedes echar un vistazo a los eventos pasados y seguir/agregarte a nuestro grupo en Instagram 🤳: \nhttps://instagram.com/bcnqueersquad \n¡Vente a pasarlo pipa con nosotr@s! 😃 \n🇬🇧 \nHello everyone! 🤗 \nWould you like to enjoy folkloristic shows 🎭 and bonfires 🔥 before having an amazing dinner 😍 (with calçots option! 🤤) and finally have the possibility to go clubbing 💃🏼🕺🏽 to burn out all the calories? 👯‍♀️ \nOn Saturday\, January 31st there will be an unmissable meetup 🤩: Foguerons de Sa Pobla 🔥+ Dinner 🍽 + Night Out 🪩 🎊 \nYou can join at any time during the event🗽 \nThe Mallorcan tradition of creating bonfires 🔥 on the day of Sant Antoni Abad is already a classic in the Gràcia neighbourhood that has been celebrated for more than 30 years 🥳. \nWe will meet from 7:00 p.m. in Plaça de la Vila de Gràcia. Initially\, in front of News & Coffee https://maps.app.goo.gl/EiTKoZtDCt9TYmJw7 where we will be waiting for you with our open rainbow umbrella ☂🌈. We will move around the same square to see the ‘castellers’ and other traditional exhibits 🎉. \nAround 8:00 p.m. there will be a popular parade that we will follow to reach the square where the bonfires will be lit 🔥. \nAround 9:15 p.m. we will go to the Piras Braseria Restaurant (C. del Montseny\, 10)\, a restaurant that I recommend especially to eat calçots (traditional long onions cooked in the embers and served with rosmesco sauce 🤩)\, although they also have other very good options on the menu 🥘🥗🍝 \nOnce dinner is over\, we will continue together on a night of partying 🍹🍸💃🏽🕺🏽. We usually go to the Cangrejo 🦀 in Eixample where there is no entrance fee 🫰🏼🆓 but you can always propose alternatives: it will depend on the group 😁 \nYou will be able to receive the photos 📷 / videos 📹 that we take together through this WhatsApp group where you will also find the location 📍 in real time during the event: \nhttps://chat.whatsapp.com/LH3nEaJmp2q6kbZBR5dKsl \nVERY IMPORTANT 🤑 \nIn order to participate in this event\, you’ll be requested to pay 6 euros in cash 💶 as a participation fee. \nShould you need any further information\, you can contact me via WhatsApp at +34631546465 (Ale). \nYou can check out past events and follow/add to our group on Instagram 🤳🏼: \nhttps://instagram.com/bcnqueersquad \nCome have a great time with us! 😃
URL:https://bcnqueersquad.com/evento/foguerons-de-sa-pobla-queer/
LOCATION:plaça de la Vila de Gràcia\, 🇪🇸 En frente del News & Coffee 🇬🇧 In front of News & Coffee https://maps.app.goo.gl/AdUXeQgL1QuN8rqV6\, Barcelona\, Spain
CATEGORIES:Special
ATTACH;FMTTYPE=image/jpeg:https://bcnqueersquad.com/wp-content/uploads/2025/12/IMG-20240113-WA0012.jpg
END:VEVENT
BEGIN:VEVENT
DTSTART;TZID=Europe/Madrid:20260206T193000
DTEND;TZID=Europe/Madrid:20260207T030000
DTSTAMP:20260421T210425
CREATED:20251205T105225Z
LAST-MODIFIED:20260206T124952Z
UID:870-1770406200-1770433200@bcnqueersquad.com
SUMMARY:Intercambio 👥 de Idiomas 🌐 Queer 🌈 Supported 👨🏻‍🏫 Language 🗣️ Exchange 🤓
DESCRIPTION:🇪🇸 (🇬🇧 version below 👇) \n¡Hola a tod@s! 🤗 \n¿Estás hart@ de los intercambios de lenguas en los que haces las mismas preguntas una y otra vez? 😵 ¿Te gustaría aprender divirtiéndote? 🤓 \n¡El viernes 6 de febrero vuelve nuestro Intercambio 👥 de Idiomas 🗣 Queer 🌈 con Ayuda 👨🏻‍🏫 y Juegos 🤹🏻‍♂️ de Aprendizaje 📚! 🥳🎉 \nPuedes unirte o marcharte cuando quieras\, participar en el intercambio o simplemente socializar. ¡Libertad! 🗽 \n📍 Nos reuniremos a partir de las 19:30 en S Bar\, La Rouge donde podremos quedarnos adentro o aprovechar su fantástica terraza 🌃 con aire acondicionado natural 🌬 y diseño de exteriores 🌴 \n⚠️ Se requiere mínimo una consumición en el bar 🍺🍸 \nCuando llegues al bar te pediré tu nombre\, tus idiomas y sus niveles 📝 \nPodrás entretenerte y aprender con Juegos 🤹🏻‍♂️ en Grupo en inglés 🇬🇧 y español 🇪🇸 con el soporte de un profesor plurilingüe 👨🏻‍🏫 o hacer un Tándem 👥 con preguntas ‘poco usuales’ en 🇦🇩🇬🇧🇪🇸🇮🇹🇫🇷🇩🇪🇵🇹 \nNuestros juegos incluirán Tabú 🃏\, un juego rápido y súper divertido\, y Jenga 🗼\, con preguntas ☝🏻 y desafíos graciosos 😹🤸🏻‍♀️\, y más actividades y juegos creados para aprendices de todos los niveles 🤩 \nEl intercambio de idiomas tendrá lugar entre las 20 y las 22 horas\, pero solemos quedarnos junt@s para charlar y\, l@s que quieran\, sobre la medianoche\, podemos ir a bailar 💃🏼🕺🏼 en el Gaixample 🪇🪭🪩 \nMUY IMPORTANTE 🤑 \nPuedes pagar la cuota de participación de 6 euros a tu llegada en efectivo 💶 (NO Bizum / NO Tarjeta de Crédito 💳) \nTrae a un amig@ gratis 🆓️: válido para un nuev@ miembr@ 😉 \n💥¡LAS TARJETAS DE FIDELIDAD YA ESTÁN AQUÍ!💥 \n🎟️ ¡4 eventos por el precio de 3! Paga 18 € y cada evento te sale a solo 4\,50 €; úsala cuando quieras durante 2 meses. \n🎟️ Tarjeta Anual BQS: ¡10 eventos + 1 GRATIS! Solo 54 € por un año completo de experiencias junt@s 🤗 \n✅ Ahorra dinero\n✅ Olvídate de tener que traer efectivo\n✅ Consigue merchandising BQS gratis 👕🧢 y más descuentos al asistir a más de 10 eventos🤩 \nSi necesitas más información\, puedes escribirme por WhatsApp en el +34631546465 (Ale 🧔🏽‍♂️) \nPodrás recibir las fotos 📸 y videos 📹 que hagamos junt@s a través de este Grupo de WhatsApp 👇\nhttps://chat.whatsapp.com/BqPMWXaDAeJHdgJKM7wibw \n¿Quieres curiosear antes de tu primera quedada con nosotr@s? 👀 Échale un vistazo a nuestro Instagram 🤳\nhttps://www.instagram.com/bcnqueersquad/ \n¡No te pierdas esta oportunidad de practicar y socializar! 😉 \n🇬🇧 \nHi everyone! 🤗 \nAre you sick of language exchanges where you ask the same questions over & over again? 😵 Would you like to learn while having fun? 🤓 \nOn Friday\, February 6th\, our Queer 🌈 Supported 👨🏻‍🏫 Language 🗣 Exchange 👥 with Learning 📚 Games 🤹🏻‍♂️ is back! 🥳🎉 \nYou can join or leave whenever you want. You can participate in the exchange or just socialize. Freedom! 🗽 \n📍 We’ll meet starting at 7:30 PM at S Bar\, La Rouge (Rambla del Raval\, 10) where we can stay inside or take advantage of their fantastic terrace 🌃 with natural air conditioning 🌬 and outdoor design 🌴🌳 \n⚠️ A minimum of one drink at the bar is required 🍷🍺🍸 \nWhen you arrive at the bar\, I’ll get your name\, your languages & their levels 📝 \nDuring the event\, you can have fun & learn with Group Games 🤹🏻‍♂️ in English 🇬🇧 & Spanish 🇪🇸 with the support of a multilingual teacher 👨🏻‍🏫 or join a Tandem 👥 with ‘unusual’ questions in Catalan 🇦🇩\, English 🇬🇧\, Spanish 🇪🇸\, Italian 🇮🇹\, French 🇫🇷\, German 🇩🇪\, and Portuguese 🇵🇹 \nOur games will include Taboo 🃏\, a fast-paced & super-fun game\, & Jenga 🗼\, with questions ☝🏻 & hilarious challenges 😹🤸🏻‍♀️\, & more activities & games created for learners of all levels 🤩 \nThe language exchange will take place between 8 & 10 PM\, but we usually stay together to chat\, & for those who want to\, around midnight\, we can go dancing 💃🏼🕺🏼 in the Gaixample 🪇🪭🪩 \nVERY IMPORTANT 🤑 \nYou’ll be able to pay the participation fee of 6 euros upon arrival in cash 💶 (NO Bizum / NO Credit Card 💳) \nBring a friend for free 🆓️: valid for one new member 😉 \n💥LOYALTY CARDS ARE HERE!💥 \n🎟️ 4 events for the price of 3! Pay €18 and each event is only €4.50; use it whenever you want for 2 months. \n🎟️ BQS Annual Card: 10 events + 1 FREE! Only €54 for a full year of experiences together 🤗 \n✅ Save money\n✅ Forget about bringing cash\n✅ Get free BQS merchandise 👕🧢 and more discounts when you attend more than 10 events 🤩 \nFor more information\, you can write to me on WhatsApp at +34631546465 (Ale 🧔🏽‍♂️) \nYou can receive the photos 📸 & videos 📹 we make together through this WhatsApp Group 👇\nhttps://chat.whatsapp.com/BqPMWXaDAeJHdgJKM7wibw \nWant to have a peek before your first meetup with us? 👀 Check out our Instagram 🤳\nhttps://www.instagram.com/bcnqueersquad/ \nDon’t miss this opportunity to practice & socialize! 😉
URL:https://bcnqueersquad.com/evento/intercambio-de-idiomas-queer-febrero-2026/
LOCATION:S Bar La Rouge\, Rambla del Raval\, 10\, Barcelona\, 08001\, Spain
ATTACH;FMTTYPE=image/jpeg:https://bcnqueersquad.com/wp-content/uploads/2025/09/language-exchange-scaled.jpg
END:VEVENT
BEGIN:VEVENT
DTSTART;TZID=Europe/Madrid:20260228T200000
DTEND;TZID=Europe/Madrid:20260301T030000
DTSTAMP:20260421T210425
CREATED:20251205T103508Z
LAST-MODIFIED:20260117T154935Z
UID:857-1772308800-1772334000@bcnqueersquad.com
SUMMARY:Noche 🌃 Queer 🌈 de Juegos 🎳 y Juerga🕺 Queer 🌈 Game 👾 & Party 💃 Night 🪇🪭
DESCRIPTION:🇪🇸 (🇬🇧 version below ⬇️) \n¡Hola a tod@s! \n¿Te apetece pasarlo brutal jugando🎳👾 y creando nuevas conexiones 🫂? ¿Y si además pudieras ir con tu nuevo grupo a disfrutar de la noche luego🕺🏽💃🏽🌈? \nEl sábado 28 de febrero júntate a nuestra Noche Queer 🌈 de Juegos 🎳👾 y Juerga🪇🪭👯‍♀️ \nPodrás unirte/irte del evento cuando quieras 🗽 \n📍 Nos encontraremos a las 20:00 frente a Ilusina en el centro comercial Gran Via 2 (Av. de la Granvia de l’Hospitalet\, 75). \nLos precios para la bolera son:\n🎳 1 partida por 8\,95 €\n🎳 2 partidas por 13\,50 €\n👉 Ambas opciones incluyen el alquiler de zapatos 👞 y una bebida grande 🥤 \nSi no te molan los bolos\, en este centro hay máquinas de ocio interactivo muy guay\, desde simuladores y realidad virtual hasta juegos deportivos y de redemption 😯 \nUna vez acabemos\, cenaremos junt@s 🥗 y comentar nuestras hazañas deportivas (o nuestros fracasos gloriosos 😆). \nY luego\, si te apetece… ¡a bailar! 💃🕺🏽 \nElegiremos junt@s el destino según la vibra y preferencias del grupo 😎entre los mejores bares del Gayxample\, donde la música y el buen ambiente están garantizados y sin coste de entrada 🆓 \n🔔 MUY IMPORTANTE 🤑 \nPuedes pagar la cuota de participación de 6 euros al llegar en efectivo 💶 (NO Bizum NO tarjeta de crédito 💳) \nTrae a un amig@ gratis 🆓️: válido para un nuev@ miembr@ 😉 \n💥¡LAS TARJETAS DE FIDELIDAD YA ESTÁN AQUÍ!💥 \n🎟️ ¡4 eventos por el precio de 3! Paga 18 € y cada evento te sale a solo 4\,50 €; úsala cuando quieras durante 2 meses.\n🎟️ Tarjeta Anual BQS: ¡10 eventos + 1 GRATIS! Solo 54 € por un año completo de experiencias junt@s 🤗 \n✅ Ahorra dinero\n✅ Olvídate de tener que traer efectivo\n✅ Consigue merchandising BQS gratis 👕🧢 y más descuentos al asistir a más de 10 eventos🤩 \nSi necesitas más información\, puedes escribirme por WhatsApp en el +34631546465 (Ale 🧔🏽‍♂️) \nÚnete a este Grupo de WhatsApp para recibir las fotos/vídeos 📷 que hagamos junt@s y mantenerte en contacto con tus nuev@s amig@s a través de este enlace:\nhttps://chat.whatsapp.com/EuRtTgehtNdIbH4AnEOamd?mode=hqrt1 \nPodrás echar un vistazo a nuestros eventos a través de nuestro Instagram🤳🏼:\nhttps://www.instagram.com/bcnqueersquad/ \n¡Ven a vivir esta noche memorable junt@s! 👯‍♂️🎳✨ \n🇬🇧 \nHello everyone! 🎉 \nFancy having a blast playing 🎳👾 and making new connections 🫂?\nAnd what if you could also head out with your new group to enjoy the night afterwards? 🕺🏽💃🏽🌈 \nOn Saturday\, February 28th\, join us for our Queer 🌈 Game 🎳👾 & Party Night 🪇🪭👯‍♀️ \nYou can join or leave the event whenever you want 🗽 \n📍 We’ll meet at 8:00 PM in front of Ilusina\, in the Gran Via 2 shopping mall (Av. de la Granvia de l’Hospitalet\, 75). \nBowling prices are: \n🎳 1 game for €8.95\n🎳 2 games for €13.50\n👉 Both options include shoe rental 👞 and a large drink 🥤 \nIf bowling isn’t your thing\, this venue has some super fun interactive game machines — from simulators and VR to sports and redemption games 😯 \nOnce we’re done\, we’ll have dinner together 🥗 and talk about our sporting triumphs (or our gloriously epic fails 😆). \nAnd afterwards\, if you’re up for it… dancing time! 💃🕺🏽\nWe’ll choose our destination together depending on the vibe 😎\, heading to the best Gayxample bars\, where good music and great atmosphere are guaranteed — and with no cover charge 🆓 \n🔔 VERY IMPORTANT 🤑\nYou can pay the participation fee of €6 upon arrival in cash 💶\n(NO Bizum\, NO credit card 💳) \nBring a friend for FREE 🆓: valid for new members 😉 \n💥 LOYALTY CARDS ARE HERE! 💥 \n🎟️ 4 events for the price of 3! Pay €18 and each event is only €4.50. Use it anytime within 2 months.\n🎟️ BQS Annual Card: 10 events + 1 FREE! Just €54 for a whole year of experiences together 🤗 \n✅ Save money\n✅ No need to carry cash\n✅ Get free BQS merch 👕🧢 and more discounts when attending 10+ events 🤩 \nIf you need more info\, message me on WhatsApp at +34 631 546 465 (Ale 🧔🏽‍♂️) \nJoin this WhatsApp Group to get all the photos/videos 📷 we take together and stay in touch with your new friends:\nhttps://chat.whatsapp.com/EuRtTgehtNdIbH4AnEOamd?mode=hqrt1 \nYou can also check out our events on Instagram 🤳🏼:\nhttps://www.instagram.com/bcnqueersquad/ \nCome enjoy this unforgettable night together! 👯‍♂️🎳✨
URL:https://bcnqueersquad.com/evento/juegos-juerga-queer-febrero-2026/
LOCATION:Ilusiona\, Centro Comercial Gran Via 2\, Avinguda de la Granvia de l'Hospitalet\, 75\, L'Hospitalet de Llobregat\, 08908\, Spain
ATTACH;FMTTYPE=image/jpeg:https://bcnqueersquad.com/wp-content/uploads/2025/12/bowling.jpg
END:VEVENT
END:VCALENDAR