BEGIN:VCALENDAR
VERSION:2.0
PRODID:-//Barcelona Queer Squad - ECPv6.14.2//NONSGML v1.0//EN
CALSCALE:GREGORIAN
METHOD:PUBLISH
X-ORIGINAL-URL:https://bcnqueersquad.com
X-WR-CALDESC:Eventos para Barcelona Queer Squad
REFRESH-INTERVAL;VALUE=DURATION:PT1H
X-Robots-Tag:noindex
X-PUBLISHED-TTL:PT1H
BEGIN:VTIMEZONE
TZID:Europe/Madrid
BEGIN:DAYLIGHT
TZOFFSETFROM:+0100
TZOFFSETTO:+0200
TZNAME:CEST
DTSTART:20260329T010000
END:DAYLIGHT
BEGIN:STANDARD
TZOFFSETFROM:+0200
TZOFFSETTO:+0100
TZNAME:CET
DTSTART:20261025T010000
END:STANDARD
END:VTIMEZONE
BEGIN:VEVENT
DTSTART;VALUE=DATE:20260501
DTEND;VALUE=DATE:20260504
DTSTAMP:20260421T190810
CREATED:20260221T153224Z
LAST-MODIFIED:20260228T110222Z
UID:1017-1777593600-1777852799@bcnqueersquad.com
SUMMARY:Finde ✈️ Queer 🏳️‍🌈 en Madrid 💃 Queer 🌈 Weekend 🛤 in Madrid 🥳
DESCRIPTION:🇪🇸 (🇬🇧 version below ⬇️) \n¡Hola a tod@s! 👋🏼 \n¿Te apetece pasar un fin de semana súper divertido en Madrid con nuev@s amig@s? 🏙️💃🕺 \n📅 Del 1 al 3 de mayo ¡Únete a nuestro increíble Finde en Madrid! 🎊🎉 \nCada participante podrá personalizar su viaje ✈️🚂🚗: decidir cuándo viajar 🕒\, dónde alojarse 🛌🏼 y en qué actividades participar 😃. El organizador (Ale 🧔🏽‍♂️) te acompañará y asesorará en cada paso para que todo sea fácil y cómodo. \nNos mantendremos en contacto y compartiremos las fotos 📷 y vídeos 📹 que haremos junt@s a través de este Grupo de WhatsApp: \nhttps://chat.whatsapp.com/Dv5PGJakbHJ1ITHEv9RtWu?mode=gi_t \nViernes 1 de mayo\nNuestra primera actividad junt@s será una cena de bienvenida\, perfecta para empezar a conocernos 🤝\nY si nos apetece\, podemos dar una primera vuelta nocturna por la ciudad 🌃🍸 \nSábado 2 de mayo\nPasaremos el día recorriendo el maravilloso centro de Madrid\, descubriendo algunos de sus principales atractivos turísticos 🏛️📸.\nPor la noche podremos conocer a personas locales en nuestra Ruta por los Mejores Bares 🍹 Queer 🌈 de Madrid 🎭🪩Aquí tienes la descripción completa:\n🔗https://bcnqueersquad.com/evento/vuelta-bares-queer-madrid-2026/ \nDomingo 3 de mayo\nVisitaremos el Museo Reina Sofía 🖼️ (en horario de entrada gratuita) y después pasearemos por el Parque del Retiro 🌳☀️ para despedir el finde con buen rollo. \n💸 MUY IMPORTANTE 🤑\nPara participar en esta excursión es necesario el pago por adelantado de 25 € por:\n📲 Bizum al +34 631 54 64 65 o 💻 PayPal a: alessandrobdellaglio@gmail.com (Alessandro Dell’Aglio)\nEsta cuota incluye:\n✔ Organización personalizada de transporte y alojamiento\n✔ Visitas por la ciudad\n✔ Participación en la Ruta por los Mejores Bares Queer de Madrid\nPuedes escribirme por WhatsApp en el +34 631 54 64 65 para cualquier consulta (Ale 🧔🏽‍♂️) \n⚠ IMPORTANTE ⚠\nEl seguro NO está incluido en la cuota de participación. El organizador no asume responsabilidad por daños o perjuicios que los participantes puedan causarse a sí mismos o a terceros\, aunque siempre velará por el buen desarrollo de la experiencia. \n¡Vente a disfrutar de este increíble finde con nosotr@s! 😃\nConexión 🥂\, cultura 🏛️\, fiesta 🥳 y nuevas amistades 💖 te esperan 🤗 \n🇬🇧 \n🌈 Hi everyone! 👋🏼 \nWould you like to spend a super fun weekend in Madrid with new friends? 🏙️💃🕺 \n📅 From May 1st to May 3rd\nJoin our amazing Weekend in Madrid! 🎊🎉 \nEach participant will be able to customize their trip ✈️🚂🚗: choose when to travel 🕒\, where to stay 🛌🏼\, and\, of course\, which activities to join 😃. The organizer (Ale 🧔🏽‍♂️) will guide and support you every step of the way to make everything easy and comfortable. \nWe’ll stay in touch and share the photos 📷 and videos 📹 we take together through this WhatsApp Group: \nhttps://chat.whatsapp.com/Dv5PGJakbHJ1ITHEv9RtWu?mode=gi_t \nFriday\, May 1st\nOur first activity together will be a welcome dinner\, the perfect way to start getting to know each other 🤝\nAnd if we feel like it\, we can take a first evening stroll around the city 🌃🍸 \nSaturday\, May 2nd\nWe’ll spend the day exploring the wonderful city center of Madrid\, discovering some of its main tourist attractions 🏛️📸.\nIn the evening\, we’ll meet local people during our Fabulous 🍹Queer 🌈 Bar Crawl in Madrid 🎭🪩\nHere’s the full description:\n🔗 https://bcnqueersquad.com/evento/vuelta-bares-queer-madrid-2026/ \nSunday\, May 3rd\nWe’ll visit the Reina Sofía Museum 🖼️ (during free admission hours) and then take a relaxing walk through Retiro Park 🌳☀️ to wrap up the weekend in a great atmosphere. \n💸 VERY IMPORTANT 🤑\nTo participate in this trip\, an advance payment of €25 is required via 📲 Bizum to +34 631 54 64 65 or 💻 PayPal to: alessandrobdellaglio@gmail.com (Alessandro Dell’Aglio)\nThis fee includes:\n✔ Personalized organization of transport and accommodation\n✔ City visits\n✔ Participation in the Queer Bar Crawl in Madrid\nYou can message me on WhatsApp at +34 631 54 64 65 for any questions (Ale 🧔🏽‍♂️) \n⚠ IMPORTANT ⚠\nInsurance is NOT included in the participation fee. The organizer does not assume responsibility for any damage or harm participants may cause to themselves or others\, although every effort will be made to ensure a smooth and enjoyable experience. \nCome and enjoy this amazing weekend with us! 😃\nConnection 🥂\, culture 🏛️\, party vibes 🥳\, and new friendships 💖 are waiting for you 🤗
URL:https://bcnqueersquad.com/evento/finde-queer-madrid-2026/
CATEGORIES:Special
ATTACH;FMTTYPE=image/png:https://bcnqueersquad.com/wp-content/uploads/2026/02/finde-en-madrid.png
END:VEVENT
BEGIN:VEVENT
DTSTART;TZID=Europe/Madrid:20260508T200000
DTEND;TZID=Europe/Madrid:20260509T030000
DTSTAMP:20260421T190810
CREATED:20260412T121642Z
LAST-MODIFIED:20260412T123549Z
UID:1120-1778270400-1778295600@bcnqueersquad.com
SUMMARY:Queer 🏳️‍🌈 Pub 🍻 Crawl 🚶‍♀️ with Panoramic 🌆 Sunset 🌅 Correbares🥂 LGBT+🌈
DESCRIPTION:🇪🇸 (🇬🇧 version below) \n¡Hola a tod@s! 👋🏼 \n¿Te gustaría conocer a nuev@s amig@s 🫂 disfrutando de vistas encantadoras 🌆 y del mejor ambiente queer 🌈 de Barcelona? 👯‍♀️ \n¡El viernes 8 de mayo no te puedes perder esta edición especial de nuestra Ruta 🚶‍♀️ de Bares 🍻 de Ambiente 🏳‍🌈 con Atardecer 🌅 Panoramico 🌆! 🥳 \nPuedes agregarte/abandonar el evento cuando te apetezca🗽 \n📍 Nos encontraremos desde las 20:00 en la azotea con vistas a 360º sobre el casco antiguo del hotel Barceló Raval (Rambla del Raval\, 17-21) donde os esperaremos como siempre con nuestro paraguas arcoíris abierto☂🌈(también puedes preguntar al personal que te indicará donde se encuentra nuestro grupo) \nSobre las 20:30-21\, nos dirigiremos al  S Bar La Rouge que albergará excepcionalmente un fabuloso espectáculo drag con Diva Rocco 👸🏻 y con pica pica 🍢 GRATIS 🆓!😮 (⚠️ consumición 🍻 mínima obligatoria de 10 euros⚠️) \nNuestra siguiente etapa será el Ken Barcelona donde propondré juegos de grupo super divertidos 🤣 (participar no es obligatorio 😉) \nPara acabar nuestra ruta\, iremos a uno de los bares del Gayixample donde se puede bailar 🕺🏽💃🏽 sin coste 🆓 hasta las 3 de la madrugada 🎶🔊🎧: solemos ir al Museum 🏛 o al Cangrejo 🦀\, pero decidiremos junt@s de forma democrática 🥳 \nPodrás recibir nuestra posición en tiempo real 📍 durante el evento además de las fotos 📸 y videos 📹 que hagamos junt@s a través de este Grupo de WhatsApp: \nhttps://chat.whatsapp.com/K7vloQgrjAuCfnamJnAb72 \nMUY IMPORTANTE 🤑 \nPuedes pagar la cuota de participación de 6 euros a tu llegada en efectivo 💶 (NO Bizum / NO Tarjeta de Crédito 💳) \nTrae un amig@ gratis 🆓️: válido para un nuev@ miembr@ 😉 \n💥¡NUESTRAS TARJETAS DE FIDELIDAD!💥 \n🎟️ ¡4 eventos por el precio de 3! Paga 18 € y consigue tu próximo evento gratis. Solo 4\,50 € por evento; úsala cuando quieras durante 2 meses. \n🎟️ Tarjeta Anual BQS: ¡10 eventos + 1 GRATIS! Solo 54 € por un año completo de BQS \n✅ Ahorra dinero\n✅ Olvídate de tener que traer efectivo \nSi necesitas más información\, puedes escribirme por WhatsApp en el +34631546465 (Ale 🧔🏽‍♂️) \n¿Quieres ver para creer? 👀 Échale un vistazo a nuestro Instagram 🤳 \nhttps://www.instagram.com/bcnqueersquad/ \n¿A qué esperas para apuntarte? 😉 \n🇬🇧 \nHello everyone! 👋🏼 \nWould you like to meet new friends 🫂 while enjoying enchanting views 🌆 and the best queer atmosphere 🌈 in Barcelona? 👯‍♀️ \nOn Friday\, May 8th\, you can’t miss this special edition of our Queer  🏳‍🌈  Pub Crawl 🚶‍♀️ with a Panoramic 🌆 Sunset 🌅! 🥳 \nYou can join or leave the event whenever you like 🗽 \n📍 We will meet starting from 20:00 at the rooftop of the Hotel Barceló Raval (Rambla del Raval\, 17-21). It features 360º views over the old town\, and we’ll be waiting for you as always with our open rainbow umbrella ☂🌈 (you can also ask the staff\, and they will point out where our group is located). \nAround 20:30-21:00\, we will head to Bar La Rouge\, which will exceptionally host a fabulous drag show featuring Diva Rocco 👸🏻 and FREE 🆓 finger food/tapas 🍢! 😮 (⚠️ minimum consumption 🍻 of 10 euros required⚠️). \nOur next stop will be Ken Barcelona\, where some super fun group games 🤣 will be put forward (participation is optional 😉). \nTo finish our route\, we’ll go to one of the bars in the Gaixample where we can dance 🕺🏽💃🏽 for free 🆓 until 3:00 AM 🎶🔊🎧: we usually go to Museum 🏛 or Cangrejo 🦀\, but we will decide together democratically 🥳. \nYou can receive our real-time location 📍 during the event\, as well as the photos 📸 and videos 📹 we take together\, through this WhatsApp Group: https://chat.whatsapp.com/K7vloQgrjAuCfnamJnAb72 \nVERY IMPORTANT 🤑 \nYou can pay the participation fee of 6 euros upon arrival in cash 💶 (NO Bizum / NO Credit Card 💳). \nBring a friend for free 🆓️: valid for one new member 😉 \n💥 OUR LOYALTY CARDS! 💥 \n🎟️ 4 events for the price of 3! Pay €18 and get your next event for free. Only €4.50 per event; use it whenever you want over 2 months. \n🎟️ BQS Annual Card: 10 events + 1 FREE! Only €54 for a full year of BQS. \n✅ Save money \n✅ Forget about having to bring cash \nIf you need more information\, you can write to me on WhatsApp at +34631546465 (Ale 🧔🏽‍♂️). \nWant to see it to believe it? 👀 Check out our Instagram 🤳: \nhttps://www.instagram.com/bcnqueersquad/ \nWhat are you waiting for? Sign up now! 😉
URL:https://bcnqueersquad.com/evento/queer-pub-crawl-mayo-2026/
LOCATION:Barceló Raval\, Rambla del Raval\, 17\, Barcelona\, Spain
CATEGORIES:Special
ATTACH;FMTTYPE=image/jpeg:https://bcnqueersquad.com/wp-content/uploads/2026/04/image-rooftop.jpeg
END:VEVENT
BEGIN:VEVENT
DTSTART;TZID=Europe/Madrid:20260516T200000
DTEND;TZID=Europe/Madrid:20260517T030000
DTSTAMP:20260421T190810
CREATED:20260403T065255Z
LAST-MODIFIED:20260412T123806Z
UID:1095-1778961600-1778986800@bcnqueersquad.com
SUMMARY:📺 EUROVISION 🇪🇺 SONG 🎤 CONTEST 🎶🎵🦄🌈
DESCRIPTION:🇪🇸 (🇬🇧 version below ⬇) \n¡Hola a tod@s! 🤗 \n¿Buscas buena compañía 🥂 para ver el Festival de la Canción 👩🏼‍🎤🎼🎙 más esperado de la comunidad LGBT+ 🏳‍🌈? 🥳 \nEl sábado 16 de mayo ¡veremos junt@s la Gran Final de Eurovisión! 🎵🪇🎊 \nEl Festival de la Canción de Eurovisión 🎶👨🏽‍🎤 es una gran oportunidad para conectar 🫂 entre europeos 🇪🇺 y personas de todo el mundo 🌐 a través del amor por la música 🎶 y la libertad 🗽 de expresarse 🦄🌈 \n📍 Nos reuniremos a partir de las 20:00 h en el Bardo Llomiteria (Carrer de Villarroel\, 223)\, donde podremos disfrutar del espectáculo mientras intercambiamos opiniones 🗣 sobre las canciones a concurso de este año 🎤🎵 (además\, apostaremos entre nosotr@s a qué canción será la ganadora 😁) \nPuedes entrar o salir del evento cuando quieras 🗽 \nEl espectáculo empezará a las 21:00 y terminará alrededor de medianoche \nDespués del espectáculo\, l@s que queramos/podamos\, iremos a bailar 🕺🏽💃🏽 en el Gayample 🪩🪭🪇 (como solemos hacer 🥳). \nMUY IMPORTANTE 🫰🏼🤑 \nEste evento tiene una cuota de participación de 6 euros que podrás pagar en situ el mismo día en efectivo 💶 \nTrae a un/a amig@ gratis 🆓️: válido si un@ es un/a nuev@ miembr@ 😉 \nNUESTRAS TARJETAS DE FIDELIDAD \n🎫 Tarjeta 4×3: paga 18 € y cada evento te sale a solo 4\,50 €; úsala cuando quieras durante 2 meses.\n🎫 Tarjeta Anual BQS: ¡10 eventos + 1 GRATIS! Solo 54 € por un año completo de experiencias junt@s \n✅️ Ahorra dinero\n✅️ Olvídate de tener que traer efectivo \nSi tienes cualquier duda\, puedes escribirme al +34 631 546 465 (Ale) 🧔🏽 \nY si quieres cotillear eventos anteriores o seguirnos en Instagram 🤳:\nhttps://instagram.com/bcnqueersquad/ \nCompartiremos las fotos 📷 y vídeos 📹 que haremos junt@s a través de este grupo de WhatsApp: \nhttps://chat.whatsapp.com/IV2BvYSlLyU373Diirw2a6 \n¿Quién crees que ganará este año? 🤔 🇦🇹 🇦🇱 🇮🇹 🇨🇭 🇦🇲 🇫🇷 🇵🇹 🇩🇪 🇧🇪 🇷🇸 🇬🇧 🇬🇷 🇭🇷 🇳🇴 🇺🇦 🇸🇪 🇨🇾 🇱🇹 🇵🇱 🇧🇬 🇫🇮 🇲🇩 🇦🇿 🇦🇺 🇱🇺 🇨🇿 🇩🇰 🇪🇪 🇬🇪 🇱🇻 🇲🇹 🇲🇪 🇷🇴 🇸🇲 \n🇬🇧 \nHi everyone! 🤗 \nLooking for good company 🥂 to watch the most anticipated LGBT+ 🏳‍🌈 song contest 👩🏼‍🎤🎼🎙? \nOn Saturday\, May 16th\, we’ll watch the Eurovision Grand Final together! 🎵🪇🎊 \nThe Eurovision Song Contest 🎶👨🏽‍🎤 is a great opportunity to connect 🫂 between Europeans 🇪🇺 and people from all over the world 🌐 through our love of music 🎶 and the freedom 🗽 of self-expression 🦄🌈 \n📍 We’ll meet from 8:00 PM onwards at Bardo Llomiteria (Carrer de Villarroel\, 223)\, where we can enjoy the show while exchanging opinions 🗣 about this year’s competing songs 🎤🎵 (of course\, we’ll bet on which song will win! 😁) \nYou can come and go as you please 🗽 \nThe show will start at 9:00 PM and will end after midnight \nAfter the show\, those of us who want to\, will go dancing 🕺🏽💃🏽 in the Gayample 🪩🪭🪇 (as we usually do 🥳). \nVERY IMPORTANT 🫰🏼🤑 \nThis event has a participation fee of €6 which you can pay on-site on the day in cash 💶 \nBring a friend for free: valid if one of you is a new member \nOUR LOYALTY CARDS 🤩 \n🎫 4×3 Card: pay €18 and each event costs you only €4.50; use it whenever you want for 2 months. \n🎫 BQS Annual Pass: 10 events + 1 FREE! Only €54 for a full year of experiences together! \n✅️ Save money\n✅️ Forget about having to bring cash \nIf you have any questions\, you can message me at +34 631 546 465 (Ale 🧔🏽) \nFeel free to check out our past events or follow us on Instagram🤳: \nhttps://instagram.com/bcnqueersquad/ \nWe’ll share the photos 📷 and videos 📹 we take together through this WhatsApp group: \nhttps://chat.whatsapp.com/IV2BvYSlLyU373Diirw2a6 \nWho do you think will win this year? 🤔 🇦🇹 🇦🇱 🇮🇹 🇨🇭 🇦🇲 🇫🇷 🇵🇹 🇩🇪 🇧🇪 🇷🇸 🇬🇧 🇬🇷 🇭🇷 🇳🇴 🇺🇦 🇸🇪 🇨🇾 🇱🇹 🇵🇱 🇧🇬 🇫🇮 🇲🇩 🇦🇿 🇦🇺 🇱🇺 🇨🇿 🇩🇰 🇪🇪 🇬🇪 🇱🇻 🇲🇹 🇲🇪 🇷🇴 🇸🇲
URL:https://bcnqueersquad.com/evento/%f0%9f%93%ba-eurovision-%f0%9f%87%aa%f0%9f%87%ba-song-%f0%9f%8e%a4-contest-%f0%9f%8e%b6%f0%9f%8e%b5%f0%9f%a6%84%f0%9f%8c%88/
LOCATION:Bardo Llomiteria\, Carrer de Villarroel\, 223\, Barcelona\, Spain
CATEGORIES:Special
ATTACH;FMTTYPE=image/jpeg:https://bcnqueersquad.com/wp-content/uploads/2026/04/eurovision-austria-2026.jpg
END:VEVENT
BEGIN:VEVENT
DTSTART;TZID=Europe/Madrid:20260522T193000
DTEND;TZID=Europe/Madrid:20260523T030000
DTSTAMP:20260421T190810
CREATED:20260403T070000Z
LAST-MODIFIED:20260403T070000Z
UID:1100-1779478200-1779505200@bcnqueersquad.com
SUMMARY:Gay Men 👬 Speed 🛎 Dating 💕 Citas💘 Rápidas⏳️ para Hombres Gay 💑
DESCRIPTION:🇪🇸 (🇬🇧 version below ⬇) \n¡Hola a todos! 🤗 \n¿Te cuesta encontrar tiempo ⌛ para conocer a esa persona especial debido a tu carrera 🧑🏻‍💻 y/o tu ajetreada vida social 🤵🏻‍♂️? ¿Estás harto de los interminables chats en las aplicaciones de citas que no llevan a ningún lado? 😩 \nEl viernes 22 de mayo\, el amor estará en el aire 💓 en nuestras Citas Rapidas ⏳ para Hombres Gay 👬! 🥳 \nLas citas rápidas son una forma comprobada para conocer a tu pareja perfecta 💘: te ahorran dinero 🫰🏼 y tiempo ⌚ y son menos incómodas que quedar con alguien y luego querer escaparse por la ventana del baño 🪟 \n📍 Nos reuniremos a partir de las 19:30 h en el bar Forastera (Carrer de Sancho de Ávila\, 22) \nLas citas rápidas tendrán lugar entre las 20 y las 22:30 h: puedes juntarte a lo largo del evento 🗽\, pero cuanto antes\, mejor (+⏳ = +👨🏻‍💼) 😏 \nCÓMO FUNCIONA \n\nCuando llegues al bar\, te daré la bienvenida y la etiqueta con tu nombre\nCada «cita» durará 5 minutos y estará marcada por una campanita 🛎\nSi ambos lo quieren\, podréis prolongar la cita con la misma persona solo una vez\nEn cada mesa habrá tarjetas 🗃 con preguntas ❓ que podéis usar para darle un poco de chispa 🧨: algunas son para encontrar semejanzas 💖 (soft) otras son picantes 🌶 (hard). Ambos deben estar de acuerdo con el tema 🤝\nAdemás\, en cada mesa habrá post-its y bolis para tomar nota 💌\n\nAl finalizar las citas rápidas\, puedes quedarte para conocernos mejor 🫂 a través de nuestros divertidísimos juegos en grupo 🥳🥂🥴🤣 \nPodrás recibir las fotos 📷 / vídeos 📹 que hagamos juntos a través de este grupo de WhatsApp:\nhttps://chat.whatsapp.com/JvH5EqcAFN26gyHUJcnalf \nMUY IMPORTANTE 🤑 \nPuedes pagar la cuota de participación de 10 € al llegar en efectivo 💶 (NO Bizum NO Tarjeta 💳) \nTrae a un amigo gratis 🆓️: válido para un nuevo miembro 😉 \n💥NUESTRAS TARJETAS DE FIDELIDAD💥 \n🎟️ Combo de 3: Por 18 € y podrás disfrutar de este evento + otros 2 de 6 euros durante los próximos 2 meses\n🎟️ Tarjeta Anual BQS: ¡10 eventos + 1 GRATIS! Solo 54 € por un año completo de experiencias junt@s 🤗 (incluye este evento 😮) \nSi necesitas más información\, puedes escribirme por WhatsApp en el +34631546465 (Ale 🧔🏽‍♂️) \nPodrás echar un vistazo a nuestros eventos y seguirnos en Instagram🤳🏼: \nhttps://www.instagram.com/bcnqueersquad/ \n¡No dejes pasar esta oportunidad de conocer a tu futura pareja 👨‍❤️‍💋‍👨 y/o nuevos amigos! 😃 \n🇬🇧 \nHello everyone! 🤗 \nAre you struggling to find time ⌛ to meet that special someone due to your busy career 🧑🏻‍💻 &/or your florid social life 🤵🏻‍♂️? Are you fed up with endless chats on online dating apps that lead nowhere 😩? \nOn Friday\, May 22nd\, love will be in the air 💓 at our Speed Dating ⏳ for Gay Men 👬! 🥳 \nSpeed dating is a proven way to meet your perfect match 💘: it saves you money 🫰🏼 & time ⌚\, & it’s less awkward than those terrible dates where we’d love to escape through the bathroom window 🪟 \n📍 We’ll meet from 7:30 PM at the bar Forastera (Carrer de Sancho de Ávila\, 22) \nSpeed dating will take place between 8 PM & 10:30 PM: you can join anytime during the event 🗽\, but the sooner the better (+⏳ = +👨🏻‍💼) 😏 \nHOW IT WORKS \n\nWhen you arrive at the bar\, I’ll welcome you & give you a name tag (not mandatory)\nEach «date» will last 5 minutes & will be marked by a bell 🛎\nIf both of you want\, you can extend the date with the same person only once\nAt each table\, there will be cards 🗃 with questions ❓ that you can use to spice things up 🧨: some are to find similarities 💖 (soft)\, others are spicy 🌶 (hard). You both must agree on the topic 🤝\nAdditionally\, at each table\, there will be post-its & pens to take notes 💌\n\nOnce the speed dates are over\, you can stay to get to know each other better 🫂 through our fun group games 🥳🥂🥴🤣 \nAt the end of the event\, you can receive the photos 📷 / videos 📹 that we take together through this WhatsApp group: \nhttps://chat.whatsapp.com/JvH5EqcAFN26gyHUJcnalf \nVERY IMPORTANT 🤑 \nYou can pay the 10 € participation fee upon arrival in cash 💶 (NO Bizum\, NO credit card 💳). \nBring a friend for free 🆓️: valid for one new member 😉 \n💥OUR LOYALTY CARDS💥 \n🎟️ 3-Pack Combo: For €18\, you can enjoy this event plus two more for €6 over the next 2 months.\n🎟️ BQS Annual Card: 10 events + 1 FREE! Only €54 for a full year of experiences together 🤗 (includes this event 😮) \nIf you need more information\, you can write to me on WhatsApp at +34631546465 (Ale 🧔🏽‍♂️) \nYou can check out our events & follow us on Instagram🤳🏼: \nhttps://www.instagram.com/bcnqueersquad/ \nDon’t miss this opportunity to meet your future partner 👨‍❤️‍💋‍👨 &/or new friends! 😃
URL:https://bcnqueersquad.com/evento/gay-men-speed-dating-mayo-2026/
LOCATION:Forastera\, Carrer de Sancho de Ávila\, 22\, Barcelona\, Spain
CATEGORIES:Special
ATTACH;FMTTYPE=image/jpeg:https://bcnqueersquad.com/wp-content/uploads/2025/09/gay-speed-dating-2-scaled.jpg
END:VEVENT
BEGIN:VEVENT
DTSTART;TZID=Europe/Madrid:20260524T153000
DTEND;TZID=Europe/Madrid:20260524T193000
DTSTAMP:20260421T190810
CREATED:20260403T070616Z
LAST-MODIFIED:20260403T070616Z
UID:1104-1779636600-1779651000@bcnqueersquad.com
SUMMARY:Vóley 🏐 Playa 🏖️ Queer 🌈 Beach 🌴 Volley 🏐
DESCRIPTION:🇪🇸 (🇬🇧 version below ⬇) \n¡Hola a tod@s! 👋 \n¿Te apetece disfrutar de un día de playa 🏖☀ jugando a vóley 🏐 y conociendo nuev@s amig@s de la comunidad 🌈? 🫂 \nEl domingo 24 de mayo únete a nuestra fantástica quedada de Vóley 🏐 Playa 🌴 Queer 🏳‍🌈 🌊🐚🥳 \nAceptamos a tod@s\, sin discriminación por niveles 🐣🦸‍♀️ \nJugar NO es obligatorio: puedes venir tan solo para disfrutar de la playa 🏊🏼🌞 y socializar 🗣😉 \n📍 Nos encontraremos desde las 15:30 al lado del espigón de la Marbella\, dónde la base nautica (https://maps.app.goo.gl/udgLQXz495v4Mm8h8) donde podréis reconocer el grupo por nuestro paraguas arcoíris abierto 🌈☂ \nPuedes juntarte a nosotr@s en cualquier momento durante la tarde 🗽 \nPara estar en contacto con el grupo\, además de obtener las fotos 📷 y vídeos 📹 que hagamos junt@s\, júntate a este Grupo de WhatsApp: \nhttps://chat.whatsapp.com/E0kl8RTLkO56W1vhP2Xw8c \nDependiendo de cuantas personas seamos y de la disponibilidad de más canchas\, nos dividiremos entre expert@s y principiantes\, o nos quedaremos junt@s. \nDisponemos de nuestra propia red 🥅 con palos y de un par de pelotas 🏐\, pero si tu también tienes\, siéntete libre de traer 😃 \nAdemás\, puedes traer alguito para compartir\, si quieres 🍟🍢🍻😋 \n🔚 Estaremos jugando hasta la puesta del sol 🌅\, pero podrás irte cuando más te convenga 😉 \n📝 QUE TRAER \nGorra 👒🧢\, gafas de sol 🕶\, bañador🩱🩲\, rodilleras y manguitos de protección\, toalla\, calzado adecuado 👟 (también puedes jugar descalz@ 👣)\, crema solar🧴\, ropa de recambio 👕👖 y agua 💧 \nMUY IMPORTANTE 🤑 \nPodrás pagar tu cuota de participación de 6 euros a tu llegada en efectivo 💶 (NO Bizum / NO Tarjeta de Crédito) \nTrae a un amig@ gratis 🆓️: válido para un nuev@ miembr@ 😉 \n💥 NUESTRAS TARJETAS DE FIDELIDAD 💥 \n🎟️ ¡4 eventos por el precio de 3! Paga 18 € y cada evento te sale a solo 4\,50 €; úsala cuando quieras durante 2 meses. \n🎟️ Tarjeta Anual BQS: ¡10 eventos + 1 GRATIS! Solo 54 € por un año completo de experiencias junt@s 🤗 \n✅ Ahorra dinero\n✅ Olvídate de tener que traer efectivo \nPara más información\, puedes escribirme por WhatsApp en el +34631546465 (Ale 🧔🏽‍♂️) \n¿Quieres ver para creer? 👀 Échale un vistazo a nuestro Instagram 🤳\nhttps://www.instagram.com/bcnqueersquad/ \n¡Vente a disfrutar del sol 🌞\, del mar 🌊 y del deporte con nosotr@s! 🤗 \n🇬🇧 \nHi everyone! 👋 \nDo you fancy enjoying a day at the beach 🏖☀ playing volleyball 🏐 and meeting new queer 🌈 friends? 🫂 \nOn Sunday\, May 24th\, join our fantastic Queer 🏳‍🌈 Beach 🏖 Volley 🏐 gathering 🌊🐚🥳 \nWe welcome everyone\, regardless of their level 🐣🦸‍♀️ \nPlaying is NOT mandatory: you can come just to enjoy the beach 🏊🏼🌞 and socialize 🗣😉 \n📍 We’ll meet from 3:30 PM next to the Marbella breakwater (https://maps.app.goo.gl/udgLQXz495v4Mm8h8) where you’ll be able to find us by looking for our open rainbow umbrella 🌈☂ \nYou can join us anytime during the afternoon 🗽 \nIn order to stay in touch with the group\, as well as get the photos 📷 and videos 📹 we take together\, join this Group of WhatsApp: \nhttps://chat.whatsapp.com/E0kl8RTLkO56W1vhP2Xw8c \nDepending on the number of people and the availability of additional courts\, we’ll split between experts and beginners\, or we’ll stay together. \nWe have our own net 🥅 with poles and a couple of balls 🏐\, but if you have any too\, feel free to bring them 😃 \nAlso\, you can bring something to share\, if you want 🍟🍢🍻😋 \n🔚 We’ll be playing until sunset 🌅\, but you can leave whenever suits you best 😉 \n📝 WHAT TO BRING \nCap 👒🧢\, sunglasses 🕶\, swimsuit 🩱🩲\, knee pads and arm warmers\, towel\, appropriate footwear 👟 (you can also play barefoot 👣)\, sunscreen 🧴\, a change of clothes 👕👖\, and water 💧 \nVERY IMPORTANT 🤑 \nYou’ll be able to pay your participation fee of 6 euros upon arrival in cash 💶 (NO Bizum / NO Credit Card) \nBring a friend for free 🆓️: valid for one new member 😉 \n💥 OUR LOYALTY CARDS 💥 \n🎟️ 4 events for the price of 3! Pay €18 and each event is only €4.50; use it whenever you want for 2 months. \n🎟️ BQS Annual Card: 10 events + 1 FREE! Only €54 for a full year of experiences together 🤗 \n✅ Save money\n✅ Forget about bringing cash \nFor more information\, you can write to me on WhatsApp at +34631546465 (Ale 🧔🏽‍♂️) \nWant to see it to believe it? 👀 Check out our Instagram 🤳\nhttps://www.instagram.com/bcnqueersquad/ \nCome enjoy the sun 🌞\, the sea 🌊\, and sports 🤸‍♀️ with us! 🤗
URL:https://bcnqueersquad.com/evento/voley-playa-queer-beach-volley-mayo-2026/
LOCATION:Espigón de la Marbella\, Av. del Litoral\, al lado de la Base Nàutica Municipal de Barcelona\, Barcelona\, 08005\, Spain
CATEGORIES:Classic
ATTACH;FMTTYPE=image/jpeg:https://bcnqueersquad.com/wp-content/uploads/2025/09/beach-voley-playa.jpg
END:VEVENT
END:VCALENDAR