BEGIN:VCALENDAR
VERSION:2.0
PRODID:-//Barcelona Queer Squad - ECPv6.14.2//NONSGML v1.0//EN
CALSCALE:GREGORIAN
METHOD:PUBLISH
X-WR-CALNAME:Barcelona Queer Squad
X-ORIGINAL-URL:https://bcnqueersquad.com
X-WR-CALDESC:Eventos para Barcelona Queer Squad
REFRESH-INTERVAL;VALUE=DURATION:PT1H
X-Robots-Tag:noindex
X-PUBLISHED-TTL:PT1H
BEGIN:VTIMEZONE
TZID:Europe/Madrid
BEGIN:DAYLIGHT
TZOFFSETFROM:+0100
TZOFFSETTO:+0200
TZNAME:CEST
DTSTART:20260329T010000
END:DAYLIGHT
BEGIN:STANDARD
TZOFFSETFROM:+0200
TZOFFSETTO:+0100
TZNAME:CET
DTSTART:20261025T010000
END:STANDARD
END:VTIMEZONE
BEGIN:VEVENT
DTSTART;TZID=Europe/Madrid:20260524T153000
DTEND;TZID=Europe/Madrid:20260524T193000
DTSTAMP:20260421T171927
CREATED:20260403T070616Z
LAST-MODIFIED:20260403T070616Z
UID:1104-1779636600-1779651000@bcnqueersquad.com
SUMMARY:Vóley 🏐 Playa 🏖️ Queer 🌈 Beach 🌴 Volley 🏐
DESCRIPTION:🇪🇸 (🇬🇧 version below ⬇) \n¡Hola a tod@s! 👋 \n¿Te apetece disfrutar de un día de playa 🏖☀ jugando a vóley 🏐 y conociendo nuev@s amig@s de la comunidad 🌈? 🫂 \nEl domingo 24 de mayo únete a nuestra fantástica quedada de Vóley 🏐 Playa 🌴 Queer 🏳‍🌈 🌊🐚🥳 \nAceptamos a tod@s\, sin discriminación por niveles 🐣🦸‍♀️ \nJugar NO es obligatorio: puedes venir tan solo para disfrutar de la playa 🏊🏼🌞 y socializar 🗣😉 \n📍 Nos encontraremos desde las 15:30 al lado del espigón de la Marbella\, dónde la base nautica (https://maps.app.goo.gl/udgLQXz495v4Mm8h8) donde podréis reconocer el grupo por nuestro paraguas arcoíris abierto 🌈☂ \nPuedes juntarte a nosotr@s en cualquier momento durante la tarde 🗽 \nPara estar en contacto con el grupo\, además de obtener las fotos 📷 y vídeos 📹 que hagamos junt@s\, júntate a este Grupo de WhatsApp: \nhttps://chat.whatsapp.com/E0kl8RTLkO56W1vhP2Xw8c \nDependiendo de cuantas personas seamos y de la disponibilidad de más canchas\, nos dividiremos entre expert@s y principiantes\, o nos quedaremos junt@s. \nDisponemos de nuestra propia red 🥅 con palos y de un par de pelotas 🏐\, pero si tu también tienes\, siéntete libre de traer 😃 \nAdemás\, puedes traer alguito para compartir\, si quieres 🍟🍢🍻😋 \n🔚 Estaremos jugando hasta la puesta del sol 🌅\, pero podrás irte cuando más te convenga 😉 \n📝 QUE TRAER \nGorra 👒🧢\, gafas de sol 🕶\, bañador🩱🩲\, rodilleras y manguitos de protección\, toalla\, calzado adecuado 👟 (también puedes jugar descalz@ 👣)\, crema solar🧴\, ropa de recambio 👕👖 y agua 💧 \nMUY IMPORTANTE 🤑 \nPodrás pagar tu cuota de participación de 6 euros a tu llegada en efectivo 💶 (NO Bizum / NO Tarjeta de Crédito) \nTrae a un amig@ gratis 🆓️: válido para un nuev@ miembr@ 😉 \n💥 NUESTRAS TARJETAS DE FIDELIDAD 💥 \n🎟️ ¡4 eventos por el precio de 3! Paga 18 € y cada evento te sale a solo 4\,50 €; úsala cuando quieras durante 2 meses. \n🎟️ Tarjeta Anual BQS: ¡10 eventos + 1 GRATIS! Solo 54 € por un año completo de experiencias junt@s 🤗 \n✅ Ahorra dinero\n✅ Olvídate de tener que traer efectivo \nPara más información\, puedes escribirme por WhatsApp en el +34631546465 (Ale 🧔🏽‍♂️) \n¿Quieres ver para creer? 👀 Échale un vistazo a nuestro Instagram 🤳\nhttps://www.instagram.com/bcnqueersquad/ \n¡Vente a disfrutar del sol 🌞\, del mar 🌊 y del deporte con nosotr@s! 🤗 \n🇬🇧 \nHi everyone! 👋 \nDo you fancy enjoying a day at the beach 🏖☀ playing volleyball 🏐 and meeting new queer 🌈 friends? 🫂 \nOn Sunday\, May 24th\, join our fantastic Queer 🏳‍🌈 Beach 🏖 Volley 🏐 gathering 🌊🐚🥳 \nWe welcome everyone\, regardless of their level 🐣🦸‍♀️ \nPlaying is NOT mandatory: you can come just to enjoy the beach 🏊🏼🌞 and socialize 🗣😉 \n📍 We’ll meet from 3:30 PM next to the Marbella breakwater (https://maps.app.goo.gl/udgLQXz495v4Mm8h8) where you’ll be able to find us by looking for our open rainbow umbrella 🌈☂ \nYou can join us anytime during the afternoon 🗽 \nIn order to stay in touch with the group\, as well as get the photos 📷 and videos 📹 we take together\, join this Group of WhatsApp: \nhttps://chat.whatsapp.com/E0kl8RTLkO56W1vhP2Xw8c \nDepending on the number of people and the availability of additional courts\, we’ll split between experts and beginners\, or we’ll stay together. \nWe have our own net 🥅 with poles and a couple of balls 🏐\, but if you have any too\, feel free to bring them 😃 \nAlso\, you can bring something to share\, if you want 🍟🍢🍻😋 \n🔚 We’ll be playing until sunset 🌅\, but you can leave whenever suits you best 😉 \n📝 WHAT TO BRING \nCap 👒🧢\, sunglasses 🕶\, swimsuit 🩱🩲\, knee pads and arm warmers\, towel\, appropriate footwear 👟 (you can also play barefoot 👣)\, sunscreen 🧴\, a change of clothes 👕👖\, and water 💧 \nVERY IMPORTANT 🤑 \nYou’ll be able to pay your participation fee of 6 euros upon arrival in cash 💶 (NO Bizum / NO Credit Card) \nBring a friend for free 🆓️: valid for one new member 😉 \n💥 OUR LOYALTY CARDS 💥 \n🎟️ 4 events for the price of 3! Pay €18 and each event is only €4.50; use it whenever you want for 2 months. \n🎟️ BQS Annual Card: 10 events + 1 FREE! Only €54 for a full year of experiences together 🤗 \n✅ Save money\n✅ Forget about bringing cash \nFor more information\, you can write to me on WhatsApp at +34631546465 (Ale 🧔🏽‍♂️) \nWant to see it to believe it? 👀 Check out our Instagram 🤳\nhttps://www.instagram.com/bcnqueersquad/ \nCome enjoy the sun 🌞\, the sea 🌊\, and sports 🤸‍♀️ with us! 🤗
URL:https://bcnqueersquad.com/evento/voley-playa-queer-beach-volley-mayo-2026/
LOCATION:Espigón de la Marbella\, Av. del Litoral\, al lado de la Base Nàutica Municipal de Barcelona\, Barcelona\, 08005\, Spain
CATEGORIES:Classic
ATTACH;FMTTYPE=image/jpeg:https://bcnqueersquad.com/wp-content/uploads/2025/09/beach-voley-playa.jpg
END:VEVENT
BEGIN:VEVENT
DTSTART;TZID=Europe/Madrid:20260605T193000
DTEND;TZID=Europe/Madrid:20260606T030000
DTSTAMP:20260421T171927
CREATED:20260403T063221Z
LAST-MODIFIED:20260412T101105Z
UID:1092-1780687800-1780714800@bcnqueersquad.com
SUMMARY:Queer 🏳️‍🌈 Boardgames 🎲 & Karaoke🎤 Juegos de Mesa🃏 LGBT+🌈 y Karaoke👨🏼‍🎤
DESCRIPTION:🇪🇸 (🇬🇧 version below 👇🏼) \n¡Hola a tod@s! 😃 \n¿Te gustaría conocer a otras personas LGBT+ 🏳️‍🌈 con tu misma pasión por los juegos de mesa 🃏? Y si tuvieras también la oportunidad de cantar? 🎙️ \nEl viernes 5 de junio lo pasaremos pipa en nuestra quedada de Juegos de mesa 🎲 LGBT+ 🌈 y Karaoke 🎤! 🎊🥳 \nPodrás unirte/irte del evento cuando quieras 🗽 \n📍 Nos reuniremos a partir de las 19:30h en S Bar\, La Rouge (Rambla del Raval\, 10) donde podremos jugar adentro o aprovechar su fantastica terraza 🌃 con aire acondicionado natural 🌬 y diseño de exteriores 🌴🌳 🤩 \nNuestros juegos incluyen: Catán 🎲\, Exploding Kittens 🙀\, Cards Against Humanity 🤣\, Gestos 🤟\, Pictionary ✏️\, Jenga\, Love Letter 💌\, Carcassonne\, Virus 🦠\, Cluedo\, Azul\, Uno 🃏\, Taboo 💬 (🇪🇸 y 🇬🇧)\, Ticket to Ride 🚂 y un juego más a cada evento 😮 \n¡No dudes en traer tus juegos para divertirnos aún más! 😁 \n⚠️ Se requiere mínimo una consumición en el bar 🍷🍺🍸🍹🥃🍟🍢 \nSi te gusta cantar 👩🏻‍🎤👨🏼‍🎤\, podrás enseñar tu voz al grupo GRATIS 🆓 después (o durante) de los partidos 🎤🎶🎵 \nAlrededor de media noche\, l@s que queramos\, podemos ir a bailar junt@s 💃🕺🔊🎧🎶🎵 \nMUY IMPORTANTE 🤑 \nPuedes pagar la cuota de participación de 6 euros al llegar en efectivo 💶 (NO Bizum NO tarjeta de crédito 💳) \nTrae a un amig@ gratis 🆓️: válido para un nuev@ miembr@ 😉 \n💥¡LAS TARJETAS DE FIDELIDAD YA ESTÁN AQUÍ!💥 \n🎟️ ¡4 eventos por el precio de 3! Paga 18 € y cada evento te sale a solo 4\,50 €; úsala cuando quieras durante 2 meses. \n🎟️ Tarjeta Anual BQS: ¡10 eventos + 1 GRATIS! Solo 54 € por un año completo de experiencias junt@s 🤗 \n✅ Ahorra dinero\n✅ Olvídate de tener que traer efectivo\n✅ Consigue merchandising BQS gratis 👕🧢 y más descuentos al asistir a más de 10 eventos🤩 \nSi necesitas más información\, puedes escribirme por WhatsApp en el +34631546465 (Ale 🧔🏽‍♂️) \nÚnete a nuestro Grupo de WhatsApp para recibir fotos/vídeos 📷 que hagamos junt@s y mantenerte en contacto con tus nuev@s amig@s a través de este enlace: \nhttps://chat.whatsapp.com/L66J083tzQh1oecI3EjbXD \nPodrás echar un vistazo a nuestros eventos a través de nuestro Instagram🤳🏼: \nhttps://www.instagram.com/bcnqueersquad/ \nMe muero por jugar a juegos de mesa y divertirnos junt@s\, ¿y tú? 😉 \n🇬🇧 \nHi everyone! 😃 \nWould you like to find other queer people 🏳️‍🌈 with a passion for board games 🃏? What if you could sing 👩‍🎤 & go clubbing too? 👯‍♂ \nOn Friday\, June 5th we’ll have a blast at our Queer 🌈 Board Games 🎲 with Karaoke 🎤! 🎊🥳 \nYou can join/leave the event any time you want 🗽 \n📍 We will meet from 7:30 p.m. at S Bar La Rouge (Rambla del Raval\, 10) where we can play inside or take advantage of its fantastic terrace 🌃 with natural «air conditioning» 🌬 and «exterior» design 🌴🌳 🤩 \nOur games include: Catán 🎲\, Exploding Kittens 🙀\, Cards Against Humanity 🤣\, Pictionary ✏️\, Jenga\, Gestures 🤟\, Love Letter 💌\, Virus 🦠\, Carcassonne\, Cluedo\, Azul\, Uno 🃏\, Taboo 💬 (🇪🇸 & 🇬🇧)\, Ticket to Ride 🚂 & there will be a new game each event 😮 \nFeel free to bring your games too for even more fun! 😁 \n⚠️ Minimum one consumption required on premises 🍷🍺🍸🍹🥃🍟🍢 \nIf you like singing 👩🏻‍🎤👨🏼‍🎤\, you can showcase your voice after (or during) the games 🎤🎶🎵 FOR FREE 🆓 \nAround midnight\, those of us who are keen\, we can go clubbing together 💃🕺🔊🎧🎶🎵 \nVERY IMPORTANT 🤑 \nYou can pay the participation fee of 6 euros upon arrival in cash 💶 (NO Bizum / NO Credit Card 💳) \nBring a friend for free 🆓️: valid for one new member 😉 \n💥LOYALTY CARDS ARE HERE!💥 \n🎟️ 4 events for the price of 3! Pay €18 and each event is only €4.50; use it whenever you want for 2 months. \n🎟️ BQS Annual Card: 10 events + 1 FREE! Only €54 for a full year of experiences together 🤗 \n✅ Save money\n✅ Forget about bringing cash\n✅ Get free BQS merchandise 👕🧢 and more discounts when you attend more than 10 events 🤩 \nIf you need more information\, you can write to me on WhatsApp at +34631546465 (Ale). \nJoin our WhatsApp Group to receive photos/videos 📷 that we take together and keep in contact with your new friends through this link: \nhttps://chat.whatsapp.com/L66J083tzQh1oecI3EjbXD \nYou can take a look at our events and keep updated on our future activities through the Highlights on our Instagram🤳🏼: \nhttps://www.instagram.com/bcnqueersquad/?utm_source=qr&igshid=ZDc4ODBmNjlmNQ%3D%3D \nI can’t wait to play boardgames and have fun together\, don’t you? 😉
URL:https://bcnqueersquad.com/evento/queer-boardgames-karaoke-junio-2026/
LOCATION:S Bar La Rouge\, Rambla del Raval\, 10\, Barcelona\, 08001\, Spain
CATEGORIES:Classic
ATTACH;FMTTYPE=image/jpeg:https://bcnqueersquad.com/wp-content/uploads/2025/09/boardgames-karaoke-scaled.jpg
END:VEVENT
END:VCALENDAR