BEGIN:VCALENDAR
VERSION:2.0
PRODID:-//Barcelona Queer Squad - ECPv6.14.2//NONSGML v1.0//EN
CALSCALE:GREGORIAN
METHOD:PUBLISH
X-WR-CALNAME:Barcelona Queer Squad
X-ORIGINAL-URL:https://bcnqueersquad.com
X-WR-CALDESC:Eventos para Barcelona Queer Squad
REFRESH-INTERVAL;VALUE=DURATION:PT1H
X-Robots-Tag:noindex
X-PUBLISHED-TTL:PT1H
BEGIN:VTIMEZONE
TZID:Europe/Madrid
BEGIN:DAYLIGHT
TZOFFSETFROM:+0100
TZOFFSETTO:+0200
TZNAME:CEST
DTSTART:20260329T010000
END:DAYLIGHT
BEGIN:STANDARD
TZOFFSETFROM:+0200
TZOFFSETTO:+0100
TZNAME:CET
DTSTART:20261025T010000
END:STANDARD
END:VTIMEZONE
BEGIN:VEVENT
DTSTART;TZID=Europe/Madrid:20260214T103000
DTEND;TZID=Europe/Madrid:20260214T200000
DTSTAMP:20260421T230955
CREATED:20251205T170258Z
LAST-MODIFIED:20251205T170258Z
UID:873-1771065000-1771099200@bcnqueersquad.com
SUMMARY:🥳 Carnaval 🎭 de Sitges 🌈 Carnival 👯‍♂️ & Party💃🏻 Fiesta 🕺🏻 🎊🎉
DESCRIPTION:🇪🇸 (🇬🇧 version below ⬇) \n¡Hola a tod@s! 🤗 \n¿Te gustaría sumergirte en el folclore más loco del carnaval queer 🏳‍🌈 de Catalunya junto a l@s miembr@s de nuestra comunidad? 🫂🥳 \nEl sábado 14 de febrero participaremos en el 🎆 Carnaval 🎭 de Sitges 🏳‍🌈 🎇 \nComo también es San Valentín\, el tema de nuestro grupo este año será el amor 💘😻: puedes simplemente ponerte algo rojo 💃🏼 o rosado 🩷\, disfrazarte de Cupid@ 💌 o de lo que te dicte la imaginación 💡✨ (no es obligatorio). \nPodrás unirte al grupo y marcharte en cualquier momento durante el evento 🗽 \nNos mantendremos en contacto y compartiremos la ubicación en tiempo real 📍\, así como las fotos 📷 y vídeos 📹 que iremos haciendo a lo largo del día\, a través de este grupo de WhatsApp:\nhttps://chat.whatsapp.com/GubbzswgGBtCV1P8eDhbnS \n📍 Nos encontraremos a las 10:30 frente a la entrada de la estación de Sants 🚉 en la Plaça dels Països Catalans (https://goo.gl/maps/qB6z9Ajwq5H5ZViD9?coh=178571&entry=tt)\, donde os esperaremos con nuestro paraguas arcoíris abierto 🌈☂️ \nCada un@ deberá haber comprado su propio billete 🎟 \nCogeremos el tren hacia Sitges a las 11:06 🚂 \nNuestra primera etapa será la tradicional y divertidísima Carrera 🏁 de Camas 🛌🏼 Disfrazadas 🎭 \nHaremos una pausa para comer algo rico 🍽🥘🥗🍝 y luego seguiremos con el Baile del Fardo 🕺🏽💃🏼\, con sus hits carnavaleros 🪩🪇🪭y su sátira 🤣 y la fiesta de percusión Tequereque 🥁🪘 \nMUY IMPORTANTE 🤑 \nPodrás pagar la cuota de participación de 6 euros a tu llegada en efectivo 💶 (NO Bizum / NO tarjeta de crédito 💳). \nTrae a un@ amig@ gratis 🆓: válido para un@ nuev@ miembr@ 😉 \n💥 ¡LAS TARJETAS DE FIDELIDAD YA ESTÁN AQUÍ! 💥 \n🎟️ ¡4 eventos por el precio de 3!\nPaga 18 € y cada evento te sale por solo 4\,50 €. Úsala cuando quieras durante 2 meses.\n🎟️ Tarjeta Anual BQS: ¡10 eventos + 1 GRATIS!\nSolo 54 € por un año completo de experiencias junt@s 🤗 \n✅ Ahorra dinero\n✅ Olvídate de traer efectivo\n✅ Consigue merchandising BQS gratis 👕🧢 y más descuentos al asistir a más de 10 eventos 🤩 \nSi necesitas más información\, puedes escribirme por WhatsApp al +34 631 546 465 (Ale 🧔🏽‍♂️). \nAdemás\, puedes echar un vistazo a nuestros eventos pasados y seguirnos en Instagram 🤳🏼:\nhttps://instagram.com/bcnqueersquad \n¡No te pierdas esta experiencia inolvidable! 😃 \n🇬🇧 \nHello everyone! 🤗 \nWould you like to dive into the wildest folklore of Catalunya’s queer carnival 🏳‍🌈 together with the members of our community? 🫂🥳 \nOn Saturday\, February 14th\, we will be taking part in the 🎆 Sitges 🏳‍🌈 Carnival 🎭 🎇 \nSince it’s also Valentine’s Day\, the theme of our group this year will be love 💘😻: you can simply wear something red 💃🏼 or pink 🩷\, dress up as Cupid 💌\, or follow wherever your imagination leads you 💡✨ (not mandatory). \nYou may join the group and leave whenever you wish throughout the event 🗽 \nWe’ll stay in touch and share our real-time location 📍\, as well as the photos 📷 and videos 📹 we take throughout the day\, through this WhatsApp group:\nhttps://chat.whatsapp.com/GubbzswgGBtCV1P8eDhbnS \n📍 We will meet at 10:30 in front of the entrance to Sants station 🚉\, at Plaça dels Països Catalans (https://goo.gl/maps/qB6z9Ajwq5H5ZViD9?coh=178571&entry=tt)\, where we’ll be waiting with our rainbow umbrella open 🌈☂️ \nEach person must have purchased their own ticket 🎟 \nWe will take the train to Sitges at 11:06 🚂 \nOur first stop will be the traditional and super fun Disguised 🎭 Bed 🛌🏼 Race 🏁 \nWe’ll take a break to enjoy some delicious food 🍽🥘🥗🍝 and then continue with the Baile del Fardo 🕺🏽💃🏼\, with its carnival hits 🪩🪇🪭and satire 🤣\, and then the percussion party Tequereque 🥁🪘 \nVERY IMPORTANT 🤑 \nYou can pay the participation fee of 6 euros upon arrival in cash 💶 (NO Bizum / NO credit card 💳). \nBring a friend for free 🆓 — valid for a new member 😉 \n💥 THE LOYALTY CARDS ARE HERE! 💥 \n🎟️ 4 events for the price of 3!\nPay €18 and each event comes out to just €4.50. Use it anytime within 2 months.\n🎟️ BQS Annual Card: 10 events with 1 FREE!\nOnly €54 for a whole year of shared experiences 🤗 \n✅ Save money\n✅ Forget about carrying cash\n✅ Get free BQS merchandise 👕🧢 and more discounts when you attend more than 10 events 🤩 \nIf you need more information\, you can message me on WhatsApp at +34 631 546 465 (Ale 🧔🏽‍♂️). \nYou can also check out our past events and follow us on Instagram 🤳🏼:\nhttps://instagram.com/bcnqueersquad \nDon’t miss this unforgettable experience! 😃
URL:https://bcnqueersquad.com/evento/carnaval-sitges-2026/
LOCATION:Estación de Sants\, Plaça Dels Països Calatans\, Barcelona\, 08014\, Spain
CATEGORIES:Special
ATTACH;FMTTYPE=image/jpeg:https://bcnqueersquad.com/wp-content/uploads/2025/12/carnaval-sitges.jpg
END:VEVENT
END:VCALENDAR