BEGIN:VCALENDAR
VERSION:2.0
PRODID:-//Barcelona Queer Squad - ECPv6.14.2//NONSGML v1.0//EN
CALSCALE:GREGORIAN
METHOD:PUBLISH
X-ORIGINAL-URL:https://bcnqueersquad.com
X-WR-CALDESC:Eventos para Barcelona Queer Squad
REFRESH-INTERVAL;VALUE=DURATION:PT1H
X-Robots-Tag:noindex
X-PUBLISHED-TTL:PT1H
BEGIN:VTIMEZONE
TZID:Europe/Madrid
BEGIN:DAYLIGHT
TZOFFSETFROM:+0100
TZOFFSETTO:+0200
TZNAME:CEST
DTSTART:20260329T010000
END:DAYLIGHT
BEGIN:STANDARD
TZOFFSETFROM:+0200
TZOFFSETTO:+0100
TZNAME:CET
DTSTART:20261025T010000
END:STANDARD
END:VTIMEZONE
BEGIN:VEVENT
DTSTART;TZID=Europe/Madrid:20260516T200000
DTEND;TZID=Europe/Madrid:20260517T030000
DTSTAMP:20260421T205049
CREATED:20260403T065255Z
LAST-MODIFIED:20260412T123806Z
UID:1095-1778961600-1778986800@bcnqueersquad.com
SUMMARY:📺 EUROVISION 🇪🇺 SONG 🎤 CONTEST 🎶🎵🦄🌈
DESCRIPTION:🇪🇸 (🇬🇧 version below ⬇) \n¡Hola a tod@s! 🤗 \n¿Buscas buena compañía 🥂 para ver el Festival de la Canción 👩🏼‍🎤🎼🎙 más esperado de la comunidad LGBT+ 🏳‍🌈? 🥳 \nEl sábado 16 de mayo ¡veremos junt@s la Gran Final de Eurovisión! 🎵🪇🎊 \nEl Festival de la Canción de Eurovisión 🎶👨🏽‍🎤 es una gran oportunidad para conectar 🫂 entre europeos 🇪🇺 y personas de todo el mundo 🌐 a través del amor por la música 🎶 y la libertad 🗽 de expresarse 🦄🌈 \n📍 Nos reuniremos a partir de las 20:00 h en el Bardo Llomiteria (Carrer de Villarroel\, 223)\, donde podremos disfrutar del espectáculo mientras intercambiamos opiniones 🗣 sobre las canciones a concurso de este año 🎤🎵 (además\, apostaremos entre nosotr@s a qué canción será la ganadora 😁) \nPuedes entrar o salir del evento cuando quieras 🗽 \nEl espectáculo empezará a las 21:00 y terminará alrededor de medianoche \nDespués del espectáculo\, l@s que queramos/podamos\, iremos a bailar 🕺🏽💃🏽 en el Gayample 🪩🪭🪇 (como solemos hacer 🥳). \nMUY IMPORTANTE 🫰🏼🤑 \nEste evento tiene una cuota de participación de 6 euros que podrás pagar en situ el mismo día en efectivo 💶 \nTrae a un/a amig@ gratis 🆓️: válido si un@ es un/a nuev@ miembr@ 😉 \nNUESTRAS TARJETAS DE FIDELIDAD \n🎫 Tarjeta 4×3: paga 18 € y cada evento te sale a solo 4\,50 €; úsala cuando quieras durante 2 meses.\n🎫 Tarjeta Anual BQS: ¡10 eventos + 1 GRATIS! Solo 54 € por un año completo de experiencias junt@s \n✅️ Ahorra dinero\n✅️ Olvídate de tener que traer efectivo \nSi tienes cualquier duda\, puedes escribirme al +34 631 546 465 (Ale) 🧔🏽 \nY si quieres cotillear eventos anteriores o seguirnos en Instagram 🤳:\nhttps://instagram.com/bcnqueersquad/ \nCompartiremos las fotos 📷 y vídeos 📹 que haremos junt@s a través de este grupo de WhatsApp: \nhttps://chat.whatsapp.com/IV2BvYSlLyU373Diirw2a6 \n¿Quién crees que ganará este año? 🤔 🇦🇹 🇦🇱 🇮🇹 🇨🇭 🇦🇲 🇫🇷 🇵🇹 🇩🇪 🇧🇪 🇷🇸 🇬🇧 🇬🇷 🇭🇷 🇳🇴 🇺🇦 🇸🇪 🇨🇾 🇱🇹 🇵🇱 🇧🇬 🇫🇮 🇲🇩 🇦🇿 🇦🇺 🇱🇺 🇨🇿 🇩🇰 🇪🇪 🇬🇪 🇱🇻 🇲🇹 🇲🇪 🇷🇴 🇸🇲 \n🇬🇧 \nHi everyone! 🤗 \nLooking for good company 🥂 to watch the most anticipated LGBT+ 🏳‍🌈 song contest 👩🏼‍🎤🎼🎙? \nOn Saturday\, May 16th\, we’ll watch the Eurovision Grand Final together! 🎵🪇🎊 \nThe Eurovision Song Contest 🎶👨🏽‍🎤 is a great opportunity to connect 🫂 between Europeans 🇪🇺 and people from all over the world 🌐 through our love of music 🎶 and the freedom 🗽 of self-expression 🦄🌈 \n📍 We’ll meet from 8:00 PM onwards at Bardo Llomiteria (Carrer de Villarroel\, 223)\, where we can enjoy the show while exchanging opinions 🗣 about this year’s competing songs 🎤🎵 (of course\, we’ll bet on which song will win! 😁) \nYou can come and go as you please 🗽 \nThe show will start at 9:00 PM and will end after midnight \nAfter the show\, those of us who want to\, will go dancing 🕺🏽💃🏽 in the Gayample 🪩🪭🪇 (as we usually do 🥳). \nVERY IMPORTANT 🫰🏼🤑 \nThis event has a participation fee of €6 which you can pay on-site on the day in cash 💶 \nBring a friend for free: valid if one of you is a new member \nOUR LOYALTY CARDS 🤩 \n🎫 4×3 Card: pay €18 and each event costs you only €4.50; use it whenever you want for 2 months. \n🎫 BQS Annual Pass: 10 events + 1 FREE! Only €54 for a full year of experiences together! \n✅️ Save money\n✅️ Forget about having to bring cash \nIf you have any questions\, you can message me at +34 631 546 465 (Ale 🧔🏽) \nFeel free to check out our past events or follow us on Instagram🤳: \nhttps://instagram.com/bcnqueersquad/ \nWe’ll share the photos 📷 and videos 📹 we take together through this WhatsApp group: \nhttps://chat.whatsapp.com/IV2BvYSlLyU373Diirw2a6 \nWho do you think will win this year? 🤔 🇦🇹 🇦🇱 🇮🇹 🇨🇭 🇦🇲 🇫🇷 🇵🇹 🇩🇪 🇧🇪 🇷🇸 🇬🇧 🇬🇷 🇭🇷 🇳🇴 🇺🇦 🇸🇪 🇨🇾 🇱🇹 🇵🇱 🇧🇬 🇫🇮 🇲🇩 🇦🇿 🇦🇺 🇱🇺 🇨🇿 🇩🇰 🇪🇪 🇬🇪 🇱🇻 🇲🇹 🇲🇪 🇷🇴 🇸🇲
URL:https://bcnqueersquad.com/evento/%f0%9f%93%ba-eurovision-%f0%9f%87%aa%f0%9f%87%ba-song-%f0%9f%8e%a4-contest-%f0%9f%8e%b6%f0%9f%8e%b5%f0%9f%a6%84%f0%9f%8c%88/
LOCATION:Bardo Llomiteria\, Carrer de Villarroel\, 223\, Barcelona\, Spain
CATEGORIES:Special
ATTACH;FMTTYPE=image/jpeg:https://bcnqueersquad.com/wp-content/uploads/2026/04/eurovision-austria-2026.jpg
END:VEVENT
END:VCALENDAR