BEGIN:VCALENDAR
VERSION:2.0
PRODID:-//Barcelona Queer Squad - ECPv6.14.2//NONSGML v1.0//EN
CALSCALE:GREGORIAN
METHOD:PUBLISH
X-ORIGINAL-URL:https://bcnqueersquad.com
X-WR-CALDESC:Eventos para Barcelona Queer Squad
REFRESH-INTERVAL;VALUE=DURATION:PT1H
X-Robots-Tag:noindex
X-PUBLISHED-TTL:PT1H
BEGIN:VTIMEZONE
TZID:Europe/Madrid
BEGIN:DAYLIGHT
TZOFFSETFROM:+0100
TZOFFSETTO:+0200
TZNAME:CEST
DTSTART:20250330T010000
END:DAYLIGHT
BEGIN:STANDARD
TZOFFSETFROM:+0200
TZOFFSETTO:+0100
TZNAME:CET
DTSTART:20251026T010000
END:STANDARD
END:VTIMEZONE
BEGIN:VEVENT
DTSTART;TZID=Europe/Madrid:20251123T100000
DTEND;TZID=Europe/Madrid:20251123T200000
DTSTAMP:20260422T035822
CREATED:20251007T215703Z
LAST-MODIFIED:20251007T215703Z
UID:797-1763892000-1763928000@bcnqueersquad.com
SUMMARY:Ruta 🥾 de Otoño 🍁 en el Montseny 🏞️ Autumn 🍂 Hike 🥾 with Waterfalls 😍
DESCRIPTION:🇪🇸 (🇬🇧 version below ⬇) \n¡Hola a tod@s! 🤗 \n¿Te gustaría compartir con nuev@s amig@s 🫂 una ruta 🥾 pintada de los colores otoñales? 🍂 con cascadas maravillosas 😍? \nEl domingo 23 de noviembre júntate a nuestra Ruta 🥾 de Otoño 🍁 en el Montseny 🏞️ 🎊🎉 \nNuestro camino nos permitirá conocernos mientras nos sumergimos en la naturaleza encendida por el otoño 🍂 e incluirá saltos de agua impresionantes como el Salto del Diablo 🔥 \nCompartiremos nuestra posición en tiempo real 📍\, así como las fotos 📷 y videos 📹 que haremos a lo largo del día\, a través de este grupo de Whatsapp: \nhttps://chat.whatsapp.com/DMd50pIlXEyDAFVNx3wPax?mode=ems_wa_t \n📍 Nos encontraremos desde las 10:00 frente a la entrada de la estación de Sants 🚉 en la Plaça dels Països Catalans\, (https://goo.gl/maps/qB6z9Ajwq5H5ZViD9?coh=178571&entry=tt): nos podrás reconocer por nuestro paraguas arcoíris abierto 🌈☂ \nCada un@ tendrá que haber comprado su billete 🎟 dentro de las 10:35\, cuando nos encaminaremos hacia el andén. \nCogeremos el tren regional para Gualba de las 10:46 🚂 (aprox. 1 hora) \nPasaremos el día haciendo un recorrido 🥾 de aprox. 20 km entre ida y vuelta desde la estación (🔼 675 m · 🔽 675 m) \nComeremos en una de las zonas de picnic 🧺 en el camino \n🔚 Para la vuelta\, cogeremos el tren 🚊de las 17:47 o el bus 🚍 de las 18:45. \nQUE TRAER \nCalzado adecuado 🥾 (es mejor que sea antideslizante)\, Ropa cómoda 🚶🏻🚶🏽‍♀\, Gorro 👒🧢\, Gafas de sol 🕶\, Agua 🫗 y Comida 🧺🥨 🍎 \nMUY IMPORTANTE 🤑 \nPodrás pagar la cuota de participación de 10 euros al llegar en efectivo 💶 (NO Bizum NO tarjeta de crédito 💳) \nTrae a un amig@ gratis 🆓️: válido para un nuev@ miembr@ 😉 \n💥¡LAS TARJETAS DE FIDELIDAD YA ESTÁN AQUÍ!💥 \n🎟️ ¡4 eventos por el precio de 3! Paga 18 € y cada evento te sale a solo 4\,50 €; úsala cuando quieras durante 2 meses.\n🎟️ Tarjeta Anual BQS: ¡10 eventos + 1 GRATIS! Solo 54 € por un año completo de experiencias junt@s 🤗 (incluye este! 😮) \n✅ Ahorra dinero 🫰🏼\n✅ Olvídate de tener que traer efectivo 😃\n✅ Consigue gadgets BQS 👕🧢 y descuentos adicionales al asistir a más de 10 eventos🤩 \nPara más información\, puedes escribirme por WhatsApp en el +34631546465 (Ale 🧔🏽‍♂️) \n⚠ El seguro NO está incluido: cada participante decide si quiere contratarlo. El organizador no asume ninguna responsabilidad por cualquier daño o perjuicio que la práctica de la actividad pueda causar a sí mismo y/o a terceros\, aunque velará para evitarlos \n¡Ven y disfruta de esta increíble excursión con nosotr@s! 🥳 \n🇬🇧 \nHello everyone! 🤗 \nWould you like to meet new friends 🫂 walking on a hiking trail 🥾 painted with autumn colours 🍂 up until some stunning waterfalls 😍? \nOn Sunday\, November 23rd\, join us for our Autumn 🍁 Hiking Trip 🥾 in Montseny 🏞️ 🎊🎉 \nOur hike will allow us to get to know each other while immersing ourselves in nature\, all ablaze with autumn colors 🍂\, & will include impressive waterfalls like el Salt del Diable 🔥 \nWe will share our live location 📍\, as well as photos 📷 & videos 📹 taken throughout the day\, via this WhatsApp group: \nhttps://chat.whatsapp.com/DMd50pIlXEyDAFVNx3wPax?mode=ems_wa_t \n📍 We will meet from 10:00 AM in front of the Sants train station entrance 🚉 in Plaça dels Països Catalans (https://goo.gl/maps/qB6z9Ajwq5H5ZViD9?coh=178571&entry=tt): you can recognize us by our open rainbow umbrella 🌈☂ \nEach participant must have purchased their train ticket 🎟 by 10:35 AM\, when we will head to the platform \nWe will take the regional train to Gualba at 10:46 AM 🚂 (approx. 1 hour) \nWe will spend the day hiking 🥾 approximately 20 km (round trip) from the station (🔼 675 m · 🔽 675 m) \nWe will have lunch at one of the picnic areas 🧺 along the way. \n🔚 For the return trip\, we will take the train 🚊 at 5:47 PM or the bus 🚍 at 6:45 PM \nWHAT TO BRING \nAppropriate footwear 🥾 (non-slip recommended)\, Comfortable clothing 🚶🏻🚶🏽‍♀\, Hat 👒🧢\, Sunglasses 🕶\, Water 🫗 and Snacks 🧺🥨🍎 \nVERY IMPORTANT 🤑 \nYou can pay the participation fee of €10 upon arrival in cash 💶 (No Bizum\, NO credit card 💳) \nBring a friend for free 🆓: valid for one new member 😉 \n💥LOYALTY CARDS ARE NOW AVAILABLE!💥 \n🎟️ 4 events for the price of 3! Pay €18 & each event costs only €4.50; use it whenever you want for 2 months.\n🎟️ BQS Annual Card: 10 events + 1 FREE! Only €54 for a full year of experiences together 🤗 (this event included! 😮) \n✅ Save money 🫰🏼\n✅ Forget about bringing cash 😃\n✅ Get BQS merch 👕🧢 and additional discounts when you attend more than 10 events 🤩 \nFor more information\, you can message me on WhatsApp at +34631546465 (Ale 🧔🏽‍♂️) \n⚠ Insurance is NOT included: each participant decides whether to purchase it. The organizer assumes no responsibility for any damage or injury that may occur during the activity\, although he will take all necessary precautions to prevent them. \nCome and enjoy this amazing excursion with us! 🥳
URL:https://bcnqueersquad.com/evento/excursion-senderismo-lgbt-otono-2025/
LOCATION:Estación de Sants\, Plaça Dels Països Calatans\, Barcelona\, 08014\, Spain
ATTACH;FMTTYPE=image/jpeg:https://bcnqueersquad.com/wp-content/uploads/2025/10/gualba-otono.jpg
END:VEVENT
END:VCALENDAR