BEGIN:VCALENDAR
VERSION:2.0
PRODID:-//Barcelona Queer Squad - ECPv6.14.2//NONSGML v1.0//EN
CALSCALE:GREGORIAN
METHOD:PUBLISH
X-ORIGINAL-URL:https://bcnqueersquad.com
X-WR-CALDESC:Eventos para Barcelona Queer Squad
REFRESH-INTERVAL;VALUE=DURATION:PT1H
X-Robots-Tag:noindex
X-PUBLISHED-TTL:PT1H
BEGIN:VTIMEZONE
TZID:Europe/Madrid
BEGIN:DAYLIGHT
TZOFFSETFROM:+0100
TZOFFSETTO:+0200
TZNAME:CEST
DTSTART:20260329T010000
END:DAYLIGHT
BEGIN:STANDARD
TZOFFSETFROM:+0200
TZOFFSETTO:+0100
TZNAME:CET
DTSTART:20261025T010000
END:STANDARD
END:VTIMEZONE
BEGIN:VEVENT
DTSTART;TZID=Europe/Madrid:20260410T190000
DTEND;TZID=Europe/Madrid:20260411T030000
DTSTAMP:20260421T191351
CREATED:20260218T191646Z
LAST-MODIFIED:20260410T072144Z
UID:997-1775847600-1775876400@bcnqueersquad.com
SUMMARY:Paseo 👣 Artístico 🎨 Queer 🏳‍🌈 🌈 Artistic 🖼️ Walk🚶🏻‍♂️ & Party 🪭🪇💃🕺
DESCRIPTION:🇪🇸 (🇬🇧 version below) \n¡Hola a tod@s! 😃 \n¿Te apasiona el arte 👨🏻‍🎨👩🏼‍🎨 y te gustaría conocer a otras personas con tu misma afición? 🫂 ¿Y qué tal si además aprovechamos para salir de fiesta 🕺🏿💃🏼? 😁 \nEl viernes 10 de abril no te puedes perder nuestro Paseo 👣 Artístico 🎨 Queer 🏳‍🌈 + Juerga 🪇🪭🔊🎶👯 \nPodrás unirte o marcharte cuando quieras 🗽 \nPodrás recibir nuestra ubicación en tiempo real 📍\, así como las fotos 📷 y vídeos 📹 que hagamos junt@s\, a través de este grupo de WhatsApp 👇🏼\nhttps://chat.whatsapp.com/CUZW5tmLnn68pl6N1m64Sx \n🔰 Nos encontraremos a las 19:00 en la Galería Art Nou (Carrer d’Enric Granados\, 49)\, donde han reunido para nuestro grupo 😮 obras 🖼 relacionadas con el mundo LGBT+ 🏳️‍🌈 \nLuego iremos a la cercana Galería Imago Dei (C/ Diputació\, 187)\, donde podremos admirar la exposición Deseo ❤️‍🔥 del pintor madrileño Héctor López 👨‍🎨\, una exploración del cuerpo como territorio de tensión. \nAcabaremos nuestro paseo en el Centro Cívico Urgell\, que alberga la exposición Querida Barcelona\, de la artista peruana Rocío Quillahuaman 👩‍🎨\, quien quiere mostrar su relación agridulce con nuestra ciudad desde sus ojos de mujer inmigrante. \nTodas las exposiciones que visitaremos son totalmente gratuitas 🆓 \nUna vez cargad@s de inspiración artística\, iremos al restaurante El Punto Peruano 🇵🇪 (C/ de Muntaner\, 21)\, donde podremos charlar 🗣 y conocernos mejor 🫂 mientras tomamos algo 🍻🥂 y cenamos rico 🍽🥘🥗🍝 \nPara terminar la noche\, ¡vamos a darlo todo en la pista! 💃🕺 Elegiremos junt@s uno de los bares donde se puede bailar sin pagar entrada 🆓: El Cangrejo 🦀\, Museum\, Moeem o D’Men 👬 suelen ser nuestras opciones favoritas. \n🔔 MUY IMPORTANTE 🤑 \nPuedes pagar la cuota de participación de 6 euros al llegar en efectivo 💶 (NO Bizum\, NO tarjeta de crédito 💳). \n✨ Trae a un/a amig@ gratis 🆓: válido si un@ es un/a nuev@ miembr@ 😉 \n💥 NUESTRAS TARJETAS DE FIDELIDAD 💥 \n🎟️ Tarjeta 4×3: paga 18 € y cada evento te sale a solo 4\,50 €; úsala cuando quieras durante 2 meses.\n🎟️ Tarjeta Anual BQS: ¡10 eventos + 1 GRATIS! Solo 54 € por un año completo de experiencias junt@s 🤗 \n✅ Ahorra dinero\n✅ Olvídate de tener que traer efectivo \nSi tienes cualquier duda\, puedes escribirme al +34 631 546 465 (Ale) 📱 \nY si quieres cotillear eventos anteriores o seguirnos en Instagram 🤳🏼\n👉 https://instagram.com/bcnqueersquad/ \n¡No pierdas esta oportunidad de activar tus sentidos y estimular tu imaginación mientras creas nuevas conexiones! 😄🌈 \n🇬🇧 \nHi everyone! 😃 \nAre you passionate about art 👨🏻‍🎨👩🏼‍🎨 and would you like to meet other people who share your interests? 🫂 And how about making the most of it by going out and partying too? 🕺🏿💃🏼 😁 \nOn Friday\, April 10th\, you can’t miss our Queer 🏳‍🌈 Art 🎨 Walk 👣 + Party 🪇🪭🔊🎶👯 \nYou can join or leave whenever you like 🗽 \nWe’ll share our live location 📍 as well as photos 📷 and videos 📹 through this WhatsApp group 👇🏼\nhttps://chat.whatsapp.com/CUZW5tmLnn68pl6N1m64Sx \n🔰 We’ll meet at 7:00 PM at Galería Art Nou (Carrer d’Enric Granados\, 49)\, where they’ve gathered artworks related to the LGBT+ world 🏳️‍🌈 especially for our group 😮 \nThen we’ll head to the nearby Galería Imago Dei\, where we’ll admire the exhibition 🖼 Desire ❤️‍🔥 by Madrid-based painter Héctor López 👨‍🎨 — an exploration of the body as a territory of tension. \nWe’ll finish our walk at Centro Cívico Urgell\, which hosts the exhibition Dear Barcelona by Peruvian artist Rocío Quillahuaman 👩‍🎨\, who shares her bittersweet relationship with our city through the eyes of an immigrant woman. \nAll the exhibitions we’ll visit are completely free 🆓 \nOnce we’re filled with artistic inspiration\, we’ll head to the restaurant El Punto Peruano 🇵🇪 where we can chat 🗣 get to know each other better 🫂\, have some drinks 🍻🥂 and enjoy a delicious dinner 🍽🥘🥗🍝 \nTo end the night\, let’s give it our all on the dance floor! 💃🕺 We’ll choose together one of the bars where you can dance entrance fee 🆓: El Cangrejo 🦀\, Museum\, Moeem\, or D’Men 👬 are usually our favorite options. \n🔔 VERY IMPORTANT 🤑 \nYou can pay the €6 participation fee in cash upon arrival 💶 (NO Bizum\, NO credit card 💳) \n✨ Bring a friend for free 🆓: valid if one is a new member 😉 \n💥 LOYALTY CARDS ARE HERE! 💥 \n🎟️ 4 events for the price of 3: pay €18 and each event costs only €4.50; use it whenever you want within 2 months.\n🎟️ BQS Annual Card: 10 events + 1 FREE! Only €54 for a full year of experiences together 🤗 \n✅ Save money\n✅ Forget about bringing cash every time \nIf you have any questions\, you can message me at +34 631 546 465 (Ale) 📱 \nAnd if you’d like to check out previous events or follow us on Instagram 🤳🏼\n👉 https://instagram.com/bcnqueersquad/ \nDon’t miss this opportunity to awaken your senses\, spark your imagination\, and create new connections! 😄🌈
URL:https://bcnqueersquad.com/evento/paseo-artistico-queer-abril-2026/
LOCATION:Art Nou 277 Gallery\, Carrer d'Enric Granados\, 49\, Barcelona\, 08008\, Spain
CATEGORIES:Special
ATTACH;FMTTYPE=image/png:https://bcnqueersquad.com/wp-content/uploads/2026/02/paseo-artistico.png
END:VEVENT
END:VCALENDAR