BEGIN:VCALENDAR
VERSION:2.0
PRODID:-//Barcelona Queer Squad - ECPv6.14.2//NONSGML v1.0//EN
CALSCALE:GREGORIAN
METHOD:PUBLISH
X-WR-CALNAME:Barcelona Queer Squad
X-ORIGINAL-URL:https://bcnqueersquad.com
X-WR-CALDESC:Eventos para Barcelona Queer Squad
REFRESH-INTERVAL;VALUE=DURATION:PT1H
X-Robots-Tag:noindex
X-PUBLISHED-TTL:PT1H
BEGIN:VTIMEZONE
TZID:Europe/Madrid
BEGIN:DAYLIGHT
TZOFFSETFROM:+0100
TZOFFSETTO:+0200
TZNAME:CEST
DTSTART:20240331T010000
END:DAYLIGHT
BEGIN:STANDARD
TZOFFSETFROM:+0200
TZOFFSETTO:+0100
TZNAME:CET
DTSTART:20241027T010000
END:STANDARD
END:VTIMEZONE
BEGIN:VEVENT
DTSTART;TZID=Europe/Madrid:20241226T130000
DTEND;TZID=Europe/Madrid:20241226T160000
DTSTAMP:20260423T033206
CREATED:20241220T100544Z
LAST-MODIFIED:20241220T100544Z
UID:189-1735218000-1735228800@bcnqueersquad.com
SUMMARY:Welcome 🤗 Queer 🏳‍🌈 Refugees 🆘 Christmas 🎅🏿 Vermut 🥃
DESCRIPTION:🇬🇧 (versión en 🇪🇸 abajo ⬇) \nHello everyone! 🤗 \nHave you never sought asylum 🆘 but you’d like to welcome 🫶🏼 those who had to do it just because of their sexual orientation? 😱 Are you an LGBT+ 🌈 refugee 🙋🏿‍♀️🙋🏼‍♂️ and you’re on your own 😓 at Christmas 🤶🏽? \nOn Thursday\, December 26th we will have a very special event\, full of Christmas spirit 🎄\, our first Welcome 🤗 Queer 🏳‍🌈 Refugees 🆘 Christmas 🎅🏿 Vermut 🥃 🎉🎊 \nThis event is BCN Queer Squad’s gift 🎁 to Barcelona’s LGBT+ community 🏳‍🌈\, especially for those who are forced to be away from home just for being who they are 🥺 \nThis will be a great opportunity to join our tradition of meeting up around midday for a vermouth 🥃\, a red or white wine 🍷 flavoured with aromatic herbs 🌿 \n📍 We will meet from 13:00 at El Rinconcillo Mediterráneo (Carrer de Blai\, 30): you can ask to the bartender for our host Salva 👨🏻‍🦲 \n⚠ You must ask for at least one thing at the bar: you can have something to eat 🍕🥗🍝 (they have delicious 😋 homemade Italian 🇮🇹 food) or something to drink 🍻🥂 \nJoin our WhatsApp Group to receive photos/videos📷 and updates on upcoming events. If you are not yet in the group\, you can join through this link: \nhttps://chat.whatsapp.com/E0kl8RTLkO56W1vhP2Xw8c \nYou can take a look at our events and follow us on Instagram 🤳🏼: \nhttps://www.instagram.com/bcnqueersquad/?utm_source=qr&igshid=ZDc4ODBmNjlmNQ%3D%3D \nLet’s create real connections 🫂 and share beautiful moments together! 😃\n🇪🇸 \n¡Hola a tod@s! 🤗 \n¿Nunca has tenido que solicitar asilo 🆘 pero te gustaría acoger 🫶🏼 a quienes tuvieron que hacerlo solo por su orientación sexual? 😱 ¿Eres un@ refugiad@ 🙋🏿‍♀️🙋🏼‍♂️ LGBT+ 🌈 y estás sol@ 😓 en navidades 🤶🏽? \nEl jueves 26 de diciembre tendremos un evento muy especial\, lleno de espíritu navideño 🎄\, nuestro primer ** Vermut 🥃 Navideño 🎅🏿 de Bienvenida 🤗 a l@s refugiad@s 🆘 LGBT+ 🏳‍🌈 ** 🎉🎊 \nEste evento es un regalo de parte de BCN Queer Squad 🎁 para la comunidad LGTB+ 🏳‍🌈 de Barcelona\, especialmente para aquellas personas que se ven obligadas a estar lejos de casa solo por ser quienes son 🥺 \nSerá una gran oportunidad para sumarte a nuestra tradición de quedar alrededor del mediodía para tomar un vermut 🥃\, un vino tinto o blanco 🍷 aromatizado con hierbas aromáticas 🌿 \n📍 Nos encontraremos a partir de las 13:00 en El Rinconcillo Mediterráneo (Carrer de Blai\, 30): puedes preguntar al camarero por nuestro anfitrión Salva 👨🏻‍🦲 \n⚠ Debes pedir al menos una cosa en la barra: puedes tomar algo de comer 🍕🥗🍝 (tienen comida italiana casera riquísima 😋) o algo de beber 🍻🥂 \nÚnete a nuestro Grupo de WhatsApp para recibir fotos/videos📷 y actualizaciones sobre próximos eventos. Si todavía no estás en el grupo\, puedes unirte a través de este enlace: \nhttps://chat.whatsapp.com/E0kl8RTLkO56W1vhP2Xw8c \nPuedes echar un vistazo a nuestros eventos y seguirnos en Instagram 🤳🏼: \nhttps://www.instagram.com/bcnqueersquad/?utm_source=qr&igshid=ZDc4ODBmNjlmNQ%3D%3D \n¡Vente a crear conexiones reales 🫂 y a compartir momentos bonitos junt@s! 😃
URL:https://bcnqueersquad.com/evento/welcome-%f0%9f%a4%97-queer-%f0%9f%8f%b3%f0%9f%8c%88-refugees-%f0%9f%86%98-christmas-%f0%9f%8e%85%f0%9f%8f%bf-vermut-%f0%9f%a5%83/
LOCATION:El Rinconcillo Mediterráneo\, Carrer de Blai 30\, Barcelona\, Barcelona\, 08004\, Spain
CATEGORIES:Special
ATTACH;FMTTYPE=image/png:https://bcnqueersquad.com/wp-content/uploads/2024/12/600_525044136.png
END:VEVENT
END:VCALENDAR