BEGIN:VCALENDAR
VERSION:2.0
PRODID:-//Barcelona Queer Squad - ECPv6.14.2//NONSGML v1.0//EN
CALSCALE:GREGORIAN
METHOD:PUBLISH
X-WR-CALNAME:Barcelona Queer Squad
X-ORIGINAL-URL:https://bcnqueersquad.com
X-WR-CALDESC:Eventos para Barcelona Queer Squad
REFRESH-INTERVAL;VALUE=DURATION:PT1H
X-Robots-Tag:noindex
X-PUBLISHED-TTL:PT1H
BEGIN:VTIMEZONE
TZID:Europe/Madrid
BEGIN:DAYLIGHT
TZOFFSETFROM:+0100
TZOFFSETTO:+0200
TZNAME:CEST
DTSTART:20250330T010000
END:DAYLIGHT
BEGIN:STANDARD
TZOFFSETFROM:+0200
TZOFFSETTO:+0100
TZNAME:CET
DTSTART:20251026T010000
END:STANDARD
END:VTIMEZONE
BEGIN:VEVENT
DTSTART;TZID=Europe/Madrid:20251031T200000
DTEND;TZID=Europe/Madrid:20251101T030000
DTSTAMP:20260422T033645
CREATED:20251007T215006Z
LAST-MODIFIED:20251007T215006Z
UID:792-1761940800-1761966000@bcnqueersquad.com
SUMMARY:Queer 🏳️‍🌈 Halloween 🎃 Pub Crawl 🍻 Ruta de Bares 🥂 LGBT+ 🌈 de Halloween 👻
DESCRIPTION:🇪🇸 (🇬🇧 version below) \n¡Hola a tod@s! 👋🏼 \n¿Te gustaría pasar la noche de Halloween 🎃 haciendo una ruta de bares LGBT+ 🌈 que incluye una terraza con vistas a 360° sobre el casco antiguo\, espectáculos drag 👸🏽 y juerga con nuev@s amig@s 🫂? 👯‍♀️ \n¡El viernes 31 de octubre no te puedes perder nuestra Ruta de Bares 🍻 Queer 🏳‍🌈 de Halloween 👻! 🥳 \nPuedes agregarte/abandonar el evento cuando te apetezca🗽 \n¡Aprovecha de esta ocasión para disfrazarte 🧟‍♀️🧛🧙‍♀️ y maquillarte 💅💄! (No es obligatorio) \nHabrá una votación para el Mejor Disfraz 🎭 con un Premio 🏆 a la persona ganadora 🫅🏻 \n📍 Nos encontraremos desde las 20:00 en la última planta 🌃 del hotel Barceló Raval (Rambla del Raval\, 17-21) donde os esperaré como siempre con nuestro paraguas arcoíris abierto☂🌈. También podrás preguntar al personal que te indicará donde se encuentra nuestro grupo. El Barceló Raval tiene previsto de forma excepcional un DJ Set 🎧🎛🎚🎶🎵\, un@ adivin@ 🔮 y más sorpresas 🤩 \nSobre las 21:00\, seguiremos con nuestro “correbars” yendo al mítico Madame Jasmine 🧙🏼‍♀️ \nNuestro siguiente destino será el bar Sense Nom\, un bar bueno\, bonito y barato donde podremos comer algo rico 🍽 mientras votamos y premiamos al mejor disfraz del grupo 🎭🏅 \nUna vez estemos llen@s 🤰🏼\, nos dirigiremos al Strass donde podremos disfrutar de fabulosos espectáculos de Drag Queens 👸🏽👸🏼👸🏻 \nPara acabar nuestra ruta\, iremos a uno de los bares del gayxample donde se puede bailar 🕺🏽💃🏽 sin coste 🆓 hasta las 3 de la madrugada 🎶🔊🎧 \nPodrás recibir nuestra posición en tiempo real 📍 además de las fotos 📸 y videos 📹 que hagamos junt@s a través de este Grupo de WhatsApp 👉🏼https://chat.whatsapp.com/IHxFiy8BlUZDpR6Jg8Y7Fv?mode=ems_wa_t \nMUY IMPORTANTE 🤑 \nPuedes pagar la cuota de participación de 6 euros al llegar en efectivo 💶 (NO Bizum / NO Tarjeta de Crédito 💳) \nTrae a un amig@ gratis 🆓️: válido para un nuev@ miembr@ 😉 \n💥NUESTRAS TARJETAS DE FIDELIDAD💥 \n🎟️ ¡4 eventos por el precio de 3! Paga 18 € y cada evento te sale a solo 4\,50 €; úsala cuando quieras durante 2 meses.\n🎟️ Tarjeta Anual BQS: ¡10 eventos + 1 GRATIS! Solo 54 € por un año completo de experiencias junt@s 🤗 \n✅ Ahorra dinero\n✅ Olvídate de tener que traer efectivo\n✅ Consigue gadgets BQS 👕🧢 y descuentos extra al asistir a más de 10 eventos🤩 \nSi necesitas más información\, puedes escribirme por WhatsApp en el +34631546465 (Ale 🧔🏽‍♂️) \n¿Quieres curiosear antes de tu primera quedada con nosotr@s? 👀 Échale un vistazo a nuestro Instagram 🤳👉🏼 https://www.instagram.com/bcnqueersquad/ \n¿A qué esperas para apuntarte? 😉 \n🇬🇧 \nHello everyone! 👋🏼 \nWould you like to spend Halloween night 🎃 on a queer 🌈 bar crawl that includes a 360° rooftop view of the old town\, drag shows 👸🏽\, & a wild night out with new friends 🫂? 👯‍♀️ \nOn Friday\, October 31st\, don’t miss our Queer 🏳️‍🌈 Halloween 👻 Bar 🍻 Race 🏁! 🥳 \nYou can join or leave the event whenever you like 🗽 \nTake the chance to dress up 🧟‍♀️🧛🧙‍♀️ & put on some makeup 💅💄! (Not mandatory) \nThere will be a contest for the Best Costume 🎭 with a Prize 🏆 for the winner 🫅🏻 \n📍 We’ll meet from 8:00 PM at the rooftop 🌃 of the Barceló Raval Hotel (Rambla del Raval\, 17-21)\, where I’ll be waiting as always with our rainbow umbrella open ☂🌈. You can also ask the staff\, & they’ll point you to our group. Barceló Raval will exceptionally have a DJ Set 🎧🎛🎚🎶\, a fortune-teller 🔮\, & more surprises 🤩 \nAround 9:00 PM\, we’ll continue our “pub crawl\,” heading to the legendary Madame Jasmine 🧙🏼‍♀️ \nOur next stop will be Sense Nom\, our usual bar to get some tasty food 🍽: here’s where we’ll vote & award the best costume in the group 🎭🏅 \nOnce we’re full 🤰🏼\, we’ll head to Strass to enjoy fabulous Drag Queen shows 👸🏽👸🏼👸🏻 \nTo wrap up our route\, we’ll go to one of the bars in the Gayxample\, where we can dance 🕺🏽💃🏽 for free 🆓 until 3:00 AM 🎶🔊🎧 \nYou’ll be able to receive our live location 📍 as well as the photos 📸 & videos 📹 we take together through this WhatsApp Group 👉🏼https://chat.whatsapp.com/IHxFiy8BlUZDpR6Jg8Y7Fv?mode=ems_wa_t \nVERY IMPORTANT 🤑 \nThe participation fee is 6 euros\, payable in cash 💶 upon arrival (NO Bizum / NO Credit Cards 💳). \nBring a friend for free 🆓: valid for a new member 😉 \n💥 OUR LOYALTY CARDS 💥 \n🎟️ 4 events for the price of 3! Pay €18 & each event is just €4.50; use it anytime within 2 months.\n🎟️ BQS Annual Card: 10 events + 1 FREE! Only €54 for a whole year of experiences together 🤗 \n✅ Save money\n✅ Forget about carrying cash\n✅ Get free BQS merch 👕🧢 & more discounts after attending 10+ events 🤩 \nIf you need more information\, feel free to WhatsApp me at +34 631 546 465 (Ale 🧔🏽‍♂️) \n👀 Take a look at our Instagram 🤳👉🏼https://www.instagram.com/bcnqueersquad/ \nWhat holds you from signing up? 😉
URL:https://bcnqueersquad.com/evento/queer-halloween-pub-crawl-barcelona-2025/
LOCATION:Barceló Raval\, Rambla del Raval\, 17\, Barcelona\, Spain
ATTACH;FMTTYPE=image/jpeg:https://bcnqueersquad.com/wp-content/uploads/2025/10/halloween-pub-crawl-scaled.jpg
END:VEVENT
BEGIN:VEVENT
DTSTART;TZID=Europe/Madrid:20251107T193000
DTEND;TZID=Europe/Madrid:20251108T030000
DTSTAMP:20260422T033645
CREATED:20250916T162914Z
LAST-MODIFIED:20250925T111241Z
UID:713-1762543800-1762570800@bcnqueersquad.com
SUMMARY:Intercambio 👥 de Idiomas 🌐 Queer 🌈 Supported 👨🏻‍🏫 Language 🗣️ Exchange 🤓
DESCRIPTION:¡Hola a tod@s! 🤗 \n  \n¿Estás hart@ de los intercambios de lenguas en los que haces las mismas preguntas una y otra vez? 😵 ¿Te gustaría aprender divirtiéndote? 🤓 \n  \n¡El viernes 7 de noviembre vuelve nuestro Intercambio 👥 de Idiomas 🗣 Queer 🌈 con Ayuda 👨🏻‍🏫 y Juegos 🤹🏻‍♂️ de Aprendizaje 📚! 🥳🎉 \n  \nPuedes unirte o marcharte cuando quieras\, participar en el intercambio o simplemente socializar. ¡Libertad! 🗽 \n  \n📍 Nos reuniremos a partir de las 19:30 en S Bar\, La Rouge donde podremos quedarnos adentro o aprovechar su fantástica terraza 🌃 con aire acondicionado natural 🌬 y diseño de exteriores 🌴 \n  \n⚠️ Se requiere mínimo una consumición en el bar 🍺🍸 \n  \nCuando llegues al bar te pediré tu nombre\, tus idiomas y sus niveles 📝 \n  \nPodrás entretenerte y aprender con Juegos 🤹🏻‍♂️ en Grupo en inglés 🇬🇧 y español 🇪🇸 con el soporte de un profesor plurilingüe 👨🏻‍🏫 o hacer un Tándem 👥 con preguntas ‘poco usuales’ en 🇦🇩🇬🇧🇪🇸🇮🇹🇫🇷🇩🇪🇵🇹 \n  \nNuestros juegos incluirán Tabú 🃏\, un juego rápido y súper divertido\, y Jenga 🗼\, con preguntas ☝🏻 y desafíos graciosos 😹🤸🏻‍♀️\, y más actividades y juegos creados para aprendices de todos los niveles 🤩 \n  \nEl intercambio de idiomas tendrá lugar entre las 20 y las 22 horas\, pero solemos quedarnos junt@s para charlar y\, l@s que quieran\, sobre la medianoche\, podemos ir a bailar 💃🏼🕺🏼 en el Gaixample 🪇🪭🪩 \n  \nMUY IMPORTANTE 🤑 \n  \nPuedes pagar la cuota de participación de 6 euros al llegar en efectivo 💶 (NO Bizum NO tarjeta de crédito 💳) \n  \nTrae a un amig@ gratis 🆓️: válido para un nuev@ miembr@ 😉 \n  \n💥¡LAS TARJETAS DE FIDELIDAD YA ESTÁN AQUÍ!💥 \n  \n🎟️ ¡4 eventos por el precio de 3! Paga 18 € y cada evento te sale a solo 4\,50 €; úsala cuando quieras durante 2 meses. \n🎟️ Tarjeta Anual BQS: ¡10 eventos + 1 GRATIS! Solo 54 € por un año completo de experiencias junt@s 🤗 \n  \n✅ Ahorra dinero y tiempo con una sola transferencia \n✅ Consigue merchandising BQS gratis 👕🧢 y más descuentos al asistir a más de 10 eventos🤩 \n  \nPara más información\, puedes escribirme por WhatsApp en el +34631546465 (Ale 🧔🏽‍♂️) \n  \nPuedes encontrar nuestras reseñas 🧐 en Meetup 👉 Feedback overview | Meetup \n  \nY si quieres\, puedes cotillear eventos anteriores y seguirnos en Instagram 🤳🏼\n👉 https://instagram.com/bcnqueersquad/ \n  \n¡No te pierdas esta oportunidad de practicar y socializar! 😉 \n  \n🇬🇧 \n  \nHi everyone! 🤗 \n  \nAre you sick of language exchanges where you ask the same questions over & over again? 😵 Would you like to learn while having fun? 🤓 \n  \nOn Friday\, November 7th\, our Queer 🌈 Supported 👨🏻‍🏫 Language 🗣 Exchange 👥 with Learning 📚 Games 🤹🏻‍♂️ is back! 🥳🎉 \n  \nYou can join or leave whenever you want. You can participate in the exchange or just socialize. Freedom! 🗽 \n  \n📍 We’ll meet starting at 7:30 PM at S Bar\, La Rouge (Rambla del Raval\, 10) where we can stay inside or take advantage of their fantastic terrace 🌃 with natural air conditioning 🌬 and outdoor design 🌴🌳 \n  \n⚠️ A minimum of one drink at the bar is required 🍷🍺🍸 \n  \nWhen you arrive at the bar\, I’ll get your name\, your languages & their levels 📝 \n  \nDuring the event\, you can have fun & learn with Group Games 🤹🏻‍♂️ in English 🇬🇧 & Spanish 🇪🇸 with the support of a multilingual teacher 👨🏻‍🏫 or join a Tandem 👥 with ‘unusual’ questions in Catalan 🇦🇩\, English 🇬🇧\, Spanish 🇪🇸\, Italian 🇮🇹\, French 🇫🇷\, German 🇩🇪\, and Portuguese 🇵🇹 \n  \nOur games will include Taboo 🃏\, a fast-paced & super-fun game\, & Jenga 🗼\, with questions ☝🏻 & hilarious challenges 😹🤸🏻‍♀️\, & more activities & games created for learners of all levels 🤩 \n  \nThe language exchange will take place between 8 & 10 PM\, but we usually stay together to chat\, & for those who want to\, around midnight\, we can go dancing 💃🏼🕺🏼 in the Gaixample 🪇🪭🪩 \n  \nVERY IMPORTANT 🤑 \n  \nYou can pay the participation fee of 6 euros upon arrival in cash 💶 (NO Bizum / NO Credit Card 💳) \n  \nBring a friend for free 🆓️: valid for one new member 😉 \n  \n💥LOYALTY CARDS ARE HERE!💥 \n  \n🎟️ 4 events for the price of 3! Pay €18 and each event is only €4.50; use it whenever you want for 2 months. \n🎟️ BQS Annual Card: 10 events + 1 FREE! Only €54 for a full year of experiences together 🤗 \n  \n✅ Save money and time with a single transfer \n✅ Get free BQS merch 👕🧢 and additional discounts when you attend more than 10 events 🤩 \n  \nFor more information\, you can message me on WhatsApp at +34 631 546 465 (Ale 🧔🏽‍♂️) \n  \nYou can find our reviews 🧐 on Meetup 👉 Feedback overview | Meetup \n  \nAnd if you want\, you can check out past events and follow us on Instagram🤳🏼\n👉 https://instagram.com/bcnqueersquad/ \n  \nDon’t miss this opportunity to practice & socialize! 😉
URL:https://bcnqueersquad.com/evento/intercambio-de-idiomas-queer-supported-language-exchange-noviembre-2025/
LOCATION:S Bar La Rouge\, Rambla del Raval\, 10\, Barcelona\, 08001\, Spain
ATTACH;FMTTYPE=image/jpeg:https://bcnqueersquad.com/wp-content/uploads/2025/09/language-exchange-scaled.jpg
END:VEVENT
BEGIN:VEVENT
DTSTART;TZID=Europe/Madrid:20251115T190000
DTEND;TZID=Europe/Madrid:20251116T030000
DTSTAMP:20260422T033645
CREATED:20250916T164647Z
LAST-MODIFIED:20250916T164647Z
UID:716-1763233200-1763262000@bcnqueersquad.com
SUMMARY:🌈 QUEER 🔫 LASER TAG & 💃 PARTY 🪩🕺 FIESTA 🥳!
DESCRIPTION:🇪🇸 (🇬🇧 version below ⬇️) \n  \n¡Hola a tod@s! \n  \n¿Quieres mejorar tu puntería en caso de un apocalipsis zombi? 🧟‍♀️\n¿Te apetece luego ir de bares 🍹 de ambiente 🌈 para pasarlo brutal con el equipo “enemigo”? 🕺🏽💃🏽 \n  \n¡El sábado 15 de noviembre nuestro escuadrón 🥷🏼 librará una nueva Batalla de Laser Tag 🔫! 🥳 \n  \nL@s que sobrevivamos al combate (🤣) iremos de bares para charlar sobre la experiencia 🗣️\, conocernos 🫂 y disfrutar de la vida 🤸🏽‍♂ \n  \n📍 Nos encontraremos a las 19:00 frente al Play Point (C/ del Comte Borrell\, 88). \n\nEl primer partido empezará a las 19:20 y durará unos 20 minutos\, así que el segundo será hacia las 19:40 y el tercero a las 20:00 (puede haber retrasos según el grupo anterior). \n  \nUna vez que hayamos terminado tod@s\, iremos andando al bar-restaurante Sense Nom (C/ de Muntaner\, 21)\, donde podremos cenar 🥗 y/o tomar 🍷 algo mientras comentamos el enfrentamiento láser 😃 \n  \nDespués elegiremos la siguiente etapa según la vibra del grupo 😎\, entre los bares de copas del Gayxample donde se baila 👯‍♂🪭🪇🪩 sin coste de entrada 🆓️ \n  \n🔔 MUY IMPORTANTE 🤑 \n  \nPara asegurar tu plaza en este evento\, será necesario el prepago de la actividad. Podrás elegir entre: \n• Un partido por 15 €\n• Dos partidos por 21 €\n• Tres partidos por 29 € \n\n👉 Puedes pagar la cuota de participación por Bizum al número +34631546465 (Alessandro B. Dell’Aglio).  No aceptamos tarjetas de crédito 💳. \n  \nEl número mínimo de participantes para realizar la actividad es de 12. \n  \n📷 Para recibir las fotos y vídeos del evento\, además de nuestra ubicación en tiempo real 📍\, únete a este grupo de WhatsApp:\nhttps://chat.whatsapp.com/LVA3XE9B22NK92pemo6XIF?mode=ems_wa_c \n  \nPuedes encontrar nuestras reseñas 🧐 en Meetup 👉 Feedback overview | Meetup \n  \n🤳🏼 También puedes echar un vistazo a nuestros eventos y seguirnos en Instagram:\nhttps://www.instagram.com/bcnqueersquad/ \n  \n¡Vente a pasártelo pipa con nosotr@s! 👯‍♂️ \n  \n🇬🇧 \n  \nHey everyone! 👋 \n  \nThink you’ve got what it takes to survive a zombie apocalypse? 🧟‍♀️\nHow about testing your aim in a Laser Tag battle\, then hitting up some queer bars 🍹🌈 to celebrate (or commiserate) with the “enemy” team? 🕺🏽💃🏽 \n  \n📅 Saturday\, November 15th\nOur squad 🥷🏼 is heading into a brand-new Laser Tag Showdown 🔫🥳 \n  \nAnyone who makes it through the match (🤣) will go out for drinks 🥂\, chats 🗣️\, bonding 🫂\, and plenty of fun 🤸🏽‍♂ \n  \n📍 Meet us at 7:00 PM outside Play Point (C/ del Comte Borrell\, 88). \n  \n• Game 1 starts at 7:20 PM (about 20 minutes).\n• Game 2 around 7:40 PM.\n• Game 3 around 8:00 PM.\n(Exact times may shift a little depending on the group before us.) \n  \nWhen we’re done\, we’ll head over to Sense Nom (C/ de Muntaner\, 21) for dinner 🥗 and/or drinks 🍷 \n  \nFrom there\, we’ll decide together where the night takes us 😎 — probably into the Gayxample\, where there’s plenty of music and dancing 👯‍♂🪭🪇🪩 with no cover charge 🆓️ \n  \n⚠️ IMPORTANT INFO 🤑 \n  \nTo lock in your spot\, advance payment is required: \n• 1 game – €15\n• 2 games – €21\n• 3 games – €29 \n👉 You can pay the participation fee via Bizum to +34631546465 (Alessandro B. Dell’Aglio). We do not accept credit cards 💳 \n  \nWe need at least 12 players to make it happen. \n  \n📷 Want the event pics\, videos\, and our live location? Join this WhatsApp group:\nhttps://chat.whatsapp.com/LVA3XE9B22NK92pemo6XIF?mode=ems_wa_c \n  \nYou can find our reviews 🧐 on Meetup 👉 Feedback overview | Meetup \n  \n🤳🏼 Check out our events and follow us on Instagram:\nhttps://www.instagram.com/bcnqueersquad/ \n  \n✨ Come join us for this unforgettable experience! 👯‍♂️
URL:https://bcnqueersquad.com/evento/queer-laser-tag-barcelona-noviembre-2025/
LOCATION:Play Point\, Carrer del Comte Borrell\, 88\, Barcelona\, 08015\, Spain
ATTACH;FMTTYPE=image/jpeg:https://bcnqueersquad.com/wp-content/uploads/2025/09/laser-tag.jpg
END:VEVENT
BEGIN:VEVENT
DTSTART;TZID=Europe/Madrid:20251128T193000
DTEND;TZID=Europe/Madrid:20251129T030000
DTSTAMP:20260422T033645
CREATED:20251007T220350Z
LAST-MODIFIED:20251007T220350Z
UID:801-1764358200-1764385200@bcnqueersquad.com
SUMMARY:Queer 🏳️‍🌈 Boardgames 🎲 & Karaoke🎤 Juegos de Mesa🃏 LGBT+🌈 y Karaoke👨🏼‍🎤
DESCRIPTION:🇪🇦 (🇬🇧 version below 👇🏼) \n¡Hola a tod@s! 😃 \n¿Te gustaría conocer a otras personas LGBT+ 🏳️‍🌈 con tu misma pasión por los juegos de mesa 🃏? Y si tuvieras también la oportunidad de cantar? 🎙️ \nEl viernes 28 de noviembre lo pasaremos pipa en nuestra quedada de Juegos de mesa 🎲 LGBT+ 🌈 y Karaoke 🎤! 🎊🥳 \nPodrás unirte/irte del evento cuando quieras 🗽 \n📍 Nos reuniremos a partir de las 19:30h en S Bar\, La Rouge (Rambla del Raval\, 10) donde podremos jugar adentro o aprovechar su fantastica terraza 🌃 con aire acondicionado natural 🌬 y diseño de exteriores 🌴🌳 🤩 \nNuestros juegos incluyen: Catán 🎲\, Exploding Kittens 🙀\, Cards Against Humanity 🤣\, Gestos 🤟\, Pictionary ✏️\, Jenga\, Love Letter 💌\, Carcassonne\, Virus 🦠\, Cluedo\, Azul\, Uno 🃏\, Taboo 💬 (🇪🇸 y 🇬🇧)\, Ticket to Ride 🚂 y un juego más a cada evento 😮 \n¡No dudes en traer tus juegos para divertirnos aún más! 😁 \n⚠️ Se requiere mínimo una consumición en el bar 🍷🍺🍸🍹🥃🍟🍢 \nSi te gusta cantar 👩🏻‍🎤👨🏼‍🎤\, podrás enseñar tu voz al grupo GRATIS 🆓 después (o durante) de los partidos 🎤🎶🎵 \nAlrededor de media noche\, l@s que queramos\, podemos ir a bailar junt@s 💃🕺🔊🎧🎶🎵 \nMUY IMPORTANTE 🤑 \nPuedes pagar la cuota de participación de 6 euros al llegar en efectivo 💶 (NO Bizum NO tarjeta de crédito 💳) \nTrae a un amig@ gratis 🆓️: válido para un nuev@ miembr@ 😉 \n💥¡LAS TARJETAS DE FIDELIDAD YA ESTÁN AQUÍ!💥 \n🎟️ ¡4 eventos por el precio de 3! Paga 18 € y cada evento te sale a solo 4\,50 €; úsala cuando quieras durante 2 meses. \n🎟️ Tarjeta Anual BQS: ¡10 eventos + 1 GRATIS! Solo 54 € por un año completo de experiencias junt@s 🤗 \n✅ Ahorra dinero\n✅ Olvídate de tener que traer efectivo\n✅ Consigue merchandising BQS gratis 👕🧢 y más descuentos al asistir a más de 10 eventos🤩 \nSi necesitas más información\, puedes escribirme por WhatsApp en el +34631546465 (Ale 🧔🏽‍♂️) \nÚnete a nuestro Grupo de WhatsApp para recibir fotos/vídeos 📷 que hagamos junt@s y mantenerte en contacto con tus nuev@s amig@s a través de este enlace: \nhttps://chat.whatsapp.com/L66J083tzQh1oecI3EjbXD \nPodrás echar un vistazo a nuestros eventos a través de nuestro Instagram🤳🏼: \nhttps://www.instagram.com/bcnqueersquad/ \nMe muero por jugar a juegos de mesa y divertirnos junt@s\, ¿y tú? 😉 \n🇬🇧 \nHi everyone! 😃 \nWould you like to find other queer people 🏳️‍🌈 with a passion for board games 🃏? What if you could sing 👩‍🎤 & go clubbing too? 👯‍♂ \nOn Friday\, November 28th we’ll have a blast at our Queer 🌈 Board Games 🎲 with Karaoke 🎤! 🎊🥳 \nYou can join/leave the event any time you want 🗽 \n📍 We will meet from 7:30 p.m. at S Bar La Rouge (Rambla del Raval\, 10) where we can play inside or take advantage of its fantastic terrace 🌃 with natural «air conditioning» 🌬 and «exterior» design 🌴🌳 🤩 \nOur games include: Catán 🎲\, Exploding Kittens 🙀\, Cards Against Humanity 🤣\, Pictionary ✏️\, Jenga\, Gestures 🤟\, Love Letter 💌\, Virus 🦠\, Carcassonne\, Cluedo\, Azul\, Uno 🃏\, Taboo 💬 (🇪🇸 & 🇬🇧)\, Ticket to Ride 🚂 & there will be a new game each event 😮 \nFeel free to bring your games too for even more fun! 😁 \n⚠️ Minimum one consumption required on premises 🍷🍺🍸🍹🥃🍟🍢 \nIf you like singing 👩🏻‍🎤👨🏼‍🎤\, you can showcase your voice after (or during) the games 🎤🎶🎵 FOR FREE 🆓 \nAround midnight\, those of us who are keen\, we can go clubbing together 💃🕺🔊🎧🎶🎵 \nVERY IMPORTANT 🤑 \nYou can pay the participation fee of 6 euros upon arrival in cash 💶 (NO Bizum / NO Credit Card 💳) \nBring a friend for free 🆓️: valid for one new member 😉 \n💥LOYALTY CARDS ARE HERE!💥 \n🎟️ 4 events for the price of 3! Pay €18 and each event is only €4.50; use it whenever you want for 2 months. \n🎟️ BQS Annual Card: 10 events + 1 FREE! Only €54 for a full year of experiences together 🤗 \n✅ Save money\n✅ Forget about bringing cash\n✅ Get free BQS merchandise 👕🧢 and more discounts when you attend more than 10 events 🤩 \nIf you need more information\, you can write to me on WhatsApp at +34631546465 (Ale). \nJoin our WhatsApp Group to receive photos/videos 📷 that we take together and keep in contact with your new friends through this link: \nhttps://chat.whatsapp.com/L66J083tzQh1oecI3EjbXD \nYou can take a look at our events and keep updated on our future activities through the Highlights on our Instagram🤳🏼: \nhttps://www.instagram.com/bcnqueersquad/ \nI can’t wait to play board games and have fun together\, don’t you? 😉
URL:https://bcnqueersquad.com/evento/queer-boardgames-karaoke-noviembre-2025/
LOCATION:S Bar La Rouge\, Rambla del Raval\, 10\, Barcelona\, 08001\, Spain
ATTACH;FMTTYPE=image/jpeg:https://bcnqueersquad.com/wp-content/uploads/2025/09/boardgames-karaoke-scaled.jpg
END:VEVENT
BEGIN:VEVENT
DTSTART;TZID=Europe/Madrid:20251129T190000
DTEND;TZID=Europe/Madrid:20251129T233000
DTSTAMP:20260422T033645
CREATED:20250916T152856Z
LAST-MODIFIED:20251010T154847Z
UID:689-1764442800-1764459000@bcnqueersquad.com
SUMMARY:Girls 👭 Speed 🛎 Dating 💕 Citas 💘 Rápidas ⏳️ para Chicas 👩‍❤️‍👩
DESCRIPTION:🇪🇸 (🇬🇧 version below ⬇) \n  \n¡Hola a todas! 🤗 \n  \n¿Te cuesta encontrar tiempo ⌛ para conocer a esa persona especial por tu carrera 👩🏻‍💻 y/o tu ajetreada vida social 👸🏻? ¿Estás harta de los interminables chats en las aplicaciones que no llevan a ningún lado 🤦‍♀️? \n  \nEl sábado 29 de noviembre el amor estará en el aire 💓 en nuestras Citas Rapidas ⏳ para Chicas Lesbianas 👭 ! 🥳 \n  \nLas citas rápidas son una forma comprobada para conocer a tu pareja perfecta 💘: te ahorran dinero 🫰🏼 y tiempo ⌚ y son menos incómodas que quedar con alguien y luego tener ganas de escaparse por la ventana del baño 🪟 \n  \n📍 Nos reuniremos a partir de las 19:00 h en el Space Cowboy (Carrer dels Carders\, 31). \n  \n⚠ Como consumición mínima podrás elegir entre: \n\n🎫 la ficha de 3 por 13 €: 1 para 🍺🍷🥂🥤 o 2 para 🍹\n2 🍹 por 15 euros\n\n  \nLas citas rápidas tendrán lugar entre las 19:30 y las 22 h: puedes juntarte a lo largo del evento 🗽\, pero cuanto antes mejor (+⏳ = + 💁🏻‍♀️) 😏 \n  \nCÓMO FUNCIONA \n\nAl llegar\, te daré la bienvenida y la etiqueta con tu nombre (no es obligatoria)\nCada cita durará 5 minutos y estará marcada por una campanita 🛎\nSi ambas lo quieren\, podréis prolongar la cita con la misma persona solo una vez\nEn cada mesa habrá tarjetas 🗃 con preguntas ❓ que podéis usar para darle un poco de chispa 🧨: algunas son para encontrar semejanzas 💖 (soft) otras son picantes 🌶 (hard). Ambas deben estar de acuerdo con el tema 🤝\nAdemás\, en cada mesa habrá post-its y bolígrafos para tomar notas 💌\n\n  \nAl finalizar las citas rápidas\, puedes quedarte para conocernos mejor 🫂 a través de nuestros divertidísimos juegos en grupo 🥳🥂🥴🤣 \n  \nPodrás recibir las fotos 📷 / vídeos 📹 que hagamos juntas a través de este grupo de WhatsApp:\nhttps://chat.whatsapp.com/DgpcYAI7ARn4zPyCSuLyai \n  \nMUY IMPORTANTE 🤑 \n  \nPuedes pagar la cuota de participación de 10 euros al llegar en efectivo 💶 (NO Bizum NO tarjeta de crédito 💳) \n  \nTrae a un amig@ gratis 🆓️: válido para un nuev@ miembr@ 😉 \n  \n💥¡LAS TARJETAS DE FIDELIDAD YA ESTÁN AQUÍ!💥 \n  \n🎟️ ¡4 eventos por el precio de 3! Paga 18 € y cada evento te sale a solo 4\,50 €; úsala cuando quieras durante 2 meses. \n🎟️ Tarjeta Anual BQS: ¡10 eventos + 1 GRATIS! Solo 54 € por un año completo de experiencias junt@s 🤗 (incluye este evento 😮) \n  \n✅ Ahorra dinero y tiempo con una sola transferencia \n✅ Consigue merchandising BQS gratis 👕🧢 y más descuentos al asistir a más de 10 eventos🤩 \n  \nPara más información\, puedes escribirme por WhatsApp en el +34631546465 (Ale 🧔🏽‍♂️) \n  \nPuedes encontrar nuestras reseñas 🧐 en Meetup 👉 Feedback overview | Meetup \n  \nY si quieres\, puedes cotillear eventos anteriores y seguirnos en Instagram 🤳🏼\n👉 https://instagram.com/bcnqueersquad/ \n¡No dejes pasar esta oportunidad de conocer a tu futura pareja 👨‍❤️‍👩‍❤️‍👩 y/o nuevas amigas 🫂! 😃 \n  \n🇬🇧 \n  \nHello ladies! 🤗 \n  \nAre you struggling to find time ⌛ to meet that special someone due to your busy career 👩🏻‍💻 and/or your busy social life 👸🏼? Are you fed up with endless chats on apps that lead nowhere 😩? \nOn Saturday\, November 29th\, love will be in the air 💓 at our Speed Dating ⏳ for Lesbian Girls 👭 with Group Games 🤹🏻‍♀️! 🥳 \n  \nSpeed dating is a proven way to meet your perfect match 💘: it saves you money 🫰🏼 and time ⌚\, and it’s less awkward than normal dating & then have thoughts of escaping through the bathroom window 🪟 \n  \n📍 We’ll meet from 7:00 PM at Space Cowboy (Carrer dels Carders\, 31) \n  \n⚠ As a minimum drink you can choose between: \n\n🎫 a €13 token for 3: 1 for 🍺🍷🥂🥤 or 2 for 🍹\n2 🍹 for €15\n\n  \nSpeed dates will take place between 7:30 PM & 10:00 PM: you can join anytime 🗽\, but the sooner\, the better (+⏳ = + 💁🏻‍♀️) 😏 \n  \nHOW IT WORKS \n\nWhen you arrive\, I’ll welcome you and give you a name tag (not mandatory)\nEach date will last 5 minutes and will be marked by a bell 🛎\nIf both of you want\, you can extend the date with the same person only once\nThere will be cards 🗃 on each table with questions ❓ that you can use to spice things up 🧨: some are to find similarities 💖 (soft)\, others are spicy 🌶 (hard). Both parties must agree on the theme 🤝\nPlus\, there will be post-its and pens at each table to take notes 💌\n\n  \nAfter the speed dates\, you can stay to get to know each other better 🫂 through our fun group games 🥳🥂🥴🤣 \n  \nYou’ll be able to receive the photos 📷 / videos 📹 we take together through this WhatsApp group:\nhttps://chat.whatsapp.com/DgpcYAI7ARn4zPyCSuLyai \n  \nVERY IMPORTANT 🤑 \n  \nYou can pay the participation fee of 10 euros upon arrival in cash 💶 (NO Bizum / NO Credit Card 💳) \n  \nBring a friend for free 🆓️: valid for one new member 😉 \n  \n💥LOYALTY CARDS ARE HERE!💥 \n  \n🎟️ 4 events for the price of 3! Pay €18 and each event is only €4.50; use it whenever you want for 2 months. \n🎟️ BQS Annual Card: 10 events + 1 FREE! Only €54 for a full year of experiences together 🤗 (includes this event 😮) \n  \n✅ Save money and time with a single transfer \n✅ Get free BQS merch 👕🧢 and additional discounts when you attend more than 10 events 🤩 \n  \nFor more information\, you can message me on WhatsApp at +34 631 546 465 (Ale 🧔🏽‍♂️) \n  \nYou can find our reviews 🧐 on Meetup 👉 Feedback overview | Meetup \n  \nAnd if you want\, you can check out past events and follow us on Instagram🤳🏼\n👉 https://instagram.com/bcnqueersquad/ \nIf you need more information\, you can contact me on WhatsApp at +34631546465 (Ale 🧔🏽‍♂️) \n  \nYou can check out our events and follow us on Instagram 🤳🏼:\nhttps://www.instagram.com/bcnqueersquad/ \n  \nDon’t miss this opportunity to meet your future partner 👨‍❤️‍👩‍❤️‍👩 and/or new friends 🫂! 😃
URL:https://bcnqueersquad.com/evento/speed-dating-citas-rapidas-chicas-barcelona/
LOCATION:Space Cowboy\, Carrer dels Carders\, 31\, Barcelona\, 08003\, Spain
ATTACH;FMTTYPE=image/jpeg:https://bcnqueersquad.com/wp-content/uploads/2025/09/lesbian-speed-dating-scaled.jpg
END:VEVENT
END:VCALENDAR