BEGIN:VCALENDAR
VERSION:2.0
PRODID:-//Barcelona Queer Squad - ECPv6.14.2//NONSGML v1.0//EN
CALSCALE:GREGORIAN
METHOD:PUBLISH
X-ORIGINAL-URL:https://bcnqueersquad.com
X-WR-CALDESC:Eventos para Barcelona Queer Squad
REFRESH-INTERVAL;VALUE=DURATION:PT1H
X-Robots-Tag:noindex
X-PUBLISHED-TTL:PT1H
BEGIN:VTIMEZONE
TZID:Europe/Madrid
BEGIN:DAYLIGHT
TZOFFSETFROM:+0100
TZOFFSETTO:+0200
TZNAME:CEST
DTSTART:20250330T010000
END:DAYLIGHT
BEGIN:STANDARD
TZOFFSETFROM:+0200
TZOFFSETTO:+0100
TZNAME:CET
DTSTART:20251026T010000
END:STANDARD
END:VTIMEZONE
BEGIN:VEVENT
DTSTART;TZID=Europe/Madrid:20251003T193000
DTEND;TZID=Europe/Madrid:20251004T030000
DTSTAMP:20260422T023339
CREATED:20250916T131243Z
LAST-MODIFIED:20250925T110358Z
UID:676-1759519800-1759546800@bcnqueersquad.com
SUMMARY:Intercambio 👥 de Idiomas 🌐 Queer 🌈 Supported 👨🏻‍🏫 Language 🗣️ Exchange 🤓
DESCRIPTION:🇪🇸 (🇬🇧 version below 👇) \n  \n¡Hola a tod@s! 🤗 \n  \n¿Estás hart@ de los intercambios de lenguas en los que haces las mismas preguntas una y otra vez? 😵 ¿Te gustaría aprender divirtiéndote? 🤓 \n  \n¡El viernes 3 de octubre vuelve nuestro Intercambio 👥 de Idiomas 🗣 Queer 🌈 con Ayuda 👨🏻‍🏫 y Juegos 🤹🏻‍♂️ de Aprendizaje 📚! 🥳🎉 \n  \nPuedes unirte o marcharte cuando quieras\, participar en el intercambio o simplemente socializar. ¡Libertad! 🗽 \n  \n📍 Nos reuniremos a partir de las 19:30 en S Bar\, La Rouge donde podremos quedarnos adentro o aprovechar su fantástica terraza 🌃 con aire acondicionado natural 🌬 y diseño de exteriores 🌴 \n  \n⚠️ Se requiere mínimo una consumición en el bar 🍺🍸 \n  \nCuando llegues al bar te pediré tu nombre\, tus idiomas y sus niveles 📝 \n  \nPodrás entretenerte y aprender con Juegos 🤹🏻‍♂️ en Grupo en inglés 🇬🇧 y español 🇪🇸 con el soporte de un profesor plurilingüe 👨🏻‍🏫 o hacer un Tándem 👥 con preguntas ‘poco usuales’ en 🇦🇩🇬🇧🇪🇸🇮🇹🇫🇷🇩🇪🇵🇹 \n  \nNuestros juegos incluirán Tabú 🃏\, un juego rápido y súper divertido\, y Jenga 🗼\, con preguntas ☝🏻 y desafíos graciosos 😹🤸🏻‍♀️\, y más actividades y juegos creados para aprendices de todos los niveles 🤩 \n  \nEl intercambio de idiomas tendrá lugar entre las 20 y las 22 horas\, pero solemos quedarnos junt@s para charlar y\, l@s que quieran\, sobre la medianoche\, podemos ir a bailar 💃🏼🕺🏼 en el Gaixample 🪇🪭🪩 \n  \nMUY IMPORTANTE 🤑 \n  \nPuedes pagar la cuota de participación de 6 euros al llegar en efectivo 💶 (NO Bizum NO tarjeta de crédito 💳) \n  \nTrae a un amig@ gratis 🆓️: válido para un nuev@ miembr@ 😉 \n  \n💥¡LAS TARJETAS DE FIDELIDAD YA ESTÁN AQUÍ!💥 \n  \n🎟️ ¡4 eventos por el precio de 3! Paga 18 € y cada evento te sale a solo 4\,50 €; úsala cuando quieras durante 2 meses. \n🎟️ Tarjeta Anual BQS: ¡10 eventos + 1 GRATIS! Solo 54 € por un año completo de experiencias junt@s 🤗 \n  \n✅ Ahorra dinero y tiempo con una sola transferencia \n✅ Consigue merchandising BQS gratis 👕🧢 y más descuentos al asistir a más de 10 eventos🤩 \n  \nPara más información\, puedes escribirme por WhatsApp en el +34631546465 (Ale 🧔🏽‍♂️) \n  \nPuedes encontrar nuestras reseñas 🧐 en Meetup 👉 Feedback overview | Meetup \n  \nY si quieres\, puedes cotillear eventos anteriores y seguirnos en Instagram 🤳🏼\n👉 https://instagram.com/bcnqueersquad/ \n  \n¡No te pierdas esta oportunidad de practicar y socializar! 😉 \n  \n🇬🇧 \n  \nHi everyone! 🤗 \n  \nAre you sick of language exchanges where you ask the same questions over & over again? 😵 Would you like to learn while having fun? 🤓 \n  \nOn Friday\, October 3rd\, our Queer 🌈 Supported 👨🏻‍🏫 Language 🗣 Exchange 👥 with Learning 📚 Games 🤹🏻‍♂️ is back! 🥳🎉 \n  \nYou can join or leave whenever you want. You can participate in the exchange or just socialize. Freedom! 🗽 \n  \n📍 We’ll meet starting at 7:30 PM at S Bar\, La Rouge (Rambla del Raval\, 10) where we can stay inside or take advantage of their fantastic terrace 🌃 with natural air conditioning 🌬 and outdoor design 🌴🌳 \n  \n⚠️ A minimum of one drink at the bar is required 🍷🍺🍸 \n  \nWhen you arrive at the bar\, I’ll get your name\, your languages & their levels 📝 \n  \nDuring the event\, you can have fun & learn with Group Games 🤹🏻‍♂️ in English 🇬🇧 & Spanish 🇪🇸 with the support of a multilingual teacher 👨🏻‍🏫 or join a Tandem 👥 with ‘unusual’ questions in Catalan 🇦🇩\, English 🇬🇧\, Spanish 🇪🇸\, Italian 🇮🇹\, French 🇫🇷\, German 🇩🇪\, and Portuguese 🇵🇹 \n  \nOur games will include Taboo 🃏\, a fast-paced & super-fun game\, & Jenga 🗼\, with questions ☝🏻 & hilarious challenges 😹🤸🏻‍♀️\, & more activities & games created for learners of all levels 🤩 \n  \nThe language exchange will take place between 8 & 10 PM\, but we usually stay together to chat\, & for those who want to\, around midnight\, we can go dancing 💃🏼🕺🏼 in the Gaixample 🪇🪭🪩 \n  \nVERY IMPORTANT 🤑 \n  \nYou can pay the participation fee of 6 euros upon arrival in cash 💶 (NO Bizum / NO Credit Card 💳) \n  \nBring a friend for free 🆓️: valid for one new member 😉 \n  \n💥LOYALTY CARDS ARE HERE!💥 \n  \n🎟️ 4 events for the price of 3! Pay €18 and each event is only €4.50; use it whenever you want for 2 months. \n🎟️ BQS Annual Card: 10 events + 1 FREE! Only €54 for a full year of experiences together 🤗 \n  \n✅ Save money and time with a single transfer \n✅ Get free BQS merch 👕🧢 and additional discounts when you attend more than 10 events 🤩 \n  \nFor more information\, you can message me on WhatsApp at +34 631 546 465 (Ale 🧔🏽‍♂️) \n  \nYou can find our reviews 🧐 on Meetup 👉 Feedback overview | Meetup \n  \nAnd if you want\, you can check out past events and follow us on Instagram🤳🏼\n👉 https://instagram.com/bcnqueersquad/ \n  \nDon’t miss this opportunity to practice & socialize! 😉
URL:https://bcnqueersquad.com/evento/intercambio-de-idiomas-queer-octubre/
LOCATION:S Bar La Rouge\, Rambla del Raval\, 10\, Barcelona\, 08001\, Spain
ATTACH;FMTTYPE=image/jpeg:https://bcnqueersquad.com/wp-content/uploads/2025/09/language-exchange-scaled.jpg
END:VEVENT
BEGIN:VEVENT
DTSTART;TZID=Europe/Madrid:20251011T170000
DTEND;TZID=Europe/Madrid:20251012T030000
DTSTAMP:20260422T023339
CREATED:20250916T132831Z
LAST-MODIFIED:20250925T110627Z
UID:680-1760202000-1760238000@bcnqueersquad.com
SUMMARY:🏳️‍🌈 Queer Culture 🤓 Walk 🚶🏼‍♂️ 🚶🏽‍♀️ Paseo por la Cultura Queer 🌈
DESCRIPTION:🇪🇸 (🇬🇧 version below ⬇) \n  \n¡Hola a tod@s! 🤗 \n  \n¿Te gustaría pasear por el centro de la ciudad de Barcelona y descubrir lugares relevantes para la comunidad LGBT+ 🏳‍🌈 mientras conoces a nuev@s amig@s 🫂? \n  \nEl sábado 11 de octubre vuelve nuestro Paseo 🚶🏽 por la Cultura Queer de Barcelona 🏳‍🌈‍ 🎊🎉 \n  \nLas explicaciones serán en español 🇪🇸 y en inglés 🇬🇧. \n  \nPuedes juntarte a la quedada cuando quieras 🗽 \n  \nNos mantendremos en contacto y compartiremos la posición en tiempo real 📍\, así como las fotos 📷 y videos 📹 que haremos a lo largo del día\, a través de este grupo de Whatsapp 👇🏼 \nhttps://chat.whatsapp.com/Kp0zuj36YUV4TDg5WGxXYB?mode=ac_t \n  \n📍 Nos encontraremos a partir de las 17:00 en el bar la Querida (Pg. de Pujades\, 33) donde nos tomaremos algo antes de empezar mientras nos presentamos. \n  \nComenzaremos nuestra exploración cultural que tomará un par de horas ⏳ alrededor de las 17:30. \n  \nNuestro recorrido se centrará en los lugares\, monumentos 🏛️ y representaciones artísticas 🎨 dedicadas a la comunidad LGBT cuyas historias te revelaré además de brindarte interesante información histórica 🤓. Todas las paradas serán al aire libre. \n  \nDespués de nuestra inmersión cultural\, nos dirigiremos al Restaurante Sense Nom (C/ de Muntaner\, 21) donde podremos compartir nuestras impresiones y comer alguito junt@s 🍽️🥗🍔 \n  \nSi el grupo se anima\, podemos ampliar la quedada y tomar más copas 🍹🍸 junt@s y luego ir a bailar 🪩🕺🏼💃🏾 (solemos ir al Museum\, pero hay varias opciones gratis 🆓 hasta las 3 de la madrugada). \n  \nMUY IMPORTANTE 🤑 \n  \nPuedes pagar la cuota de participación de 10 euros al llegar en efectivo 💶 (NO Bizum NO tarjeta de crédito 💳) \n  \nTrae a un amig@ gratis 🆓️: válido para un nuev@ miembr@ 😉 \n  \n💥¡LAS TARJETAS DE FIDELIDAD YA ESTÁN AQUÍ!💥 \n  \n🎟️ ¡4 eventos por el precio de 3! Paga 18 € y cada evento te sale a solo 4\,50 €; úsala cuando quieras durante 2 meses. \n🎟️ Tarjeta Anual BQS: ¡10 eventos + 1 GRATIS! Solo 54 € por un año completo de experiencias junt@s 🤗 (se puede usar para este evento! 😮) \n  \n✅ Ahorra dinero y tiempo con una sola transferencia \n✅ Consigue merchandising BQS gratis 👕🧢 y más descuentos al asistir a más de 10 eventos🤩 \n  \nPara más información\, puedes escribirme por WhatsApp en el +34631546465 (Ale 🧔🏽‍♂️) \n  \nPuedes encontrar nuestras reseñas 🧐 en Meetup 👉 Feedback overview | Meetup \n  \nY si quieres\, puedes cotillear eventos anteriores y seguirnos en Instagram 🤳🏼\n👉 https://instagram.com/bcnqueersquad/ \n  \n¡No pierdas esta oportunidad única de conocer más sobre Barcelona y crear nuevas conexiones! 😃 \n  \n🇬🇧 \n  \nHello everyone! 🤗 \n  \nWould you like to stroll through Barcelona’s city center and discover places relevant to the LGBT+ community 🏳‍🌈 while meeting new friends 🫂? \n  \nOn Saturday\, October 11th our Barcelona Queer 🏳‍🌈‍ Culture Walk 🚶🏽 returns 🎊🎉 \n  \nExplanations will be in Spanish 🇪🇸 and English 🇬🇧 \n  \nYou can join the meetup whenever you want 🗽 \n  \nWe will keep in touch and share the real-time position 📍\, as well as the photos 📷 and videos 📹 that we will take throughout the day\, through this Whatsapp group 👇🏼\nhttps://chat.whatsapp.com/Kp0zuj36YUV4TDg5WGxXYB?mode=ac_t \n  \n📍 We’ll meet starting at 5:00 PM at La Querida bar (Pg. de Pujades\, 33) where we’ll have a pre-dinner drink while we introduce ourselves. \n  \nWe’ll begin our cultural exploration\, which will take a couple of hours ⏳ around 5:30 PM. \n  \nOur tour will focus on places\, monuments 🏛️\, and artistic performances 🎨 dedicated to the LGBT community\, whose stories I’ll reveal to you\, along with interesting historical information 🤓. All stops will be outdoors. \n  \nAfter our cultural immersion\, we’ll head to Sense Nom Restaurant (C/ de Muntaner\, 21) where we can share our impressions and eat something together 🍽️🥗🍔 \n  \nIf the group is up for it\, we can extend the get-together and have more drinks 🍹🍸 together and then go dancing 🪩🕺🏼💃🏾 (we usually go to the Museum\, but there are several free options 🆓 until 3 a.m.). \n  \nVERY IMPORTANT 🤑 \n  \nYou can pay the participation fee of 10 euros upon arrival in cash 💶 (NO Bizum / NO Credit Card 💳) \n  \nBring a friend for free 🆓️: valid for one new member 😉 \n  \n💥LOYALTY CARDS ARE HERE!💥 \n  \n🎟️ 4 events for the price of 3! Pay €18 and each event is only €4.50; use it whenever you want for 2 months. \n🎟️ BQS Annual Card: 10 events + 1 FREE! Only €54 for a full year of experiences together 🤗 (you can use it for this event! 😮) \n  \n✅ Save money and time with a single transfer \n✅ Get free BQS merch 👕🧢 and additional discounts when you attend more than 10 events 🤩 \n  \nFor more information\, you can message me on WhatsApp at +34 631 546 465 (Ale 🧔🏽‍♂️) \n  \nYou can find our reviews 🧐 on Meetup 👉 Feedback overview | Meetup \n  \nAnd if you want\, you can check out past events and follow us on Instagram🤳🏼\n👉 https://instagram.com/bcnqueersquad/ \n  \nDon’t miss this unique opportunity to know more about Barcelona and create new connections! 😃
URL:https://bcnqueersquad.com/evento/barcelona-queer-culture-walk-2025/
LOCATION:La Querida\, Pg. de Pujades\, 33\, Barcelona\, 08018\, Spain
ATTACH;FMTTYPE=image/jpeg:https://bcnqueersquad.com/wp-content/uploads/2025/09/queer-culture-tour.jpg
END:VEVENT
BEGIN:VEVENT
DTSTART;TZID=Europe/Madrid:20251018T190000
DTEND;TZID=Europe/Madrid:20251018T233000
DTSTAMP:20260422T023339
CREATED:20250916T153621Z
LAST-MODIFIED:20250925T111016Z
UID:694-1760814000-1760830200@bcnqueersquad.com
SUMMARY:Gay Men 👬 Speed 🛎 Dating 💕 Citas💘 Rápidas⏳️ para Chicos Gay 💑
DESCRIPTION:🇪🇸 (🇬🇧 version below ⬇) \n  \n¡Hola a todos! 🤗 \n  \n¿Te cuesta encontrar tiempo ⌛ para conocer a esa persona especial debido a tu carrera 🧑🏻‍💻 y/o tu ajetreada vida social 🤵🏻‍♂️? ¿Estás harto de los interminables chats en las aplicaciones de citas que no llevan a ningún lado? 😩 \n  \nEl sábado 18 de octubre\, el amor estará en el aire 💓 en nuestras Citas Rapidas ⏳ para Hombres Gay 👬! 🥳 \n  \nLas citas rápidas son una forma comprobada para conocer a tu pareja perfecta 💘: te ahorran dinero 🫰🏼 y tiempo ⌚ y son menos incómodas que quedar con alguien y luego querer escaparse por la ventana del baño 🪟 \n  \n📍 Nos reuniremos a partir de las 19:00 h en el Space Cowboy (Carrer dels Carders\, 31) \n  \n⚠ Como consumición obligatoria podrás elegir entre: \n\n🎫 la ficha de 3 por 13 €: 1 para 🍺🍷🥂🥤 o 2 para 🍹\n2 🍹 por 15 euros\n\n\nLas citas rápidas tendrán lugar entre las 19:30 y las 22 h: puedes juntarte a lo largo del evento 🗽\, pero cuanto antes\, mejor (+⏳ = +👨🏻‍💼) 😏 \n  \nCÓMO FUNCIONA \n\nCuando llegues al bar\, te daré la bienvenida y la etiqueta con tu nombre\nCada «cita» durará 5 minutos y estará marcada por una campanita 🛎\nSi ambos lo quieren\, podréis prolongar la cita con la misma persona solo una vez\nEn cada mesa habrá tarjetas 🗃 con preguntas ❓ que podéis usar para darle un poco de chispa 🧨: algunas son para encontrar semejanzas 💖 (soft) otras son picantes 🌶 (hard). Ambos deben estar de acuerdo con el tema 🤝\nAdemás\, en cada mesa habrá post-its y bolis para tomar nota 💌\n\n  \nAl finalizar las citas rápidas\, puedes quedarte para conocernos mejor 🫂 a través de nuestros divertidísimos juegos en grupo 🥳🥂🥴🤣 \n  \nPodrás recibir las fotos 📷 / vídeos 📹 que hagamos juntos a través de este grupo de WhatsApp:\nhttps://chat.whatsapp.com/JvH5EqcAFN26gyHUJcnalf \n  \nMUY IMPORTANTE 🤑 \n  \nPuedes pagar la cuota de participación de 10 euros al llegar en efectivo 💶 (NO Bizum NO tarjeta de crédito 💳) \n  \nTrae a un amig@ gratis 🆓️: válido para un nuev@ miembr@ 😉 \n  \n💥¡LAS TARJETAS DE FIDELIDAD YA ESTÁN AQUÍ!💥 \n  \n🎟️ ¡4 eventos por el precio de 3! Paga 18 € y cada evento te sale a solo 4\,50 €; úsala cuando quieras durante 2 meses. \n🎟️ Tarjeta Anual BQS: ¡10 eventos + 1 GRATIS! Solo 54 € por un año completo de experiencias junt@s 🤗 \n  \n✅ Ahorra dinero y tiempo con una sola transferencia \n✅ Consigue merchandising BQS gratis 👕🧢 y más descuentos al asistir a más de 10 eventos🤩 \n  \nPara más información\, puedes escribirme por WhatsApp en el +34631546465 (Ale 🧔🏽‍♂️) \n  \nPuedes encontrar nuestras reseñas 🧐 en Meetup 👉 Feedback overview | Meetup \n  \nY si quieres\, puedes cotillear eventos anteriores y seguirnos en Instagram 🤳🏼\n👉 https://instagram.com/bcnqueersquad/ \n  \n¡No dejes pasar esta oportunidad de conocer a tu futura pareja 👨‍❤️‍💋‍👨 y/o nuevos amigos! 😃 \n  \n🇬🇧 \n  \nHello everyone! 🤗 \n  \nAre you struggling to find time ⌛ to meet that special someone due to your busy career 🧑🏻‍💻 &/or your florid social life 🤵🏻‍♂️? Are you fed up with endless chats on online dating apps that lead nowhere 😩? \n  \nOn Saturday\, October 18\, love will be in the air 💓 at our Speed Dating ⏳ for Gay Men 👬! 🥳 \n  \nSpeed dating is a proven way to meet your perfect match 💘: it saves you money 🫰🏼 & time ⌚\, & it’s less awkward than those terrible dates where we’d love to escape through the bathroom window 🪟 \n  \n📍 We’ll meet from 7:00 PM at Space Cowboy (Carrer dels Carders\, 31). \n  \n⚠ As a mandatory drink you can choose between: \n\n🎫 a €13 token for 3: 1 for 🍺🍷🥂🥤 or 2 for 🍹\n2 🍹 for €15\n\n  \nSpeed dating will take place between 7:30 PM & 10:00 PM: you can join anytime during the event 🗽\, but the sooner the better (+⏳ = +👨🏻‍💼) 😏 \n  \nHOW IT WORKS \n\nWhen you arrive at the bar\, I’ll welcome you & give you a name tag (not mandatory)\nEach «date» will last 5 minutes & will be marked by a bell 🛎\nIf both of you want\, you can extend the date with the same person only once\nAt each table\, there will be cards 🗃 with questions ❓ that you can use to spice things up 🧨: some are to find similarities 💖 (soft)\, others are spicy 🌶 (hard). You both must agree on the topic 🤝\nAdditionally\, at each table\, there will be post-its & pens to take notes 💌\n\n  \nOnce the speed dates are over\, you can stay to get to know each other better 🫂 through our fun group games 🥳🥂🥴🤣 \n  \nAt the end of the event\, you can receive the photos 📷 / videos 📹 that we take together through this WhatsApp group: \nhttps://chat.whatsapp.com/JvH5EqcAFN26gyHUJcnalf \n  \nVERY IMPORTANT 🤑 \n  \nYou can pay the participation fee of 10 euros upon arrival in cash 💶 (NO Bizum / NO Credit Card 💳) \n  \nBring a friend for free 🆓️: valid for one new member 😉 \n  \n💥LOYALTY CARDS ARE HERE!💥 \n  \n🎟️ 4 events for the price of 3! Pay €18 and each event is only €4.50; use it whenever you want for 2 months. \n🎟️ BQS Annual Card: 10 events + 1 FREE! Only €54 for a full year of experiences together 🤗 \n  \n✅ Save money and time with a single transfer \n✅ Get free BQS merch 👕🧢 and additional discounts when you attend more than 10 events 🤩 \n  \nFor more information\, you can message me on WhatsApp at +34 631 546 465 (Ale 🧔🏽‍♂️) \n  \nYou can find our reviews 🧐 on Meetup 👉 Feedback overview | Meetup \n  \nAnd if you want\, you can check out past events and follow us on Instagram🤳🏼\n👉 https://instagram.com/bcnqueersquad/ \n  \nDon’t miss this opportunity to meet your future partner 👨‍❤️‍💋‍👨 &/or new friends! 😃
URL:https://bcnqueersquad.com/evento/gay-speed-dating-citas-rapidas-chicos-barcelona-2025/
LOCATION:Space Cowboy\, Carrer dels Carders\, 31\, Barcelona\, 08003\, Spain
ATTACH;FMTTYPE=image/jpeg:https://bcnqueersquad.com/wp-content/uploads/2025/09/gay-speed-dating-2-scaled.jpg
END:VEVENT
BEGIN:VEVENT
DTSTART;TZID=Europe/Madrid:20251024T193000
DTEND;TZID=Europe/Madrid:20251025T030000
DTSTAMP:20260422T023339
CREATED:20250916T155129Z
LAST-MODIFIED:20250925T111105Z
UID:703-1761334200-1761361200@bcnqueersquad.com
SUMMARY:Queer 🏳️‍🌈 Boardgames 🎲 & Karaoke🎤 Juegos de Mesa🃏 LGBT+🌈 y Karaoke👨🏼‍🎤
DESCRIPTION:🇪🇦 (🇬🇧 version below 👇🏼) \n  \n¡Hola a tod@s! 😃 \n  \n¿Te gustaría conocer a otras personas LGBT+ 🏳️‍🌈 con tu misma pasión por los juegos de mesa 🃏? Y si tuvieras también la oportunidad de cantar? 🎙️ \n  \nEl viernes 24 de octubre lo pasaremos pipa en nuestra quedada de Juegos de mesa 🎲 LGBT+ 🌈 y Karaoke 🎤! 🎊🥳 \n  \nPodrás unirte/irte del evento cuando quieras 🗽 \n  \n📍 Nos reuniremos a partir de las 19:30h en S Bar\, La Rouge (Rambla del Raval\, 10) donde podremos jugar adentro o aprovechar su fantastica terraza 🌃 con aire acondicionado natural 🌬 y diseño de exteriores 🌴🌳 🤩 \n  \nNuestros juegos incluyen: Catán 🎲\, Exploding Kittens 🙀\, Cards Against Humanity 🤣\, Gestos 🤟\, Pictionary ✏️\, Jenga\, Love Letter 💌\, Carcassonne\, Virus 🦠\, Cluedo\, Azul\, Uno 🃏\, Taboo 💬 (🇪🇸 y 🇬🇧)\, Ticket to Ride 🚂 y un juego más a cada evento 😮 \n  \n¡No dudes en traer tus juegos para divertirnos aún más! 😁 \n  \n⚠️ Se requiere mínimo una consumición en el bar 🍷🍺🍸🍹🥃🍟🍢 \n  \nSi te gusta cantar 👩🏻‍🎤👨🏼‍🎤\, podrás enseñar tu voz al grupo GRATIS 🆓 después (o durante) de los partidos 🎤🎶🎵 \n  \nAlrededor de media noche\, l@s que queramos\, podemos ir a bailar junt@s 💃🕺🔊🎧🎶🎵 \n  \nMUY IMPORTANTE 🤑 \n  \nPuedes pagar la cuota de participación de 6 euros al llegar en efectivo 💶 (NO Bizum NO tarjeta de crédito 💳) \n  \nTrae a un amig@ gratis 🆓️: válido para un nuev@ miembr@ 😉 \n  \n💥¡LAS TARJETAS DE FIDELIDAD YA ESTÁN AQUÍ!💥 \n  \n🎟️ ¡4 eventos por el precio de 3! Paga 18 € y cada evento te sale a solo 4\,50 €; úsala cuando quieras durante 2 meses. \n🎟️ Tarjeta Anual BQS: ¡10 eventos + 1 GRATIS! Solo 54 € por un año completo de experiencias junt@s 🤗 \n  \n✅ Ahorra dinero y tiempo con una sola transferencia \n✅ Consigue merchandising BQS gratis 👕🧢 y más descuentos al asistir a más de 10 eventos🤩 \n  \nPara más información\, puedes escribirme por WhatsApp en el +34631546465 (Ale 🧔🏽‍♂️) \n  \nPuedes encontrar nuestras reseñas 🧐 en Meetup 👉 Feedback overview | Meetup \n  \nY si quieres\, puedes cotillear eventos anteriores y seguirnos en Instagram 🤳🏼\n👉 https://instagram.com/bcnqueersquad/ \n  \nMe muero por jugar a juegos de mesa y divertirnos junt@s\, ¿y tú? 😉 \n  \n🇬🇧 \n  \nHi everyone! 😃 \n  \nWould you like to find other queer people 🏳️‍🌈 with a passion for board games 🃏? What if you could sing 👩‍🎤 & go clubbing too? 👯‍♂ \n  \nOn Friday\, October 24th we’ll have a blast at our Queer 🌈 Board Games 🎲 with Karaoke 🎤! 🎊🥳 \n  \nYou can join/leave the event any time you want 🗽 \n  \n📍 We will meet from 7:30 p.m. at S Bar La Rouge (Rambla del Raval\, 10) where we can play inside or take advantage of its fantastic terrace 🌃 with natural «air conditioning» 🌬 and «exterior» design 🌴🌳 🤩 \n  \nOur games include: Catán 🎲\, Exploding Kittens 🙀\, Cards Against Humanity 🤣\, Pictionary ✏️\, Jenga\, Gestures 🤟\, Love Letter 💌\, Virus 🦠\, Carcassonne\, Cluedo\, Azul\, Uno 🃏\, Taboo 💬 (🇪🇸 & 🇬🇧)\, Ticket to Ride 🚂 & there will be a new game each event 😮 \n  \nFeel free to bring your games too for even more fun! 😁 \n  \n⚠️ Minimum one consumption required on premises 🍷🍺🍸🍹🥃🍟🍢 \n  \nIf you like singing 👩🏻‍🎤👨🏼‍🎤\, you can showcase your voice after (or during) the games 🎤🎶🎵 FOR FREE 🆓 \n  \nAround midnight\, those of us who are keen\, we can go clubbing together 💃🕺🔊🎧🎶🎵 \n  \nVERY IMPORTANT 🤑 \n  \nYou can pay the participation fee of 6 euros upon arrival in cash 💶 (NO Bizum / NO Credit Card 💳) \n  \nBring a friend for free 🆓️: valid for one new member 😉 \n  \n💥LOYALTY CARDS ARE HERE!💥 \n  \n🎟️ 4 events for the price of 3! Pay €18 and each event is only €4.50; use it whenever you want for 2 months. \n🎟️ BQS Annual Card: 10 events + 1 FREE! Only €54 for a full year of experiences together 🤗 \n  \n✅ Save money and time with a single transfer \n✅ Get free BQS merch 👕🧢 and additional discounts when you attend more than 10 events 🤩 \n  \nFor more information\, you can message me on WhatsApp at +34 631 546 465 (Ale 🧔🏽‍♂️) \n  \nYou can find our reviews 🧐 on Meetup 👉 Feedback overview | Meetup \n  \nAnd if you want\, you can check out past events and follow us on Instagram🤳🏼\n👉 https://instagram.com/bcnqueersquad/ \n  \nI can’t wait to play boardgames and have fun together\, don’t you? 😉
URL:https://bcnqueersquad.com/evento/queer-boardgames-karaoke-juegos-de-mesa-lgbt-barcelona-octubre-2025/
LOCATION:S Bar La Rouge\, Rambla del Raval\, 10\, Barcelona\, 08001\, Spain
ATTACH;FMTTYPE=image/jpeg:https://bcnqueersquad.com/wp-content/uploads/2025/09/boardgames-karaoke-scaled.jpg
END:VEVENT
BEGIN:VEVENT
DTSTART;TZID=Europe/Madrid:20251031T200000
DTEND;TZID=Europe/Madrid:20251101T030000
DTSTAMP:20260422T023339
CREATED:20251007T215006Z
LAST-MODIFIED:20251007T215006Z
UID:792-1761940800-1761966000@bcnqueersquad.com
SUMMARY:Queer 🏳️‍🌈 Halloween 🎃 Pub Crawl 🍻 Ruta de Bares 🥂 LGBT+ 🌈 de Halloween 👻
DESCRIPTION:🇪🇸 (🇬🇧 version below) \n¡Hola a tod@s! 👋🏼 \n¿Te gustaría pasar la noche de Halloween 🎃 haciendo una ruta de bares LGBT+ 🌈 que incluye una terraza con vistas a 360° sobre el casco antiguo\, espectáculos drag 👸🏽 y juerga con nuev@s amig@s 🫂? 👯‍♀️ \n¡El viernes 31 de octubre no te puedes perder nuestra Ruta de Bares 🍻 Queer 🏳‍🌈 de Halloween 👻! 🥳 \nPuedes agregarte/abandonar el evento cuando te apetezca🗽 \n¡Aprovecha de esta ocasión para disfrazarte 🧟‍♀️🧛🧙‍♀️ y maquillarte 💅💄! (No es obligatorio) \nHabrá una votación para el Mejor Disfraz 🎭 con un Premio 🏆 a la persona ganadora 🫅🏻 \n📍 Nos encontraremos desde las 20:00 en la última planta 🌃 del hotel Barceló Raval (Rambla del Raval\, 17-21) donde os esperaré como siempre con nuestro paraguas arcoíris abierto☂🌈. También podrás preguntar al personal que te indicará donde se encuentra nuestro grupo. El Barceló Raval tiene previsto de forma excepcional un DJ Set 🎧🎛🎚🎶🎵\, un@ adivin@ 🔮 y más sorpresas 🤩 \nSobre las 21:00\, seguiremos con nuestro “correbars” yendo al mítico Madame Jasmine 🧙🏼‍♀️ \nNuestro siguiente destino será el bar Sense Nom\, un bar bueno\, bonito y barato donde podremos comer algo rico 🍽 mientras votamos y premiamos al mejor disfraz del grupo 🎭🏅 \nUna vez estemos llen@s 🤰🏼\, nos dirigiremos al Strass donde podremos disfrutar de fabulosos espectáculos de Drag Queens 👸🏽👸🏼👸🏻 \nPara acabar nuestra ruta\, iremos a uno de los bares del gayxample donde se puede bailar 🕺🏽💃🏽 sin coste 🆓 hasta las 3 de la madrugada 🎶🔊🎧 \nPodrás recibir nuestra posición en tiempo real 📍 además de las fotos 📸 y videos 📹 que hagamos junt@s a través de este Grupo de WhatsApp 👉🏼https://chat.whatsapp.com/IHxFiy8BlUZDpR6Jg8Y7Fv?mode=ems_wa_t \nMUY IMPORTANTE 🤑 \nPuedes pagar la cuota de participación de 6 euros al llegar en efectivo 💶 (NO Bizum / NO Tarjeta de Crédito 💳) \nTrae a un amig@ gratis 🆓️: válido para un nuev@ miembr@ 😉 \n💥NUESTRAS TARJETAS DE FIDELIDAD💥 \n🎟️ ¡4 eventos por el precio de 3! Paga 18 € y cada evento te sale a solo 4\,50 €; úsala cuando quieras durante 2 meses.\n🎟️ Tarjeta Anual BQS: ¡10 eventos + 1 GRATIS! Solo 54 € por un año completo de experiencias junt@s 🤗 \n✅ Ahorra dinero\n✅ Olvídate de tener que traer efectivo\n✅ Consigue gadgets BQS 👕🧢 y descuentos extra al asistir a más de 10 eventos🤩 \nSi necesitas más información\, puedes escribirme por WhatsApp en el +34631546465 (Ale 🧔🏽‍♂️) \n¿Quieres curiosear antes de tu primera quedada con nosotr@s? 👀 Échale un vistazo a nuestro Instagram 🤳👉🏼 https://www.instagram.com/bcnqueersquad/ \n¿A qué esperas para apuntarte? 😉 \n🇬🇧 \nHello everyone! 👋🏼 \nWould you like to spend Halloween night 🎃 on a queer 🌈 bar crawl that includes a 360° rooftop view of the old town\, drag shows 👸🏽\, & a wild night out with new friends 🫂? 👯‍♀️ \nOn Friday\, October 31st\, don’t miss our Queer 🏳️‍🌈 Halloween 👻 Bar 🍻 Race 🏁! 🥳 \nYou can join or leave the event whenever you like 🗽 \nTake the chance to dress up 🧟‍♀️🧛🧙‍♀️ & put on some makeup 💅💄! (Not mandatory) \nThere will be a contest for the Best Costume 🎭 with a Prize 🏆 for the winner 🫅🏻 \n📍 We’ll meet from 8:00 PM at the rooftop 🌃 of the Barceló Raval Hotel (Rambla del Raval\, 17-21)\, where I’ll be waiting as always with our rainbow umbrella open ☂🌈. You can also ask the staff\, & they’ll point you to our group. Barceló Raval will exceptionally have a DJ Set 🎧🎛🎚🎶\, a fortune-teller 🔮\, & more surprises 🤩 \nAround 9:00 PM\, we’ll continue our “pub crawl\,” heading to the legendary Madame Jasmine 🧙🏼‍♀️ \nOur next stop will be Sense Nom\, our usual bar to get some tasty food 🍽: here’s where we’ll vote & award the best costume in the group 🎭🏅 \nOnce we’re full 🤰🏼\, we’ll head to Strass to enjoy fabulous Drag Queen shows 👸🏽👸🏼👸🏻 \nTo wrap up our route\, we’ll go to one of the bars in the Gayxample\, where we can dance 🕺🏽💃🏽 for free 🆓 until 3:00 AM 🎶🔊🎧 \nYou’ll be able to receive our live location 📍 as well as the photos 📸 & videos 📹 we take together through this WhatsApp Group 👉🏼https://chat.whatsapp.com/IHxFiy8BlUZDpR6Jg8Y7Fv?mode=ems_wa_t \nVERY IMPORTANT 🤑 \nThe participation fee is 6 euros\, payable in cash 💶 upon arrival (NO Bizum / NO Credit Cards 💳). \nBring a friend for free 🆓: valid for a new member 😉 \n💥 OUR LOYALTY CARDS 💥 \n🎟️ 4 events for the price of 3! Pay €18 & each event is just €4.50; use it anytime within 2 months.\n🎟️ BQS Annual Card: 10 events + 1 FREE! Only €54 for a whole year of experiences together 🤗 \n✅ Save money\n✅ Forget about carrying cash\n✅ Get free BQS merch 👕🧢 & more discounts after attending 10+ events 🤩 \nIf you need more information\, feel free to WhatsApp me at +34 631 546 465 (Ale 🧔🏽‍♂️) \n👀 Take a look at our Instagram 🤳👉🏼https://www.instagram.com/bcnqueersquad/ \nWhat holds you from signing up? 😉
URL:https://bcnqueersquad.com/evento/queer-halloween-pub-crawl-barcelona-2025/
LOCATION:Barceló Raval\, Rambla del Raval\, 17\, Barcelona\, Spain
ATTACH;FMTTYPE=image/jpeg:https://bcnqueersquad.com/wp-content/uploads/2025/10/halloween-pub-crawl-scaled.jpg
END:VEVENT
END:VCALENDAR